Back
From: metabase:user:30977d10-2aae-11df-837a-5e0a49663a4f
Subject: PASS Text-WikiFormat-0.80 v5.14.2 GNU/Linux
Date: 2012-10-20T09:37:09Z
This distribution has been tested as part of the CPAN Testers
project, supporting the Perl programming language. See
http://wiki.cpantesters.org/ for more information or email
questions to cpan-testers-discuss@perl.org
--
Dear Oliver Charles,
This is a computer-generated report for Text-WikiFormat-0.80
on perl 5.14.2, created by CPAN-Reporter-1.2005.
Thank you for uploading your work to CPAN. Congratulations!
All tests were successful.
Sections of this report:
* Tester comments
* Program output
* Prerequisites
* Environment and other context
------------------------------
TESTER COMMENTS
------------------------------
Additional comments from tester:
none provided
------------------------------
PROGRAM OUTPUT
------------------------------
Output from './Build test':
t/Wiki.t ................. ok
t/absolute_links.t ....... ok
t/base.t ................. ok
t/bugs.t ................. ok
t/embedded-links.t ....... ok
t/explicit.t ............. ok
t/implicit.t ............. ok
t/kake.t ................. ok
t/lists-nested.t ......... ok
t/lists-no-indent.t ...... ok
t/lists.t ................ ok
t/merge-hash.t ........... ok
t/tag-override-use-as.t .. ok
t/tag-override.t ......... ok
All tests successful.
Files=14, Tests=142, 1 wallclock secs ( 0.04 usr 0.04 sys + 0.50 cusr 0.11 csys = 0.69 CPU)
Result: PASS
------------------------------
PREREQUISITES
------------------------------
Prerequisite modules loaded:
requires:
Module Need Have
------------------- ---- ----
Scalar::Util 1.14 1.23
URI::Escape 0 3.31
build_requires:
Module Need Have
------------------- ---- ----
Test::More 0.30 0.98
configure_requires:
Module Need Have
------------------- ---- ----
ExtUtils::MakeMaker 0 6.62
------------------------------
ENVIRONMENT AND OTHER CONTEXT
------------------------------
Environment variables:
LANG = en_US.UTF-8
LC_COLLATE = C
PATH = /home/perl5142/.gems/bin:/usr/lib/ruby/gems/1.8/bin/:/usr/local/bin:/usr/bin:/bin:/usr/bin/X11:/usr/games
PERL5LIB =
PERL5OPT =
PERL5_CPANPLUS_IS_RUNNING = 7534
PERL5_CPAN_IS_RUNNING = 7534
SHELL = /bin/bash
TERM = xterm
Perl special variables (and OS-specific diagnostics, for MSWin32):
$^X = /home/perl5142/bin/perl
$UID/$EUID = 12876981 / 12876981
$GID = 33813 33813
$EGID = 33813 33813
Perl module toolchain versions installed:
Module Have
------------------- --------
CPAN 1.9800
CPAN::Meta 2.120921
Cwd 3.36
ExtUtils::CBuilder 0.280205
ExtUtils::Command 1.17
ExtUtils::Install 1.56
ExtUtils::MakeMaker 6.62
ExtUtils::Manifest 1.61
ExtUtils::ParseXS 3.15
File::Spec 3.33
JSON 2.53
JSON::PP 2.27200
Module::Build 0.4003
Module::Signature n/a
Parse::CPAN::Meta 1.4404
Test::Harness 3.25
Test::More 0.98
YAML n/a
YAML::Syck n/a
version 0.88
--
Summary of my perl5 (revision 5 version 14 subversion 2) configuration:
Platform:
osname=linux, osvers=2.6.32.45-grsec-2.2.2-r3, archname=x86_64-linux
uname='linux zwerbach 2.6.32.45-grsec-2.2.2-r3 #8 smp mon oct 10 13:33:17 pdt 2011 x86_64 gnulinux '
config_args=''
hint=recommended, useposix=true, d_sigaction=define
useithreads=undef, usemultiplicity=undef
useperlio=define, d_sfio=undef, uselargefiles=define, usesocks=undef
use64bitint=define, use64bitall=define, uselongdouble=undef
usemymalloc=n, bincompat5005=undef
Compiler:
cc='cc', ccflags ='-fno-strict-aliasing -pipe -fstack-protector -I/usr/local/include -D_LARGEFILE_SOURCE -D_FILE_OFFSET_BITS=64',
optimize='-O2',
cppflags='-fno-strict-aliasing -pipe -fstack-protector -I/usr/local/include'
ccversion='', gccversion='4.4.5', gccosandvers=''
intsize=4, longsize=8, ptrsize=8, doublesize=8, byteorder=12345678
d_longlong=define, longlongsize=8, d_longdbl=define, longdblsize=16
ivtype='long', ivsize=8, nvtype='double', nvsize=8, Off_t='off_t', lseeksize=8
alignbytes=8, prototype=define
Linker and Libraries:
ld='cc', ldflags =' -fstack-protector -L/usr/local/lib'
libpth=/usr/local/lib /lib/../lib /usr/lib/../lib /lib /usr/lib /lib64 /usr/lib64
libs=-lnsl -lgdbm -ldl -lm -lcrypt -lutil -lc -lgdbm_compat
perllibs=-lnsl -ldl -lm -lcrypt -lutil -lc
libc=/lib/libc-2.11.3.so, so=so, useshrplib=false, libperl=libperl.a
gnulibc_version='2.11.3'
Dynamic Linking:
dlsrc=dl_dlopen.xs, dlext=so, d_dlsymun=undef, ccdlflags='-Wl,-E'
cccdlflags='-fPIC', lddlflags='-shared -O2 -L/usr/local/lib -fstack-protector'
Characteristics of this binary (from libperl):
Compile-time options: PERL_DONT_CREATE_GVSV PERL_MALLOC_WRAP
PERL_PRESERVE_IVUV USE_64_BIT_ALL USE_64_BIT_INT
USE_LARGE_FILES USE_PERLIO USE_PERL_ATOF
Built under linux
Compiled at Mar 30 2012 21:32:54
%ENV:
PERL5LIB=""
PERL5OPT=""
PERL5_CPANPLUS_IS_RUNNING="7534"
PERL5_CPAN_IS_RUNNING="7534"
@INC:
/home/perl5142/lib/perl5/site_perl/5.14.2/x86_64-linux
/home/perl5142/lib/perl5/site_perl/5.14.2
/home/perl5142/lib/perl5/5.14.2/x86_64-linux
/home/perl5142/lib/perl5/5.14.2
.