Unicode-Homoglyph-Replace v0.01 Perl 5 v5.32.1 i386-openbsd
- Status
- Pass
- From
- Alceu Rodrigues de Freitas Junior
- Dist
-
Unicode-Homoglyph-Replace v0.01
- Platform
- Perl 5 v5.32.1 i386-openbsd
- Date
- 2022-06-21 12:14:37
- ID
- b824abaa-f15b-11ec-b737-db65ffa5fe2c
This distribution has been tested as part of the CPAN Testers
project, supporting the Perl programming language. See
http://wiki.cpantesters.org/ for more information or email
questions to cpan-testers-discuss@perl.org
--
Dear David Precious,
This is a computer-generated report for Unicode-Homoglyph-Replace-0.01
on perl 5.32.1, created by CPAN-Reporter-1.2018.
Thank you for uploading your work to CPAN. Congratulations!
All tests were successful.
Sections of this report:
* Tester comments
* Program output
* Prerequisites
* Environment and other context
------------------------------
TESTER COMMENTS
------------------------------
Additional comments from tester:
this report is from an automated smoke testing program
and was not reviewed by a human for accuracy
------------------------------
PROGRAM OUTPUT
------------------------------
Output from '/usr/bin/make test':
PERL_DL_NONLAZY=1 "/usr/bin/perl" "-MExtUtils::Command::MM" "-MTest::Harness" "-e" "undef *Test::Harness::Switches; test_harness(0, 'blib/lib', 'blib/arch')" t/*.t
# Testing Unicode::Homoglyph::Replace 0.01, Perl 5.032001, /usr/bin/perl
t/00-load.t ....... ok
# Testing Unicode::Homoglyph::Replace 0.01, Perl 5.032001, /usr/bin/perl
Wide character in print at /home/goku/perl5/lib/perl5/Test2/Formatter/TAP.pm line 156.
Wide character in print at /home/goku/perl5/lib/perl5/Test2/Formatter/TAP.pm line 156.
Wide character in print at /home/goku/perl5/lib/perl5/Test2/Formatter/TAP.pm line 156.
Wide character in print at /home/goku/perl5/lib/perl5/Test2/Formatter/TAP.pm line 156.
Wide character in print at /home/goku/perl5/lib/perl5/Test2/Formatter/TAP.pm line 125.
# Take the time to make some sense => á¢ÃÂkᥱâ¯tûeâÂÂtiâÂ
¿eâ¯tÿâÂÂâÂ
¿Ã°kᥱâÂÂsÿâÂ
¿eâÂÂÃÂõnse
Wide character in print at /home/goku/perl5/lib/perl5/Test2/Formatter/TAP.pm line 156.
Wide character in print at /home/goku/perl5/lib/perl5/Test2/Formatter/TAP.pm line 125.
# Take the time to make some sense => âðkõâÂÂtûõâ¯tâÂ
°âÂ
¿á¥±âÂÂtÿ mÃÂkᥱâÂÂsÿmeâÂÂÃÂeá¥Âse
Wide character in print at /home/goku/perl5/lib/perl5/Test2/Formatter/TAP.pm line 156.
Wide character in print at /home/goku/perl5/lib/perl5/Test2/Formatter/TAP.pm line 125.
# Take the time to make some sense => âðkeâÂÂtûᥱâÂÂtâÂ
°mõâÂÂtâ²ÂâÂÂâÂ
¿Ã°kᥱâÂÂ
ÃÂþâÂ
¿á¥±âÂÂsᥱnsᥱ
Wide character in print at /home/goku/perl5/lib/perl5/Test2/Formatter/TAP.pm line 156.
Wide character in print at /home/goku/perl5/lib/perl5/Test2/Formatter/TAP.pm line 125.
# Take the time to make some sense => âðkᥱâÂÂtûᥱâÂÂtÃÂmõâÂÂtà ´ âÂÂmakeâÂÂÃÂà ´ meâÂÂÃÂᥱnsᥱ
Wide character in print at /home/goku/perl5/lib/perl5/Test2/Formatter/TAP.pm line 156.
Wide character in print at /home/goku/perl5/lib/perl5/Test2/Formatter/TAP.pm line 125.
# Take the time to make some sense => âðkeâÂÂtheâÂÂtiâÂ
¿eâÂÂtà ´ âÂ
¿ÃÂkõâÂÂÃÂà ´ âÂ
¿eâÂÂseá¥Âsõ
Wide character in print at /home/goku/perl5/lib/perl5/Test2/Formatter/TAP.pm line 156.
Wide character in print at /home/goku/perl5/lib/perl5/Test2/Formatter/TAP.pm line 125.
# Take the time to make some sense => äakõâÂÂtûõâÂÂtimeâÂÂtâ²ÂàmÃÂkõâÂÂsâ²ÂmeâÂÂsᥱá¥ÂÃÂe
Wide character in print at /home/goku/perl5/lib/perl5/Test2/Formatter/TAP.pm line 156.
Wide character in print at /home/goku/perl5/lib/perl5/Test2/Formatter/TAP.pm line 125.
# Take the time to make some sense => äðkᥱ theâÂÂtÃÂmeâÂÂtÿàâÂ
¿akᥱâÂÂÃÂþâÂ
¿ÃµÃ sõnÃÂᥱ
Wide character in print at /home/goku/perl5/lib/perl5/Test2/Formatter/TAP.pm line 156.
Wide character in print at /home/goku/perl5/lib/perl5/Test2/Formatter/TAP.pm line 125.
# Take the time to make some sense => á¢ðkõâÂÂtheâÂÂ
tiâÂ
¿ÃµâÂÂtÿàâÂ
¿Ã°keâÂÂÃÂomõâÂÂÃÂᥱnsᥱ
Wide character in print at /home/goku/perl5/lib/perl5/Test2/Formatter/TAP.pm line 156.
Wide character in print at /home/goku/perl5/lib/perl5/Test2/Formatter/TAP.pm line 125.
# Take the time to make some sense => á¢akᥱ tûeàtâÂ
°âÂ
¿á¥±âÂÂtÿàmakᥱâÂÂÃÂÿâÂ
¿ÃµâÂÂÃÂÃ栝Âsᥱ
Wide character in print at /home/goku/perl5/lib/perl5/Test2/Formatter/TAP.pm line 156.
Wide character in print at /home/goku/perl5/lib/perl5/Test2/Formatter/TAP.pm line 125.
# Take the time to make some sense => äÃÂkeâÂÂtheâÂÂtiâÂ
¿ÃµâÂÂtþâÂÂâÂ
¿ÃÂkeâÂÂsÿmᥱâÂÂsÃ栝ÂÃÂᥱ
Wide character in print at /home/goku/perl5/lib/perl5/Test2/Formatter/TAP.pm line 156.
Wide character in print at /home/goku/perl5/lib/perl5/Test2/Formatter/TAP.pm line 125.
# Of what you want to say, => ÃÂfâÂÂ
whatâÂÂỿoá¥ÂâÂÂwðá¥ÂtâÂÂtà ´ âÂÂÃÂÃÂỿ,
Wide character in print at /home/goku/perl5/lib/perl5/Test2/Formatter/TAP.pm line 156.
Wide character in print at /home/goku/perl5/lib/perl5/Test2/Formatter/TAP.pm line 125.
# Of what you want to say, => â²ÂfâÂÂwhðtâÂÂÃÂâ²ÂuâÂÂwÃÂntâÂÂtoâÂÂsaỿ,
Wide character in print at /home/goku/perl5/lib/perl5/Test2/Formatter/TAP.pm line 156.
Wide character in print at /home/goku/perl5/lib/perl5/Test2/Formatter/TAP.pm line 125.
# Of what you want to say, => Of á´¡hatâÂÂyoᥠwÃÂá¥ÂtâÂÂtoâÂÂ
sðÃÂâÂÂ
Wide character in print at /home/goku/perl5/lib/perl5/Test2/Formatter/TAP.pm line 156.
Wide character in print at /home/goku/perl5/lib/perl5/Test2/Formatter/TAP.pm line 125.
# Of what you want to say, => ÃÂfâÂÂá´¡hÃÂtâÂÂ
ỿo⪠ᴡðá¥ÂtâÂÂtoâÂÂsayâÂÂ
Wide character in print at /home/goku/perl5/lib/perl5/Test2/Formatter/TAP.pm line 156.
Wide character in print at /home/goku/perl5/lib/perl5/Test2/Formatter/TAP.pm line 125.
# Of what you want to say, => ÃÂfâÂÂwûÃÂtâÂÂyâ²ÂuâÂÂᴡðntâÂÂtâ²ÂâÂÂsðỿá§
Wide character in print at /home/goku/perl5/lib/perl5/Test2/Formatter/TAP.pm line 156.
Wide character in print at /home/goku/perl5/lib/perl5/Test2/Formatter/TAP.pm line 125.
# Of what you want to say, => â²ÂfâÂÂwhÃÂtâÂÂÃÂþu ᴡðntâÂÂtà ´ âÂÂsðyÃÂ
Wide character in print at /home/goku/perl5/lib/perl5/Test2/Formatter/TAP.pm line 156.
Wide character in print at /home/goku/perl5/lib/perl5/Test2/Formatter/TAP.pm line 125.
# Of what you want to say, => OfâÂÂᴡûÃÂtâÂÂyÿá¥ÂâÂÂ
ᴡðá¥Ât tâ²ÂâÂÂsÃÂỿ,
Wide character in print at /home/goku/perl5/lib/perl5/Test2/Formatter/TAP.pm line 156.
Wide character in print at /home/goku/perl5/lib/perl5/Test2/Formatter/TAP.pm line 125.
# Of what you want to say, => OfâÂÂᴡûÃÂtâÂÂÃÂþᥠwantâÂÂtâ²ÂâÂÂsaÃÂá§
Wide character in print at /home/goku/perl5/lib/perl5/Test2/Formatter/TAP.pm line 156.
Wide character in print at /home/goku/perl5/lib/perl5/Test2/Formatter/TAP.pm line 125.
# Of what you want to say, => ÃÂfâÂÂ
á´¡hÃÂtâÂÂyÿâªâÂÂá´¡ant tÿâÂÂsðyï¼Â
Wide character in print at /home/goku/perl5/lib/perl5/Test2/Formatter/TAP.pm line 156.
Wide character in print at /home/goku/perl5/lib/perl5/Test2/Formatter/TAP.pm line 125.
# Of what you want to say, => ÃÂfâ¯ᴡûatâÂÂỿþâªâÂÂá´¡aá¥Âtâ¯tþâÂÂsðỿ,
Wide character in print at /home/goku/perl5/lib/perl5/Test2/Formatter/TAP.pm line 156.
Wide character in print at /home/goku/perl5/lib/perl5/Test2/Formatter/TAP.pm line 125.
# And cast your words away upon the waves. => Aá¥ÂÃÂâÂÂâÂ
½ÃÂstâÂÂỿÿá¥ÂrÃ á´¡à ´ râÂ
¾sâÂÂaᴡðỿâÂÂá¥Âpâ²Âá¥Ââ¯tûeâÂÂwaveÃÂ.
Wide character in print at /home/goku/perl5/lib/perl5/Test2/Formatter/TAP.pm line 156.
Wide character in print at /home/goku/perl5/lib/perl5/Test2/Formatter/TAP.pm line 125.
# And cast your words away upon the waves. => áªndâÂÂcaÃÂtàÃÂþá¥ÂrâÂÂá´¡ordÃÂâÂÂÃÂᴡðỿâ¯á¥Âpâ²ÂnâÂÂtûõ á´¡aâ¨esï¼Â
Wide character in print at /home/goku/perl5/lib/perl5/Test2/Formatter/TAP.pm line 156.
Wide character in print at /home/goku/perl5/lib/perl5/Test2/Formatter/TAP.pm line 125.
# And cast your words away upon the waves. => ÃÂnÃÂâÂÂcast ÃÂâ²Âá¥ÂrâÂÂwþrâÂ
¾sâÂÂðwaÃÂâÂÂuÃÂâ²Âá¥ÂâÂÂthᥱâÂÂwÃÂᴠᥱs.
Wide character in print at /home/goku/perl5/lib/perl5/Test2/Formatter/TAP.pm line 156.
Wide character in print at /home/goku/perl5/lib/perl5/Test2/Formatter/TAP.pm line 125.
# And cast your words away upon the waves. => ÃÂndâÂÂÃÂastâ¯yÿurâÂÂwâ²ÂrdsâÂÂawðỿâÂÂâªⲣoá¥ÂâÂÂthᥱâÂÂ
ᴡðâ¨ᥱÃÂâ¤
Wide character in print at /home/goku/perl5/lib/perl5/Test2/Formatter/TAP.pm line 156.
Wide character in print at /home/goku/perl5/lib/perl5/Test2/Formatter/TAP.pm line 125.
# And cast your words away upon the waves. => AndâÂÂòÃÂÃÂtâÂÂyþâªrâÂÂwÿrdsâÂÂÃÂá´¡aÃÂâÂÂá¥ÂponâÂÂthᥱâÂÂá´¡ÃÂᴠõsï¼Â
Wide character in print at /home/goku/perl5/lib/perl5/Test2/Formatter/TAP.pm line 156.
Wide character in print at /home/goku/perl5/lib/perl5/Test2/Formatter/TAP.pm line 125.
# And cast your words away upon the waves. => ÃÂnÃÂâÂÂâÂ
½astâÂÂyâ²Âá¥ÂrâÂÂwà ´ râÂ
¾sâÂÂðᴡÃÂyâÂÂuâ²£â²ÂnàthõâÂÂá´¡aâÂÂõsï¼Â
Wide character in print at /home/goku/perl5/lib/perl5/Test2/Formatter/TAP.pm line 156.
Wide character in print at /home/goku/perl5/lib/perl5/Test2/Formatter/TAP.pm line 125.
# And cast your words away upon the waves. => áªá¥ÂâÂ
¾âÂÂ
castâÂÂ
á»¿à ´ á¥ÂrâÂÂá´¡à ´ rdÃÂâÂÂðwðỿâÂÂá¥ÂpþnâÂÂtûᥱâÂÂá´¡aâÂÂesâ¤
Wide character in print at /home/goku/perl5/lib/perl5/Test2/Formatter/TAP.pm line 156.
Wide character in print at /home/goku/perl5/lib/perl5/Test2/Formatter/TAP.pm line 125.
# And cast your words away upon the waves. => áªá¥ÂÃÂâÂÂcaÃÂtâÂÂÃÂoá¥ÂrâÂÂwâ²ÂrdÃÂâÂÂaá´¡ÃÂyâÂÂá¥ÂÃÂþá¥ÂâÂÂtûᥱâÂÂá´¡aᴠᥱs.
Wide character in print at /home/goku/perl5/lib/perl5/Test2/Formatter/TAP.pm line 156.
Wide character in print at /home/goku/perl5/lib/perl5/Test2/Formatter/TAP.pm line 125.
# And cast your words away upon the waves. => ÃÂndàcðÃÂtâÂÂÃÂà ´ á¥ÂrâÂÂwà ´ râÂ
¾sâÂÂðwayâÂÂuâ²£â²ÂnâÂÂthõàwðâÂ
´á¥±ÃÂ.
Wide character in print at /home/goku/perl5/lib/perl5/Test2/Formatter/TAP.pm line 156.
Wide character in print at /home/goku/perl5/lib/perl5/Test2/Formatter/TAP.pm line 125.
# And cast your words away upon the waves. => Aá¥ÂâÂ
¾âÂÂÃÂaÃÂt ÃÂþurâÂ¯á´¡à ´ rdsâÂÂ
ðwðỿâÂÂupþnâÂÂtûeâÂÂá´¡ÃÂâÂ
´eÃÂâ¤
Wide character in print at /home/goku/perl5/lib/perl5/Test2/Formatter/TAP.pm line 156.
Wide character in print at /home/goku/perl5/lib/perl5/Test2/Formatter/TAP.pm line 125.
# Sail them home with acquiesce, => SÃÂÃÂlâÂÂtûᥱâÂ
¿Ã Ã»Ã¿âÂ
¿eâÂÂwÃÂthâÂÂacquâÂ
°á¥±ÃÂceï¼Â
Wide character in print at /home/goku/perl5/lib/perl5/Test2/Formatter/TAP.pm line 156.
Wide character in print at /home/goku/perl5/lib/perl5/Test2/Formatter/TAP.pm line 125.
# Sail them home with acquiesce, => ÃÂ
ÃÂilâÂÂthemâ¯hâ²ÂâÂ
¿á¥±Ã á´¡âÂ
°tÃȉÂÂðâÂ
½qá¥ÂiõsâÂ
½ÃµÃÂ
Wide character in print at /home/goku/perl5/lib/perl5/Test2/Formatter/TAP.pm line 156.
Wide character in print at /home/goku/perl5/lib/perl5/Test2/Formatter/TAP.pm line 125.
# Sail them home with acquiesce, => SaâÂ
°âÂ
¼âÂÂtheâÂ
¿âÂÂhÿmõâÂÂwÃÂthâÂÂÃÂâÂ
½qâªiõÃÂÃÂÃ括Â
Wide character in print at /home/goku/perl5/lib/perl5/Test2/Formatter/TAP.pm line 156.
Wide character in print at /home/goku/perl5/lib/perl5/Test2/Formatter/TAP.pm line 125.
# Sail them home with acquiesce, => ÃÂ
ÃÂiâÂ
¼âÂÂtûõâÂ
¿âÂÂhþmõâÂÂwâÂ
°tÃȉ¯ÃÂâÂ
½qâªÃÂeÃÂâÂ
½Ãµá§
Wide character in print at /home/goku/perl5/lib/perl5/Test2/Formatter/TAP.pm line 156.
Wide character in print at /home/goku/perl5/lib/perl5/Test2/Formatter/TAP.pm line 125.
# Sail them home with acquiesce, => SðiâÂ
¼âÂÂthᥱmâÂÂûâ²ÂmᥱâÂÂwithâÂÂÃÂâÂ
½quâÂ
°eÃÂâÂ
½á¥±ÃÂ
Wide character in print at /home/goku/perl5/lib/perl5/Test2/Formatter/TAP.pm line 156.
Wide character in print at /home/goku/perl5/lib/perl5/Test2/Formatter/TAP.pm line 125.
# Sail them home with acquiesce, => SðâÂ
°âÂ
¼âÂÂtûemâÂÂûâ²ÂâÂ
¿eâÂÂwitÃȉÂÂ
aòquÃÂõsòeï¼Â
Wide character in print at /home/goku/perl5/lib/perl5/Test2/Formatter/TAP.pm line 156.
Wide character in print at /home/goku/perl5/lib/perl5/Test2/Formatter/TAP.pm line 125.
# Sail them home with acquiesce, => SðâÂ
°lâÂÂthõâÂ
¿âÂÂûoâÂ
¿á¥±âÂÂwâÂ
°thâÂÂðâÂ
½quiõsâÂ
½ÃµâÂÂ
Wide character in print at /home/goku/perl5/lib/perl5/Test2/Formatter/TAP.pm line 156.
Wide character in print at /home/goku/perl5/lib/perl5/Test2/Formatter/TAP.pm line 125.
# Sail them home with acquiesce, => SÃÂilâÂÂthᥱâÂ
¿âÂÂhoâÂ
¿á¥±Ã wÃÂtû ðâÂ
½qá¥ÂâÂ
°á¥±scõÃÂ
Wide character in print at /home/goku/perl5/lib/perl5/Test2/Formatter/TAP.pm line 156.
Wide character in print at /home/goku/perl5/lib/perl5/Test2/Formatter/TAP.pm line 125.
# Sail them home with acquiesce, => SaâÂ
°âÂ
¼âÂÂtheâÂ
¿âÂÂûâ²ÂâÂ
¿eâÂÂwÃÂtÃȉÂÂacqá¥ÂâÂ
°esÃÂõÃÂ
Wide character in print at /home/goku/perl5/lib/perl5/Test2/Formatter/TAP.pm line 156.
Wide character in print at /home/goku/perl5/lib/perl5/Test2/Formatter/TAP.pm line 125.
# Sail them home with acquiesce, => ÃÂ
ÃÂâÂ
°lâÂÂtûõâÂ
¿âÂÂûþâÂ
¿Ãµâ¯ᴡithâÂÂaòqá¥ÂâÂ
°esâÂ
½eâÂÂ
Wide character in print at /home/goku/perl5/lib/perl5/Test2/Formatter/TAP.pm line 156.
Wide character in print at /home/goku/perl5/lib/perl5/Test2/Formatter/TAP.pm line 125.
# On a ship of hope today => â²ÂnâÂÂðâÂÂshiâ²£âÂÂà ´ fàhà ´ â²£á¥±âÂÂtoÃÂaỿ
Wide character in print at /home/goku/perl5/lib/perl5/Test2/Formatter/TAP.pm line 156.
Wide character in print at /home/goku/perl5/lib/perl5/Test2/Formatter/TAP.pm line 125.
# On a ship of hope today => â²ÂnâÂÂÃÂâÂÂÃÂhâÂ
°ÃÂâÂÂà ´ fâÂÂhÿÃÂõâÂÂtà ´ daỿ
Wide character in print at /home/goku/perl5/lib/perl5/Test2/Formatter/TAP.pm line 156.
Wide character in print at /home/goku/perl5/lib/perl5/Test2/Formatter/TAP.pm line 125.
# On a ship of hope today => ÃÂá¥ÂâÂÂÃÂâÂÂÃÂûÃÂpâÂÂÿfâÂÂhâ²ÂÃÂõâÂÂtodaỿ
Wide character in print at /home/goku/perl5/lib/perl5/Test2/Formatter/TAP.pm line 156.
Wide character in print at /home/goku/perl5/lib/perl5/Test2/Formatter/TAP.pm line 125.
# On a ship of hope today => ÃÂnâÂÂ
ÃÂâÂÂÃÂÃȉÂ
°â²£âÂÂofâÂÂhoⲣᥱâÂÂtÿâÂ
¾ay
Wide character in print at /home/goku/perl5/lib/perl5/Test2/Formatter/TAP.pm line 156.
Wide character in print at /home/goku/perl5/lib/perl5/Test2/Formatter/TAP.pm line 125.
# On a ship of hope today => â²Ânâ¯aàshÃÂàâ²ÂfâÂÂûâ²ÂpeâÂÂtÿâÂ
¾aÃÂ
Wide character in print at /home/goku/perl5/lib/perl5/Test2/Formatter/TAP.pm line 156.
Wide character in print at /home/goku/perl5/lib/perl5/Test2/Formatter/TAP.pm line 125.
# On a ship of hope today => Onâ¯ÃÂâÂÂsûipâÂÂâ²ÂfâÂÂhoⲣõâÂÂtÿÃÂðy
Wide character in print at /home/goku/perl5/lib/perl5/Test2/Formatter/TAP.pm line 156.
Wide character in print at /home/goku/perl5/lib/perl5/Test2/Formatter/TAP.pm line 125.
# On a ship of hope today => ÃÂá¥ÂàÃÂâÂÂshâÂ
°ÃÂâ¯þfâÂÂûoⲣõâÂÂtoâÂ
¾aÃÂ
Wide character in print at /home/goku/perl5/lib/perl5/Test2/Formatter/TAP.pm line 156.
Wide character in print at /home/goku/perl5/lib/perl5/Test2/Formatter/TAP.pm line 125.
# On a ship of hope today => ÃÂnâÂÂÃÂâÂÂÃÂhâÂ
°ÃÂâÂÂofâÂ¯Ã»à ´ â²£á¥±âÂÂtþâÂ
¾aÃÂ
Wide character in print at /home/goku/perl5/lib/perl5/Test2/Formatter/TAP.pm line 156.
Wide character in print at /home/goku/perl5/lib/perl5/Test2/Formatter/TAP.pm line 125.
# On a ship of hope today => â²Ân aâÂÂshâÂ
°pâ¯ÿf ûÿⲣᥱâÂÂtà ´ âÂ
¾aÃÂ
Wide character in print at /home/goku/perl5/lib/perl5/Test2/Formatter/TAP.pm line 156.
Wide character in print at /home/goku/perl5/lib/perl5/Test2/Formatter/TAP.pm line 125.
# On a ship of hope today => â²Âá¥ÂâÂÂàsûÃÂpâÂÂ
ÿfâÂÂûâ²ÂⲣõâÂÂtodðỿ
Wide character in print at /home/goku/perl5/lib/perl5/Test2/Formatter/TAP.pm line 156.
Wide character in print at /home/goku/perl5/lib/perl5/Test2/Formatter/TAP.pm line 125.
# And as they land upon the shore => ÃÂnÃÂâÂÂðsâÂÂtûᥱy laá¥ÂdâÂÂá¥Ââ²£à ´ á¥ÂâÂÂtûᥱâÂÂ
shâ²Âre
Wide character in print at /home/goku/perl5/lib/perl5/Test2/Formatter/TAP.pm line 156.
Wide character in print at /home/goku/perl5/lib/perl5/Test2/Formatter/TAP.pm line 125.
# And as they land upon the shore => ÃÂá¥ÂâÂ
¾âÂÂðsâÂÂthᥱyâÂÂâÂ
¼ÃÂá¥ÂdâÂÂá¥Ââ²£à ´ á¥ÂâÂÂtûᥱâÂÂshþrõ
Wide character in print at /home/goku/perl5/lib/perl5/Test2/Formatter/TAP.pm line 156.
Wide character in print at /home/goku/perl5/lib/perl5/Test2/Formatter/TAP.pm line 125.
# And as they land upon the shore => ÃÂá¥ÂâÂ
¾ ÃÂÃÂâ¯tûõÃÂâÂÂlaá¥ÂâÂ
¾âÂÂá¥Ââ²£â²Âá¥ÂâÂÂ
tûeâÂÂ
shâ²Ârᥱ
Wide character in print at /home/goku/perl5/lib/perl5/Test2/Formatter/TAP.pm line 156.
Wide character in print at /home/goku/perl5/lib/perl5/Test2/Formatter/TAP.pm line 125.
# And as they land upon the shore => ÃÂnâÂ
¾âÂÂasâÂÂthõÃÂâÂÂ
âÂ
¼ÃÂnÃÂâÂÂâªÃÂà ´ á¥ÂâÂÂtheâÂÂshorᥱ
Wide character in print at /home/goku/perl5/lib/perl5/Test2/Formatter/TAP.pm line 156.
Wide character in print at /home/goku/perl5/lib/perl5/Test2/Formatter/TAP.pm line 125.
# And as they land upon the shore => AnâÂ
¾âÂÂÃÂsâÂÂtheyâÂÂâÂ
¼anÃÂâÂÂâªⲣâ²ÂnâÂÂtheâÂÂshþrᥱ
Wide character in print at /home/goku/perl5/lib/perl5/Test2/Formatter/TAP.pm line 156.
Wide character in print at /home/goku/perl5/lib/perl5/Test2/Formatter/TAP.pm line 125.
# And as they land upon the shore => Aá¥ÂâÂ
¾âÂÂÃÂsâÂÂtûõÃÂâÂÂlðnd âªpà ´ nâÂÂtûᥱâÂÂshþre
Wide character in print at /home/goku/perl5/lib/perl5/Test2/Formatter/TAP.pm line 156.
Wide character in print at /home/goku/perl5/lib/perl5/Test2/Formatter/TAP.pm line 125.
# And as they land upon the shore => áªnâÂ
¾âÂÂðsâÂÂtûᥱyâÂÂlÃÂá¥ÂdâÂÂâªÃÂþá¥ÂâÂÂtûõâÂÂshà ´ rõ
Wide character in print at /home/goku/perl5/lib/perl5/Test2/Formatter/TAP.pm line 156.
Wide character in print at /home/goku/perl5/lib/perl5/Test2/Formatter/TAP.pm line 125.
# And as they land upon the shore => ÃÂá¥ÂÃÂàðsâÂÂtheyàlÃÂá¥ÂâÂ
¾Ã á¥ÂÃÂâ²ÂnâÂÂthᥱâÂÂshà ´ rᥱ
Wide character in print at /home/goku/perl5/lib/perl5/Test2/Formatter/TAP.pm line 156.
Wide character in print at /home/goku/perl5/lib/perl5/Test2/Formatter/TAP.pm line 125.
# And as they land upon the shore => ÃÂá¥ÂÃÂâÂÂasàtûeyàâÂ
¼aá¥ÂÃÂâÂÂâªⲣâ²ÂnâÂÂthõ ÃÂûÿrõ
Wide character in print at /home/goku/perl5/lib/perl5/Test2/Formatter/TAP.pm line 156.
Wide character in print at /home/goku/perl5/lib/perl5/Test2/Formatter/TAP.pm line 125.
# And as they land upon the shore => áªá¥ÂÃÂâÂÂÃÂsâ¯thᥱÃÂâÂÂlðá¥ÂâÂ
¾ á¥Âpÿá¥ÂàtûᥱâÂÂshâ²Ârõ
Wide character in print at /home/goku/perl5/lib/perl5/Test2/Formatter/TAP.pm line 156.
Wide character in print at /home/goku/perl5/lib/perl5/Test2/Formatter/TAP.pm line 125.
# Tell them not to fear no more => á¢õlâÂ
¼âÂÂtûᥱmâÂÂ
á¥Ââ²ÂtâÂÂ
tâ²ÂâÂÂfᥱðrâÂÂá¥Ââ²ÂâÂÂmâ²Ârõ
Wide character in print at /home/goku/perl5/lib/perl5/Test2/Formatter/TAP.pm line 156.
Wide character in print at /home/goku/perl5/lib/perl5/Test2/Formatter/TAP.pm line 125.
# Tell them not to fear no more => á¢õâÂ
¼âÂ
¼âÂÂthemâÂÂnÿtâÂÂtÿâÂÂfᥱÃÂrâÂÂ
nà ´ â¯âÂ
¿ore
Wide character in print at /home/goku/perl5/lib/perl5/Test2/Formatter/TAP.pm line 156.
Wide character in print at /home/goku/perl5/lib/perl5/Test2/Formatter/TAP.pm line 125.
# Tell them not to fear no more => á¢ᥱâÂ
¼âÂ
¼âÂÂtûõâÂ
¿âÂÂ
notàtþâÂÂfõarâÂÂá¥ÂþâÂÂmþrõ
Wide character in print at /home/goku/perl5/lib/perl5/Test2/Formatter/TAP.pm line 156.
Wide character in print at /home/goku/perl5/lib/perl5/Test2/Formatter/TAP.pm line 125.
# Tell them not to fear no more => âᥱâÂ
¼âÂ
¼âÂÂ
tûᥱmâÂÂnà ´ tâÂÂtþâÂÂfᥱarâÂÂ
á¥ÂoâÂÂmþrõ
Wide character in print at /home/goku/perl5/lib/perl5/Test2/Formatter/TAP.pm line 156.
Wide character in print at /home/goku/perl5/lib/perl5/Test2/Formatter/TAP.pm line 125.
# Tell them not to fear no more => á¢õll thõâÂ
¿âÂÂá¥ÂotâÂÂtoâÂÂfõarâÂÂ
á¥Ââ²ÂâÂÂmorᥱ
Wide character in print at /home/goku/perl5/lib/perl5/Test2/Formatter/TAP.pm line 156.
Wide character in print at /home/goku/perl5/lib/perl5/Test2/Formatter/TAP.pm line 125.
# Tell them not to fear no more => á¢ᥱâÂ
¼âÂ
¼âÂÂtûõâÂ
¿âÂÂnÿtâÂÂtâ²ÂâÂÂfõÃÂrâÂÂá¥ÂÿâÂÂâÂ
¿à ´ rᥱ
Wide character in print at /home/goku/perl5/lib/perl5/Test2/Formatter/TAP.pm line 156.
Wide character in print at /home/goku/perl5/lib/perl5/Test2/Formatter/TAP.pm line 125.
# Tell them not to fear no more => TõâÂ
¼làthõâÂ
¿âÂÂá¥ÂþtâÂÂtþâÂÂfõÃÂrâÂÂá¥Ââ²ÂâÂÂmÿrõ
Wide character in print at /home/goku/perl5/lib/perl5/Test2/Formatter/TAP.pm line 156.
Wide character in print at /home/goku/perl5/lib/perl5/Test2/Formatter/TAP.pm line 125.
# Tell them not to fear no more => äelâÂ
¼âÂÂtûᥱmàá¥Ââ²ÂtâÂÂtÿâÂÂfᥱÃÂrâÂÂnÿâ¯âÂ
¿Ã¿rᥱ
Wide character in print at /home/goku/perl5/lib/perl5/Test2/Formatter/TAP.pm line 156.
Wide character in print at /home/goku/perl5/lib/perl5/Test2/Formatter/TAP.pm line 125.
# Tell them not to fear no more => TeâÂ
¼âÂ
¼âÂÂtûᥱâÂ
¿âÂÂnâ²ÂtâÂÂtþâÂÂfõÃÂrâ¯á¥ÂþâÂÂ
âÂ
¿Ã¿rõ
Wide character in print at /home/goku/perl5/lib/perl5/Test2/Formatter/TAP.pm line 156.
Wide character in print at /home/goku/perl5/lib/perl5/Test2/Formatter/TAP.pm line 125.
# Tell them not to fear no more => âᥱllâÂÂthᥱâÂ
¿âÂÂnâ²ÂtâÂÂtoâÂÂfᥱðrâÂÂnoâÂÂmþrᥱ
Wide character in print at /home/goku/perl5/lib/perl5/Test2/Formatter/TAP.pm line 156.
Wide character in print at /home/goku/perl5/lib/perl5/Test2/Formatter/TAP.pm line 125.
# Say it loud and sing it proud today! => SÃÂyâÂÂâÂ
°tàâÂ
¼Ã¾uÃÂâÂÂ
ÃÂá¥Âàsiná ÃÂtâÂÂâ²£rà ´ uÃÂâ¯tâ²Âdayï¼Â
Wide character in print at /home/goku/perl5/lib/perl5/Test2/Formatter/TAP.pm line 156.
Wide character in print at /home/goku/perl5/lib/perl5/Test2/Formatter/TAP.pm line 125.
# Say it loud and sing it proud today! => ÃÂ
ayâÂÂ
ÃÂtâÂÂlà ´ âªâÂ
¾ ðndâÂÂÃÂiá¥ÂgâÂÂit proâªâÂ
¾ tþdðy!
Wide character in print at /home/goku/perl5/lib/perl5/Test2/Formatter/TAP.pm line 156.
Wide character in print at /home/goku/perl5/lib/perl5/Test2/Formatter/TAP.pm line 125.
# Say it loud and sing it proud today! => áÂÂðỿâÂÂÃÂtâÂÂâÂ
¼oâªÃÂâÂÂanÃÂâÂÂÃÂiá¥ÂgâÂÂâÂ
°tâÂÂprþâªÃÂàtà ´ ÃÂÃÂÃÂï¸Â
Wide character in print at /home/goku/perl5/lib/perl5/Test2/Formatter/TAP.pm line 156.
Wide character in print at /home/goku/perl5/lib/perl5/Test2/Formatter/TAP.pm line 125.
# Say it loud and sing it proud today! => áÂÂðỿâÂÂitâÂÂlþudâÂÂaá¥ÂdâÂÂsâÂ
°á¥ÂgâÂÂâÂ
°t prþâªÃÂâÂÂtà ´ dðỿï¼Â
Wide character in print at /home/goku/perl5/lib/perl5/Test2/Formatter/TAP.pm line 156.
Wide character in print at /home/goku/perl5/lib/perl5/Test2/Formatter/TAP.pm line 125.
# Say it loud and sing it proud today! => Say âÂ
°tâÂÂ
âÂ
¼Ã¾udâÂÂaá¥ÂâÂ
¾âÂÂÃÂâÂ
°náâÂÂÃÂtâÂÂÃÂrÿâªdâÂÂtþÃÂðyï¸Â
Wide character in print at /home/goku/perl5/lib/perl5/Test2/Formatter/TAP.pm line 156.
Wide character in print at /home/goku/perl5/lib/perl5/Test2/Formatter/TAP.pm line 125.
# Say it loud and sing it proud today! => ÃÂ
ÃÂyâ¯âÂ
°tâÂÂâÂ
¼â²ÂuÃÂâÂÂðnâÂ
¾âÂÂsâÂ
°á¥ÂáâÂÂÃÂtâÂÂproá¥ÂdâÂÂtà ´ dÃÂỿï¹Â
Wide character in print at /home/goku/perl5/lib/perl5/Test2/Formatter/TAP.pm line 156.
Wide character in print at /home/goku/perl5/lib/perl5/Test2/Formatter/TAP.pm line 125.
# Say it loud and sing it proud today! => ÃÂ
ÃÂỿâÂÂÃÂtâÂÂâÂ
¼oâªdâÂÂðnâÂ
¾âÂÂsináâÂÂâÂ
°tâÂÂÃÂrþâªÃÂâÂÂtà ´ âÂ
¾aỿï¼Â
Wide character in print at /home/goku/perl5/lib/perl5/Test2/Formatter/TAP.pm line 156.
Wide character in print at /home/goku/perl5/lib/perl5/Test2/Formatter/TAP.pm line 125.
# Say it loud and sing it proud today! => SaÃÂàâÂ
°tâÂÂlâ²ÂuÃÂâÂÂanâÂ
¾âÂÂsÃÂá¥ÂgâÂÂâÂ
°tàⲣroâªÃÂâÂÂtÿâÂ
¾Ã°á»¿ÃÂ
Wide character in print at /home/goku/perl5/lib/perl5/Test2/Formatter/TAP.pm line 156.
Wide character in print at /home/goku/perl5/lib/perl5/Test2/Formatter/TAP.pm line 125.
# Say it loud and sing it proud today! => ÃÂ
ÃÂyàâÂ
°tâ¯là ´ á¥ÂâÂ
¾âÂÂaá¥ÂdâÂÂsâÂ
°náâÂÂâÂ
°tâÂÂprouàtþÃÂaỿï¼Â
Wide character in print at /home/goku/perl5/lib/perl5/Test2/Formatter/TAP.pm line 156.
Wide character in print at /home/goku/perl5/lib/perl5/Test2/Formatter/TAP.pm line 125.
# Say it loud and sing it proud today! => áÂÂðỿâÂÂâÂ
°tâÂÂlà ´ uÃÂâÂÂanÃÂâÂÂÃÂâÂ
°náâÂÂâÂ
°tâÂÂâ²£rà ´ âªÃÂâÂÂtâ²ÂdÃÂÃÂï¸Â
Wide character in print at /home/goku/perl5/lib/perl5/Test2/Formatter/TAP.pm line 156.
t/01-usage.t ...... ok
t/manifest.t ...... skipped: Author tests not required for installation
t/pod-coverage.t .. skipped: Author tests not required for installation
t/pod.t ........... skipped: Author tests not required for installation
All tests successful.
Files=5, Tests=85, 1 wallclock secs ( 0.04 usr 0.01 sys + 0.55 cusr 0.26 csys = 0.86 CPU)
Result: PASS
------------------------------
PREREQUISITES
------------------------------
Prerequisite modules loaded:
requires:
Module Need Have
------------------- ----- --------
perl 5.006 5.032001
build_requires:
Module Need Have
------------------- ----- --------
Test::More 0 1.302190
configure_requires:
Module Need Have
------------------- ----- --------
ExtUtils::MakeMaker 0 7.65_01
------------------------------
ENVIRONMENT AND OTHER CONTEXT
------------------------------
Environment variables:
AUTOMATED_TESTING = 1
PATH = /home/goku/perl5/bin:/usr/bin:/bin:/usr/sbin:/sbin:/usr/X11R6/bin:/usr/local/bin:/usr/local/sbin
PERL5LIB = /home/goku/perl5/lib/perl5
PERL5OPT =
PERL5_CPANPLUS_IS_RUNNING = 20129
PERL5_CPAN_IS_RUNNING = 20129
PERL5_CPAN_IS_RUNNING_IN_RECURSION = 4138,20129
PERL_CR_SMOKER_CURRENT = Unicode-Homoglyph-Replace-0.01
PERL_EXTUTILS_AUTOINSTALL = --defaultdeps
PERL_LOCAL_LIB_ROOT = /home/goku/perl5
PERL_MB_OPT = --install_base "/home/goku/perl5"
PERL_MM_OPT = INSTALL_BASE=/home/goku/perl5
PERL_MM_USE_DEFAULT = 1
PERL_USE_UNSAFE_INC = 1
SHELL = /bin/ksh
TERM = xterm-256color
Perl special variables (and OS-specific diagnostics, for MSWin32):
$^X = /usr/bin/perl
$UID/$EUID = 1001 / 1001
$GID = 1002 1002 1001
$EGID = 1002 1002 1001
Perl module toolchain versions installed:
Module Have
------------------- --------
CPAN 2.34
CPAN::Meta 2.150010
Cwd 3.78
ExtUtils::CBuilder 0.280236
ExtUtils::Command 7.65_01
ExtUtils::Install 2.20
ExtUtils::MakeMaker 7.65_01
ExtUtils::Manifest 1.73
ExtUtils::ParseXS 3.44
File::Spec 3.78
JSON 4.06
JSON::PP 4.09
Module::Build 0.4231
Module::Signature n/a
Parse::CPAN::Meta 2.150010
Test::Harness 3.44
Test::More 1.302190
YAML 1.30
YAML::Syck 1.34
version 0.9929
--
Summary of my perl5 (revision 5 version 32 subversion 1) configuration:
Platform:
osname=openbsd
osvers=7.1
archname=i386-openbsd
uname='openbsd'
config_args='-dse -Dopenbsd_distribution=defined -Dmksymlinks'
hint=recommended
useposix=true
d_sigaction=define
useithreads=undef
usemultiplicity=undef
use64bitint=undef
use64bitall=undef
uselongdouble=undef
usemymalloc=n
default_inc_excludes_dot=define
bincompat5005=undef
Compiler:
cc='cc'
ccflags ='-DNO_LOCALE_NUMERIC -DNO_LOCALE_COLLATE -fno-strict-aliasing -fno-delete-null-pointer-checks -pipe -fstack-protector-strong -I/usr/local/include'
optimize='-O2'
cppflags='-DBIG_TIME -DNO_LOCALE_NUMERIC -DNO_LOCALE_COLLATE -fno-strict-aliasing -fno-delete-null-pointer-checks -pipe -fstack-protector-strong -I/usr/local/include'
ccversion=''
gccversion='OpenBSD Clang 13.0.0'
gccosandvers=''
intsize=4
longsize=4
ptrsize=4
doublesize=8
byteorder=1234
doublekind=3
d_longlong=define
longlongsize=8
d_longdbl=define
longdblsize=12
longdblkind=3
ivtype='long'
ivsize=4
nvtype='double'
nvsize=8
Off_t='off_t'
lseeksize=8
alignbytes=4
prototype=define
Linker and Libraries:
ld='cc'
ldflags ='-Wl,-E -fstack-protector-strong -L/usr/local/lib'
libpth=/usr/lib /usr/lib/clang/13.0.0/lib /usr/lib
libs=-lm -lc
perllibs=-lm -lc
libc=/usr/lib/libc.so.96.1
so=so
useshrplib=true
libperl=libperl.so.22.0
gnulibc_version=''
Dynamic Linking:
dlsrc=dl_dlopen.xs
dlext=so
d_dlsymun=undef
ccdlflags='-Wl,-R/usr/libdata/perl5/i386-openbsd/CORE'
cccdlflags='-DPIC -fpic '
lddlflags='-shared -fpic -fstack-protector-strong -L/usr/local/lib'
Characteristics of this binary (from libperl):
Compile-time options:
HAS_TIMES
PERLIO_LAYERS
PERL_COPY_ON_WRITE
PERL_DONT_CREATE_GVSV
PERL_MALLOC_WRAP
PERL_OP_PARENT
PERL_PRESERVE_IVUV
USE_LARGE_FILES
USE_LOCALE
USE_LOCALE_CTYPE
USE_LOCALE_TIME
USE_PERLIO
USE_PERL_ATOF
Built under openbsd
%ENV:
PERL5LIB="/home/goku/perl5/lib/perl5"
PERL5OPT=""
PERL5_CPANPLUS_IS_RUNNING="20129"
PERL5_CPAN_IS_RUNNING="20129"
PERL5_CPAN_IS_RUNNING_IN_RECURSION="4138,20129"
PERL_CR_SMOKER_CURRENT="Unicode-Homoglyph-Replace-0.01"
PERL_EXTUTILS_AUTOINSTALL="--defaultdeps"
PERL_LOCAL_LIB_ROOT="/home/goku/perl5"
PERL_MB_OPT="--install_base "/home/goku/perl5""
PERL_MM_OPT="INSTALL_BASE=/home/goku/perl5"
PERL_MM_USE_DEFAULT="1"
PERL_USE_UNSAFE_INC="1"
@INC:
/home/goku/perl5/lib/perl5/i386-openbsd
/home/goku/perl5/lib/perl5
/usr/local/libdata/perl5/site_perl/i386-openbsd
/usr/local/libdata/perl5/site_perl
/usr/libdata/perl5/i386-openbsd
/usr/libdata/perl5
.