WebService-BitbucketServer v0.605 Perl 5 v5.32.1 i386-openbsd
- Status
- Pass
- From
- Alceu Rodrigues de Freitas Junior
- Dist
-
WebService-BitbucketServer v0.605
- Platform
- Perl 5 v5.32.1 i386-openbsd
- Date
- 2022-06-21 12:14:37
- ID
- b8356c6a-f15b-11ec-b737-db65ffa5fe2c
This distribution has been tested as part of the CPAN Testers
project, supporting the Perl programming language. See
http://wiki.cpantesters.org/ for more information or email
questions to cpan-testers-discuss@perl.org
--
Dear Charles McGarvey,
This is a computer-generated report for WebService-BitbucketServer-0.605
on perl 5.32.1, created by CPAN-Reporter-1.2018.
Thank you for uploading your work to CPAN. Congratulations!
All tests were successful.
Sections of this report:
* Tester comments
* Program output
* Prerequisites
* Environment and other context
------------------------------
TESTER COMMENTS
------------------------------
Additional comments from tester:
this report is from an automated smoke testing program
and was not reviewed by a human for accuracy
------------------------------
PROGRAM OUTPUT
------------------------------
Output from '/usr/bin/make test':
Skip blib/lib/auto/share/module/WebService-BitbucketServer-Spec/submap_mirroring_upstream.pl (unchanged)
Skip blib/lib/auto/share/module/WebService-BitbucketServer-Spec/submap_jira.pl (unchanged)
Skip blib/lib/auto/share/module/WebService-BitbucketServer-Spec/submap_gpg.pl (unchanged)
Skip blib/lib/auto/share/module/WebService-BitbucketServer-Spec/submap_comment_likes.pl (unchanged)
Skip blib/lib/auto/share/module/WebService-BitbucketServer-Spec/submap_access_tokens.pl (unchanged)
Skip blib/lib/auto/share/module/WebService-BitbucketServer-Spec/submap_ref_restriction.pl (unchanged)
Skip blib/lib/auto/share/module/WebService-BitbucketServer-Spec/submap_core.pl (unchanged)
Skip blib/lib/auto/share/module/WebService-BitbucketServer-Spec/submap_default_reviewers.pl (unchanged)
Skip blib/lib/auto/share/module/WebService-BitbucketServer-Spec/submap_repository_ref_sync.pl (unchanged)
Skip blib/lib/auto/share/module/WebService-BitbucketServer-Spec/submap_ssh.pl (unchanged)
Skip blib/lib/auto/share/module/WebService-BitbucketServer-Spec/submap_branch.pl (unchanged)
Skip blib/lib/auto/share/module/WebService-BitbucketServer-Spec/submap_audit.pl (unchanged)
Skip blib/lib/auto/share/module/WebService-BitbucketServer-Spec/submap_git.pl (unchanged)
Skip blib/lib/auto/share/module/WebService-BitbucketServer-Spec/submap_build.pl (unchanged)
PERL_DL_NONLAZY=1 "/usr/bin/perl" "-MExtUtils::Command::MM" "-MTest::Harness" "-e" "undef *Test::Harness::Switches; test_harness(0, 'blib/lib', 'blib/arch')" t/*.t
t/00-compile.t ......... ok
#
# Versions for all modules listed in MYMETA.json (including optional ones):
#
# === Configure Requires ===
#
# Module Want Have
# ----------------------- ---- -------
# ExtUtils::MakeMaker any 7.65_01
# File::ShareDir::Install 0.06 0.13
#
# === Build Requires ===
#
# Module Want Have
# ------------------- ---- -------
# ExtUtils::MakeMaker any 7.65_01
#
# === Test Requires ===
#
# Module Want Have
# -------------------- ---- --------
# ExtUtils::MakeMaker any 7.65_01
# File::Spec any 3.78
# HTTP::AnyUA::Backend any 0.904
# IO::Handle any 1.48
# IPC::Open3 any 1.21
# Test::Deep any 1.130
# Test::More any 1.302190
# lib any 0.65
# parent any 0.238
#
# === Test Recommends ===
#
# Module Want Have
# ---------- -------- --------
# CPAN::Meta 2.120900 2.150010
#
# === Runtime Requires ===
#
# Module Want Have
# ----------------- ---- ---------
# Carp any 1.50
# Clone any 0.45
# Exporter any 5.74
# HTTP::AnyUA any 0.904
# HTTP::AnyUA::Util any 0.904
# JSON::MaybeXS any 1.004003
# MIME::Base64 any 3.16
# Module::Load any 0.36
# Moo any 2.005004
# Scalar::Util any 1.62
# Types::Standard any 1.013_000
# namespace::clean any 0.27
# strict any 1.11
# warnings any 1.47
#
# === Runtime Suggests ===
#
# Module Want Have
# -------------- ---- ------
# File::Path any 2.18
# File::ShareDir any 1.118
# File::Spec any 3.78
# XML::LibXML any 2.0207
#
t/00-report-prereqs.t .. ok
t/01-accessors.t ....... ok
t/10-request.t ......... ok
t/20-response.t ........ ok
t/21-paged-response.t .. ok
All tests successful.
Files=6, Tests=45, 4 wallclock secs ( 0.05 usr 0.02 sys + 2.43 cusr 1.43 csys = 3.93 CPU)
Result: PASS
------------------------------
PREREQUISITES
------------------------------
Prerequisite modules loaded:
requires:
Module Need Have
----------------------- -------- ---------
Carp 0 1.50
Clone 0 0.45
Exporter 0 5.74
HTTP::AnyUA 0 0.904
HTTP::AnyUA::Util 0 0.904
JSON::MaybeXS 0 1.004003
MIME::Base64 0 3.16
Module::Load 0 0.36
Moo 0 2.005004
namespace::clean 0 0.27
perl 5.006 5.032001
Scalar::Util 0 1.62
strict 0 1.11
Types::Standard 0 1.013_000
warnings 0 1.47
build_requires:
Module Need Have
----------------------- -------- ---------
ExtUtils::MakeMaker 0 7.65_01
File::Spec 0 3.78
HTTP::AnyUA::Backend 0 0.904
IO::Handle 0 1.48
IPC::Open3 0 1.21
lib 0 0.65
parent 0 0.238
Test::Deep 0 1.130
Test::More 0 1.302190
configure_requires:
Module Need Have
----------------------- -------- ---------
ExtUtils::MakeMaker 0 7.65_01
File::ShareDir::Install 0.06 0.13
opt_build_requires:
Module Need Have
----------------------- -------- ---------
CPAN::Meta 2.120900 2.150010
------------------------------
ENVIRONMENT AND OTHER CONTEXT
------------------------------
Environment variables:
AUTOMATED_TESTING = 1
PATH = /home/goku/perl5/bin:/usr/bin:/bin:/usr/sbin:/sbin:/usr/X11R6/bin:/usr/local/bin:/usr/local/sbin
PERL5LIB = /home/goku/perl5/lib/perl5
PERL5OPT =
PERL5_CPANPLUS_IS_RUNNING = 99872
PERL5_CPAN_IS_RUNNING = 99872
PERL5_CPAN_IS_RUNNING_IN_RECURSION = 4138,99872
PERL_CR_SMOKER_CURRENT = WebService-BitbucketServer-0.605
PERL_EXTUTILS_AUTOINSTALL = --defaultdeps
PERL_LOCAL_LIB_ROOT = /home/goku/perl5
PERL_MB_OPT = --install_base "/home/goku/perl5"
PERL_MM_OPT = INSTALL_BASE=/home/goku/perl5
PERL_MM_USE_DEFAULT = 1
PERL_USE_UNSAFE_INC = 1
SHELL = /bin/ksh
TERM = xterm-256color
Perl special variables (and OS-specific diagnostics, for MSWin32):
$^X = /usr/bin/perl
$UID/$EUID = 1001 / 1001
$GID = 1002 1002 1001
$EGID = 1002 1002 1001
Perl module toolchain versions installed:
Module Have
------------------- --------
CPAN 2.34
CPAN::Meta 2.150010
Cwd 3.78
ExtUtils::CBuilder 0.280236
ExtUtils::Command 7.65_01
ExtUtils::Install 2.20
ExtUtils::MakeMaker 7.65_01
ExtUtils::Manifest 1.73
ExtUtils::ParseXS 3.44
File::Spec 3.78
JSON 4.06
JSON::PP 4.09
Module::Build 0.4231
Module::Signature n/a
Parse::CPAN::Meta 2.150010
Test::Harness 3.44
Test::More 1.302190
YAML 1.30
YAML::Syck 1.34
version 0.9929
--
Summary of my perl5 (revision 5 version 32 subversion 1) configuration:
Platform:
osname=openbsd
osvers=7.1
archname=i386-openbsd
uname='openbsd'
config_args='-dse -Dopenbsd_distribution=defined -Dmksymlinks'
hint=recommended
useposix=true
d_sigaction=define
useithreads=undef
usemultiplicity=undef
use64bitint=undef
use64bitall=undef
uselongdouble=undef
usemymalloc=n
default_inc_excludes_dot=define
bincompat5005=undef
Compiler:
cc='cc'
ccflags ='-DNO_LOCALE_NUMERIC -DNO_LOCALE_COLLATE -fno-strict-aliasing -fno-delete-null-pointer-checks -pipe -fstack-protector-strong -I/usr/local/include'
optimize='-O2'
cppflags='-DBIG_TIME -DNO_LOCALE_NUMERIC -DNO_LOCALE_COLLATE -fno-strict-aliasing -fno-delete-null-pointer-checks -pipe -fstack-protector-strong -I/usr/local/include'
ccversion=''
gccversion='OpenBSD Clang 13.0.0'
gccosandvers=''
intsize=4
longsize=4
ptrsize=4
doublesize=8
byteorder=1234
doublekind=3
d_longlong=define
longlongsize=8
d_longdbl=define
longdblsize=12
longdblkind=3
ivtype='long'
ivsize=4
nvtype='double'
nvsize=8
Off_t='off_t'
lseeksize=8
alignbytes=4
prototype=define
Linker and Libraries:
ld='cc'
ldflags ='-Wl,-E -fstack-protector-strong -L/usr/local/lib'
libpth=/usr/lib /usr/lib/clang/13.0.0/lib /usr/lib
libs=-lm -lc
perllibs=-lm -lc
libc=/usr/lib/libc.so.96.1
so=so
useshrplib=true
libperl=libperl.so.22.0
gnulibc_version=''
Dynamic Linking:
dlsrc=dl_dlopen.xs
dlext=so
d_dlsymun=undef
ccdlflags='-Wl,-R/usr/libdata/perl5/i386-openbsd/CORE'
cccdlflags='-DPIC -fpic '
lddlflags='-shared -fpic -fstack-protector-strong -L/usr/local/lib'
Characteristics of this binary (from libperl):
Compile-time options:
HAS_TIMES
PERLIO_LAYERS
PERL_COPY_ON_WRITE
PERL_DONT_CREATE_GVSV
PERL_MALLOC_WRAP
PERL_OP_PARENT
PERL_PRESERVE_IVUV
USE_LARGE_FILES
USE_LOCALE
USE_LOCALE_CTYPE
USE_LOCALE_TIME
USE_PERLIO
USE_PERL_ATOF
Built under openbsd
%ENV:
PERL5LIB="/home/goku/perl5/lib/perl5"
PERL5OPT=""
PERL5_CPANPLUS_IS_RUNNING="99872"
PERL5_CPAN_IS_RUNNING="99872"
PERL5_CPAN_IS_RUNNING_IN_RECURSION="4138,99872"
PERL_CR_SMOKER_CURRENT="WebService-BitbucketServer-0.605"
PERL_EXTUTILS_AUTOINSTALL="--defaultdeps"
PERL_LOCAL_LIB_ROOT="/home/goku/perl5"
PERL_MB_OPT="--install_base "/home/goku/perl5""
PERL_MM_OPT="INSTALL_BASE=/home/goku/perl5"
PERL_MM_USE_DEFAULT="1"
PERL_USE_UNSAFE_INC="1"
@INC:
/home/goku/perl5/lib/perl5/i386-openbsd
/home/goku/perl5/lib/perl5
/usr/local/libdata/perl5/site_perl/i386-openbsd
/usr/local/libdata/perl5/site_perl
/usr/libdata/perl5/i386-openbsd
/usr/libdata/perl5
.