Report for XSLoader-0.24

Back
From: metabase:user:8c791fea-1acb-11e0-a005-03276621b9a1
Subject: PASS XSLoader-0.24 v5.24.0 GNU/Linux
Date: 2016-12-06T15:21:54Z

This distribution has been tested as part of the CPAN Testers
project, supporting the Perl programming language.  See
http://wiki.cpantesters.org/ for more information or email
questions to cpan-testers-discuss@perl.org


--
Dear Sebastien Aperghis-Tramoni,

This is a computer-generated report for XSLoader-0.24
on perl 5.24.0, created by CPAN-Reporter-1.2018.

Thank you for uploading your work to CPAN.  Congratulations!
All tests were successful.

Sections of this report:

    * Tester comments
    * Program output
    * Prerequisites
    * Environment and other context

------------------------------
TESTER COMMENTS
------------------------------

Additional comments from tester:

none provided

------------------------------
PROGRAM OUTPUT
------------------------------

Output from '/usr/bin/make test':

PERL_DL_NONLAZY=1 "/pkg/perl-5.24.0/bin/perl" "-MExtUtils::Command::MM" "-MTest::Harness" "-e" "undef *Test::Harness::Switches; test_harness(0, 'blib/lib', 'blib/arch')" t/*.t
# testing XSLoader v0.24 under Perl 5.024000
t/00-load.t ... ok
t/01-api.t .... ok
t/distchk.t ... skipped: Test::Distribution required for checking distribution
t/pod.t ....... ok
t/podcover.t .. skipped: Test::Pod::Coverage 1.04 required for testing POD coverage
t/portfs.t .... skipped: Test::Portability::Files required for testing filenames portability
t/XSLoader.t .. ok
All tests successful.
Files=7, Tests=29,  0 wallclock secs ( 0.05 usr  0.02 sys +  0.49 cusr  0.03 csys =  0.59 CPU)
Result: PASS

------------------------------
PREREQUISITES
------------------------------

Prerequisite modules loaded:

requires:

    Module              Need Have    
    ------------------- ---- --------
    Test::More          0.47 1.302062

build_requires:

    Module              Need Have    
    ------------------- ---- --------
    ExtUtils::MakeMaker 0    7.10_01 

configure_requires:

    Module              Need Have    
    ------------------- ---- --------
    ExtUtils::MakeMaker 0    7.10_01 


------------------------------
ENVIRONMENT AND OTHER CONTEXT
------------------------------

Environment variables:

    LC_CTYPE = en_US.UTF-8
    PATH = /home/dylan/bin:/bin:/sbin:/usr/bin:/usr/sbin
    PERL5LIB = /usr/src/cpan/build/Test-Needs-0.002005-0/blib/arch:/usr/src/cpan/build/Test-Needs-0.002005-0/blib/lib:/home/dylan/bin/perllib
    PERL5OPT = 
    PERL5_CPANPLUS_IS_RUNNING = 13708
    PERL5_CPAN_IS_RUNNING = 13708
    PERLLIB = /home/dylan/bin/perllib
    SHELL = /usr/bin/zsh
    TERM = xtmux

Perl special variables (and OS-specific diagnostics, for MSWin32):

    $^X = /pkg/perl-5.24.0/bin/perl
    $UID/$EUID = 499 / 499
    $GID = 499 3 4 6 25 54 80 88 98 99 100 102 499 49925
    $EGID = 499 3 4 6 25 54 80 88 98 99 100 102 499 49925

Perl module toolchain versions installed:

    Module              Have    
    ------------------- --------
    CPAN                2.14    
    CPAN::Meta          2.150005
    Cwd                 3.63    
    ExtUtils::CBuilder  0.280225
    ExtUtils::Command   7.10    
    ExtUtils::Install   2.04    
    ExtUtils::MakeMaker 7.10_01 
    ExtUtils::Manifest  1.70    
    ExtUtils::ParseXS   3.31    
    File::Spec          3.63    
    JSON                n/a     
    JSON::PP            2.27300 
    Module::Build       0.4220  
    Module::Signature   0.81    
    Parse::CPAN::Meta   1.4417  
    Test::Harness       3.36    
    Test::More          1.302062
    YAML                1.18    
    YAML::Syck          n/a     
    version             0.9916  


--

Summary of my perl5 (revision 5 version 24 subversion 0) configuration:
   
  Platform:
    osname=linux, osvers=4.6.3, archname=x86_64-linux
    uname='linux datura.dylex.net 4.6.3-00001-g2b9d843 #11 smp sun jul 3 18:46:13 edt 2016 x86_64 gnulinux '
    config_args='-Dprefix=/pkg/perl-5.24.0'
    hint=recommended, useposix=true, d_sigaction=define
    useithreads=undef, usemultiplicity=undef
    use64bitint=define, use64bitall=define, uselongdouble=undef
    usemymalloc=n, bincompat5005=undef
  Compiler:
    cc='gcc', ccflags ='-fwrapv -fno-strict-aliasing -pipe -fstack-protector-strong -D_LARGEFILE_SOURCE -D_FILE_OFFSET_BITS=64 -D_FORTIFY_SOURCE=2',
    optimize='-O2',
    cppflags='-fwrapv -fno-strict-aliasing -pipe -fstack-protector-strong'
    ccversion='', gccversion='5.4.0', gccosandvers=''
    intsize=4, longsize=8, ptrsize=8, doublesize=8, byteorder=12345678, doublekind=3
    d_longlong=define, longlongsize=8, d_longdbl=define, longdblsize=16, longdblkind=3
    ivtype='long', ivsize=8, nvtype='double', nvsize=8, Off_t='off_t', lseeksize=8
    alignbytes=8, prototype=define
  Linker and Libraries:
    ld='gcc', ldflags =' -fstack-protector-strong'
    libpth=/lib /usr/lib
    libs=-lpthread -lnsl -lgdbm -ldb -ldl -lm -lcrypt -lutil -lc -lgdbm_compat
    perllibs=-lpthread -lnsl -ldl -lm -lcrypt -lutil -lc
    libc=libc-2.23.so, so=so, useshrplib=false, libperl=libperl.a
    gnulibc_version='2.23'
  Dynamic Linking:
    dlsrc=dl_dlopen.xs, dlext=so, d_dlsymun=undef, ccdlflags='-Wl,-E'
    cccdlflags='-fPIC', lddlflags='-shared -O2 -fstack-protector-strong'


Characteristics of this binary (from libperl): 
  Compile-time options: HAS_TIMES PERLIO_LAYERS PERL_COPY_ON_WRITE
                        PERL_DONT_CREATE_GVSV
                        PERL_HASH_FUNC_ONE_AT_A_TIME_HARD PERL_MALLOC_WRAP
                        PERL_PRESERVE_IVUV USE_64_BIT_ALL USE_64_BIT_INT
                        USE_LARGE_FILES USE_LOCALE USE_LOCALE_COLLATE
                        USE_LOCALE_CTYPE USE_LOCALE_NUMERIC USE_LOCALE_TIME
                        USE_PERLIO USE_PERL_ATOF
  Built under linux
  Compiled at Sep 10 2016 20:02:40
  %ENV:
    PERL5LIB="/usr/src/cpan/build/Test-Needs-0.002005-0/blib/arch:/usr/src/cpan/build/Test-Needs-0.002005-0/blib/lib:/home/dylan/bin/perllib"
    PERL5OPT=""
    PERL5_CPANPLUS_IS_RUNNING="13708"
    PERL5_CPAN_IS_RUNNING="13708"
    PERLLIB="/home/dylan/bin/perllib"
  @INC:
    /usr/src/cpan/build/Test-Needs-0.002005-0/blib/arch
    /usr/src/cpan/build/Test-Needs-0.002005-0/blib/lib
    /home/dylan/bin/perllib
    /pkg/perl/lib/x86_64
    /pkg/perl/lib
    /pkg/perl-5.24.0/lib/perl/x86_64
    /pkg/perl-5.24.0/lib/perl
    .