Report for Starlink-AST-1.05

Back
From: metabase:user:a0e144f2-373b-11e6-8edd-c6848980b093
Subject: PASS Starlink-AST-1.05 v5.25.9 GNU/Linux
Date: 2016-12-29T01:04:16Z

This distribution has been tested as part of the CPAN Testers
project, supporting the Perl programming language.  See
http://wiki.cpantesters.org/ for more information or email
questions to cpan-testers-discuss@perl.org


--
Dear Tim Jenness,

This is a computer-generated report for Starlink-AST-1.05
on perl 5.25.9, created by CPAN-Reporter-1.2018.

Thank you for uploading your work to CPAN.  Congratulations!
All tests were successful.

Sections of this report:

    * Tester comments
    * Program output
    * Prerequisites
    * Environment and other context

------------------------------
TESTER COMMENTS
------------------------------

Additional comments from tester:

this report is from an automated smoke testing program
and was not reviewed by a human for accuracy

------------------------------
PROGRAM OUTPUT
------------------------------

Output from './Build test':

t/channel.t ......... ok
t/dclone.t .......... ok
t/attrib.t .......... ok
t/error.t ........... ok
t/fitschan.t ........ ok
t/fitschn0.t ........ ok
t/formats.t ......... ok
t/keymap-tie.t ...... ok
t/keymap.t .......... ok
t/offset.t .......... ok
t/plot00_pgplot.t ... skipped: $DISPLAY is not set.
t/plot00_plplot.t ... skipped: $DISPLAY is not set.
t/plot00_tk.t ....... skipped: $DISPLAY is not set.
t/plot_pg.t ......... skipped: $DISPLAY is not set.
t/plot00_tk_zinc.t .. skipped: $DISPLAY is not set.
t/plot_pl.t ......... skipped: $DISPLAY is not set.
t/plot_tk.t ......... skipped: $DISPLAY is not set.
t/dsb_reg.t ......... ok
t/plot_tk_zinc.t .... skipped: $DISPLAY is not set.
t/specframe.t ....... ok
t/region.t .......... ok
t/stcschan.t ........ ok
t/unitmap.t ......... ok
t/xmlchan.t ......... ok
t/zoommap.t ......... ok
All tests successful.
Files=25, Tests=267,  3 wallclock secs ( 0.70 usr  0.04 sys +  2.74 cusr  0.17 csys =  3.65 CPU)
Result: PASS

------------------------------
PREREQUISITES
------------------------------

Prerequisite modules loaded:

build_requires:

    Module               Need   Have    
    -------------------- ------ --------
    ExtUtils::CBuilder   0      0.280225
    perl                 5.008  5.025009
    Test::Deep           0      1.124   
    Test::More           0      1.302070
    Test::Number::Delta  0      1.06    

configure_requires:

    Module               Need   Have    
    -------------------- ------ --------
    Module::Build        0.3604 0.4220  

opt_requires:

    Module               Need   Have    
    -------------------- ------ --------
  ! Astro::FITS::CFITSIO 0      n/a     
    Astro::FITS::Header  0      3.04    
  ! Tk                   0      n/a     
  ! Tk::Zinc             0      n/a     


------------------------------
ENVIRONMENT AND OTHER CONTEXT
------------------------------

Environment variables:

    AUTOMATED_TESTING = 1
    HARNESS_OPTIONS = j3
    LANG = en_US.UTF-8
    PATH = /usr/local/bin:/usr/bin:/bin:/usr/local/games:/usr/games
    PERL5LIB = 
    PERL5OPT = 
    PERL5_CPANPLUS_IS_RUNNING = 19955
    PERL5_CPAN_IS_RUNNING = 19955
    PERL5_CPAN_IS_RUNNING_IN_RECURSION = 22281,19955
    PERL_CR_SMOKER_CURRENT = PDL-IO-XLSX-0.003
    PERL_CR_SMOKER_RUNONCE = 1
    PERL_EXTUTILS_AUTOINSTALL = --defaultdeps
    PERL_MM_USE_DEFAULT = 1
    SHELL = /bin/bash
    TERM = putty

Perl special variables (and OS-specific diagnostics, for MSWin32):

    $^X = /home/cpan3/install/bin/perl
    $UID/$EUID = 1004 / 1004
    $GID = 1004 1004
    $EGID = 1004 1004

Perl module toolchain versions installed:

    Module              Have      
    ------------------- ----------
    CPAN                2.14_01   
    CPAN::Meta          2.150010  
    Cwd                 3.66      
    ExtUtils::CBuilder  0.280225  
    ExtUtils::Command   7.24      
    ExtUtils::Install   2.04      
    ExtUtils::MakeMaker 7.24      
    ExtUtils::Manifest  1.70      
    ExtUtils::ParseXS   3.33      
    File::Spec          3.66      
    JSON                2.90      
    JSON::PP            2.27400_02
    Module::Build       0.4220    
    Module::Signature   n/a       
    Parse::CPAN::Meta   2.150010  
    Test::Harness       3.36_01   
    Test::More          1.302070  
    YAML                1.20      
    YAML::Syck          1.29      
    version             0.9917    


--

Summary of my perl5 (revision 5 version 25 subversion 9) configuration:
  Commit id: 01dbcb1bde5c332d4c6aa16261b174729d6e8e1b
  Platform:
    osname=linux
    osvers=3.16.0-4-amd64
    archname=x86_64-linux-thread-multi
    uname='linux digitalis 3.16.0-4-amd64 #1 smp debian 3.16.36-1+deb8u2 (2016-10-19) x86_64 gnulinux '
    config_args='-Dusedevel -DDEBUGGING -Dusethreads -Dprefix=/home/cpan3/install -Uversiononly -des'
    hint=recommended
    useposix=true
    d_sigaction=define
    useithreads=define
    usemultiplicity=define
    use64bitint=define
    use64bitall=define
    uselongdouble=undef
    usemymalloc=n
    bincompat5005=undef
  Compiler:
    cc='cc'
    ccflags ='-D_REENTRANT -D_GNU_SOURCE -fwrapv -DDEBUGGING -fno-strict-aliasing -pipe -fstack-protector-strong -I/usr/local/include -D_LARGEFILE_SOURCE -D_FILE_OFFSET_BITS=64 -D_FORTIFY_SOURCE=2'
    optimize='-O2 -g'
    cppflags='-D_REENTRANT -D_GNU_SOURCE -fwrapv -DDEBUGGING -fno-strict-aliasing -pipe -fstack-protector-strong -I/usr/local/include'
    ccversion=''
    gccversion='4.9.2'
    gccosandvers=''
    intsize=4
    longsize=8
    ptrsize=8
    doublesize=8
    byteorder=12345678
    doublekind=3
    d_longlong=define
    longlongsize=8
    d_longdbl=define
    longdblsize=16
    longdblkind=3
    ivtype='long'
    ivsize=8
    nvtype='double'
    nvsize=8
    Off_t='off_t'
    lseeksize=8
    alignbytes=8
    prototype=define
  Linker and Libraries:
    ld='cc'
    ldflags =' -fstack-protector-strong -L/usr/local/lib'
    libpth=/usr/local/lib /usr/lib/gcc/x86_64-linux-gnu/4.9/include-fixed /usr/include/x86_64-linux-gnu /usr/lib /lib/x86_64-linux-gnu /lib/../lib /usr/lib/x86_64-linux-gnu /usr/lib/../lib /lib /lib64 /usr/lib64
    libs=-lpthread -lnsl -ldl -lm -lcrypt -lutil -lc
    perllibs=-lpthread -lnsl -ldl -lm -lcrypt -lutil -lc
    libc=libc-2.19.so
    so=so
    useshrplib=false
    libperl=libperl.a
    gnulibc_version='2.19'
  Dynamic Linking:
    dlsrc=dl_dlopen.xs
    dlext=so
    d_dlsymun=undef
    ccdlflags='-Wl,-E'
    cccdlflags='-fPIC'
    lddlflags='-shared -O2 -g -L/usr/local/lib -fstack-protector-strong'


Characteristics of this binary (from libperl): 
  Compile-time options:
    DEBUGGING
    HAS_TIMES
    MULTIPLICITY
    PERLIO_LAYERS
    PERL_COPY_ON_WRITE
    PERL_DONT_CREATE_GVSV
    PERL_IMPLICIT_CONTEXT
    PERL_MALLOC_WRAP
    PERL_OP_PARENT
    PERL_PRESERVE_IVUV
    PERL_TRACK_MEMPOOL
    PERL_USE_DEVEL
    USE_64_BIT_ALL
    USE_64_BIT_INT
    USE_ITHREADS
    USE_LARGE_FILES
    USE_LOCALE
    USE_LOCALE_COLLATE
    USE_LOCALE_CTYPE
    USE_LOCALE_NUMERIC
    USE_LOCALE_TIME
    USE_PERLIO
    USE_PERL_ATOF
    USE_REENTRANT_API
  Built under linux
  Compiled at Dec 26 2016 23:42:03
  %ENV:
    PERL5LIB=""
    PERL5OPT=""
    PERL5_CPANPLUS_IS_RUNNING="19955"
    PERL5_CPAN_IS_RUNNING="19955"
    PERL5_CPAN_IS_RUNNING_IN_RECURSION="22281,19955"
    PERL_CR_SMOKER_CURRENT="PDL-IO-XLSX-0.003"
    PERL_CR_SMOKER_RUNONCE="1"
    PERL_EXTUTILS_AUTOINSTALL="--defaultdeps"
    PERL_MM_USE_DEFAULT="1"
  @INC:
    /home/cpan3/install/lib/perl5/site_perl/5.25.9/x86_64-linux-thread-multi
    /home/cpan3/install/lib/perl5/site_perl/5.25.9
    /home/cpan3/install/lib/perl5/5.25.9/x86_64-linux-thread-multi
    /home/cpan3/install/lib/perl5/5.25.9
    .