Back
From: metabase:user:cba5269c-6e58-1014-92a6-0387276d408b
Subject: PASS DBIx-Table-TestDataGenerator-0.002 v5.16.2
Date: 2012-12-12T07:44:12Z
This distribution has been tested as part of the CPAN Testers
project, supporting the Perl programming language. See
http://wiki.cpantesters.org/ for more information or email
questions to cpan-testers-discuss@perl.org
--
Dear Jose Diaz Seng,
This is a computer-generated report for DBIx-Table-TestDataGenerator-0.002
on perl 5.16.2, created by CPAN-Reporter-1.2006.
Thank you for uploading your work to CPAN. Congratulations!
All tests were successful.
Sections of this report:
* Tester comments
* Program output
* Prerequisites
* Environment and other context
------------------------------
TESTER COMMENTS
------------------------------
Additional comments from tester:
this report is from an automated smoke testing program
and was not reviewed by a human for accuracy
------------------------------
PROGRAM OUTPUT
------------------------------
Output from 'C:\strawberry\perl\bin\perl.exe ./Build test':
# Testing DBIx::Table::TestDataGenerator 0.002, Perl 5.016002, C:\strawberry\perl\bin\perl.exe
t\00-load.t .................... ok
t\01_Test_TestDataGenerator.t .. ok
t\02_Test_TestDataGenerator.t .. ok
t\03_Test_TestDataGenerator.t .. ok
t\04_Test_TableProbe.t ......... ok
t\05_Test_TreeUtils.t .......... ok
t\06_Test_TreeUtils2.t ......... ok
t\boilerplate.t ................ ok
All tests successful.
Test Summary Report
-------------------
t\boilerplate.t (Wstat: 0 Tests: 5 Failed: 0)
TODO passed: 1-5
Files=8, Tests=79, 4 wallclock secs ( 0.06 usr + 0.06 sys = 0.12 CPU)
Result: PASS
------------------------------
PREREQUISITES
------------------------------
Prerequisite modules loaded:
requires:
Module Need Have
----------------------- ----- --------
Carp 0 1.26
Class::Load 0 0.20
DBD::SQLite 0 1.37
DBI 0 1.622
DBI::Const::GetInfoType 0 2.008696
DBIx::Admin::TableInfo 0 2.07
List::MoreUtils 0 0.33
List::Util 0 1.25
Moo 0 1.000006
Moo::Role 0 0
perl 5.006 5.016002
Readonly 0 1.03
Test::Exception 0 0.31
build_requires:
Module Need Have
----------------------- ----- --------
Test::More 0 0.98
configure_requires:
Module Need Have
----------------------- ----- --------
Module::Build 0.4 0.4003
------------------------------
ENVIRONMENT AND OTHER CONTEXT
------------------------------
Environment variables:
AUTOMATED_TESTING = 1
COMSPEC = C:\WINDOWS\system32\cmd.exe
NUMBER_OF_PROCESSORS = 1
PATH = C:\WINDOWS\system32;C:\WINDOWS;C:\WINDOWS\System32\Wbem;C:\WINDOWS\system32\WindowsPowerShell\v1.0;c:\Program Files\Microsoft SQL Server\100\Tools\Binn\VSShell\Common7\IDE\;c:\Program Files\Microsoft SQL Server\100\Tools\Binn\;c:\Program Files\Microsoft SQL Server\100\DTS\Binn\;C:\strawberry\c\bin;C:\strawberry\perl\site\bin;C:\strawberry\perl\bin;C:\Program Files\WinSCP\;c:\Program Files\Microsoft Visual Studio 9.0\Common7\IDE\PrivateAssemblies\;C:\Program Files\wkhtmltopdf
PERL5LIB = C:\strawberry\cpan\build\Readonly-1.03-vWVP4k/blib/arch;C:\strawberry\cpan\build\Readonly-1.03-vWVP4k/blib/lib;C:\strawberry\cpan\build\DBIx-Admin-TableInfo-2.07-fvdGp0/blib/arch;C:\strawberry\cpan\build\DBIx-Admin-TableInfo-2.07-fvdGp0/blib/lib;C:\strawberry\cpan\build\Test-Pod-1.45-Sz2bMM/blib/arch;C:\strawberry\cpan\build\Test-Pod-1.45-Sz2bMM/blib/lib;C:\strawberry\cpan\build\Moo-1.000006-bGVrfG/blib/arch;C:\strawberry\cpan\build\Moo-1.000006-bGVrfG/blib/lib;C:\strawberry\cpan\build\Class-Method-Modifiers-1.12-GrysOr/blib/arch;C:\strawberry\cpan\build\Class-Method-Modifiers-1.12-GrysOr/blib/lib;C:\strawberry\cpan\build\Role-Tiny-1.002004-zpQKPU/blib/arch;C:\strawberry\cpan\build\Role-Tiny-1.002004-zpQKPU/blib/lib;C:\strawberry\cpan\build\strictures-1.004004-gRjp4J/blib/arch;C:\strawberry\cpan\build\strictures-1.004004-gRjp4J/blib/lib
PERL5OPT =
PERL5_CPANPLUS_IS_RUNNING = 3836
PERL5_CPAN_IS_RUNNING = 3836
PERL5_CPAN_IS_RUNNING_IN_RECURSION = 2716,3836
PERL_CR_SMOKER_CURRENT = DBIx-Table-TestDataGenerator-0.002
PERL_EXTUTILS_AUTOINSTALL = --defaultdeps
PERL_JSON_BACKEND = JSON::XS
PERL_MM_USE_DEFAULT = 1
PERL_YAML_BACKEND = YAML
PROCESSOR_IDENTIFIER = x86 Family 6 Model 2 Stepping 3, GenuineIntel
TEMP = C:\DOCUME~1\radon\LOCALS~1\Temp
TERM = dumb
Perl special variables (and OS-specific diagnostics, for MSWin32):
$^X = C:\strawberry\perl\bin\perl.exe
$UID/$EUID = 0 / 0
$GID = 0
$EGID = 0
Win32::GetOSName = WinXP/.Net
Win32::GetOSVersion = Service Pack 3, 5, 1, 2600, 2, 3, 0, 256, 1
Win32::FsType = NTFS
Win32::IsAdminUser = 1
Perl module toolchain versions installed:
Module Have
------------------- --------
CPAN 1.9800
CPAN::Meta 2.120921
Cwd 3.39_02
ExtUtils::CBuilder 0.280206
ExtUtils::Command 1.17
ExtUtils::Install 1.58
ExtUtils::MakeMaker 6.63_02
ExtUtils::Manifest 1.61
ExtUtils::ParseXS 3.16
File::Spec 3.39_02
JSON 2.53
JSON::PP 2.27200
Module::Build 0.4003
Module::Signature 0.68
Parse::CPAN::Meta 1.4404
Test::Harness 3.25
Test::More 0.98
YAML 0.84
YAML::Syck 1.22
version 0.9901
--
Summary of my perl5 (revision 5 version 16 subversion 2) configuration:
Platform:
osname=MSWin32, osvers=4.0, archname=MSWin32-x86-multi-thread
uname='Win32 strawberry-perl 5.16.2.1 #1 Fri Nov 2 00:33:54 2012 i386'
config_args='undef'
hint=recommended, useposix=true, d_sigaction=undef
useithreads=define, usemultiplicity=define
useperlio=define, d_sfio=undef, uselargefiles=define, usesocks=undef
use64bitint=undef, use64bitall=undef, uselongdouble=undef
usemymalloc=n, bincompat5005=undef
Compiler:
cc='gcc', ccflags =' -s -O2 -DWIN32 -DPERL_TEXTMODE_SCRIPTS -DPERL_IMPLICIT_CONTEXT -DPERL_IMPLICIT_SYS -fno-strict-aliasing -mms-bitfields',
optimize='-s -O2',
cppflags='-DWIN32'
ccversion='', gccversion='4.6.3', gccosandvers=''
intsize=4, longsize=4, ptrsize=4, doublesize=8, byteorder=1234
d_longlong=undef, longlongsize=8, d_longdbl=define, longdblsize=12
ivtype='long', ivsize=4, nvtype='double', nvsize=8, Off_t='long long', lseeksize=8
alignbytes=8, prototype=define
Linker and Libraries:
ld='g++', ldflags ='-s -L"C:\strawberry\perl\lib\CORE" -L"C:\strawberry\c\lib"'
libpth=C:\strawberry\c\lib C:\strawberry\c\i686-w64-mingw32\lib
libs=-lmoldname -lkernel32 -luser32 -lgdi32 -lwinspool -lcomdlg32 -ladvapi32 -lshell32 -lole32 -loleaut32 -lnetapi32 -luuid -lws2_32 -lmpr -lwinmm -lversion -lodbc32 -lodbccp32 -lcomctl32
perllibs=-lmoldname -lkernel32 -luser32 -lgdi32 -lwinspool -lcomdlg32 -ladvapi32 -lshell32 -lole32 -loleaut32 -lnetapi32 -luuid -lws2_32 -lmpr -lwinmm -lversion -lodbc32 -lodbccp32 -lcomctl32
libc=, so=dll, useshrplib=true, libperl=libperl516.a
gnulibc_version=''
Dynamic Linking:
dlsrc=dl_win32.xs, dlext=dll, d_dlsymun=undef, ccdlflags=' '
cccdlflags=' ', lddlflags='-mdll -s -L"C:\strawberry\perl\lib\CORE" -L"C:\strawberry\c\lib"'
Characteristics of this binary (from libperl):
Compile-time options: HAS_TIMES HAVE_INTERP_INTERN MULTIPLICITY
PERLIO_LAYERS PERL_DONT_CREATE_GVSV
PERL_IMPLICIT_CONTEXT PERL_IMPLICIT_SYS
PERL_MALLOC_WRAP PERL_PRESERVE_IVUV PL_OP_SLAB_ALLOC
USE_ITHREADS USE_LARGE_FILES USE_LOCALE
USE_LOCALE_COLLATE USE_LOCALE_CTYPE
USE_LOCALE_NUMERIC USE_PERLIO USE_PERL_ATOF
Built under MSWin32
Compiled at Nov 2 2012 00:44:17
%ENV:
PERL5LIB="C:\strawberry\cpan\build\Readonly-1.03-vWVP4k/blib/arch;C:\strawberry\cpan\build\Readonly-1.03-vWVP4k/blib/lib;C:\strawberry\cpan\build\DBIx-Admin-TableInfo-2.07-fvdGp0/blib/arch;C:\strawberry\cpan\build\DBIx-Admin-TableInfo-2.07-fvdGp0/blib/lib;C:\strawberry\cpan\build\Test-Pod-1.45-Sz2bMM/blib/arch;C:\strawberry\cpan\build\Test-Pod-1.45-Sz2bMM/blib/lib;C:\strawberry\cpan\build\Moo-1.000006-bGVrfG/blib/arch;C:\strawberry\cpan\build\Moo-1.000006-bGVrfG/blib/lib;C:\strawberry\cpan\build\Class-Method-Modifiers-1.12-GrysOr/blib/arch;C:\strawberry\cpan\build\Class-Method-Modifiers-1.12-GrysOr/blib/lib;C:\strawberry\cpan\build\Role-Tiny-1.002004-zpQKPU/blib/arch;C:\strawberry\cpan\build\Role-Tiny-1.002004-zpQKPU/blib/lib;C:\strawberry\cpan\build\strictures-1.004004-gRjp4J/blib/arch;C:\strawberry\cpan\build\strictures-1.004004-gRjp4J/blib/lib"
PERL5_CPANPLUS_IS_RUNNING="3836"
PERL5_CPAN_IS_RUNNING="3836"
PERL5_CPAN_IS_RUNNING_IN_RECURSION="2716,3836"
PERL_CR_SMOKER_CURRENT="DBIx-Table-TestDataGenerator-0.002"
PERL_EXTUTILS_AUTOINSTALL="--defaultdeps"
PERL_JSON_BACKEND="JSON::XS"
PERL_MM_USE_DEFAULT="1"
PERL_YAML_BACKEND="YAML"
@INC:
C:\strawberry\cpan\build\Readonly-1.03-vWVP4k/blib/arch
C:\strawberry\cpan\build\Readonly-1.03-vWVP4k/blib/lib
C:\strawberry\cpan\build\DBIx-Admin-TableInfo-2.07-fvdGp0/blib/arch
C:\strawberry\cpan\build\DBIx-Admin-TableInfo-2.07-fvdGp0/blib/lib
C:\strawberry\cpan\build\Test-Pod-1.45-Sz2bMM/blib/arch
C:\strawberry\cpan\build\Test-Pod-1.45-Sz2bMM/blib/lib
C:\strawberry\cpan\build\Moo-1.000006-bGVrfG/blib/arch
C:\strawberry\cpan\build\Moo-1.000006-bGVrfG/blib/lib
C:\strawberry\cpan\build\Class-Method-Modifiers-1.12-GrysOr/blib/arch
C:\strawberry\cpan\build\Class-Method-Modifiers-1.12-GrysOr/blib/lib
C:\strawberry\cpan\build\Role-Tiny-1.002004-zpQKPU/blib/arch
C:\strawberry\cpan\build\Role-Tiny-1.002004-zpQKPU/blib/lib
C:\strawberry\cpan\build\strictures-1.004004-gRjp4J/blib/arch
C:\strawberry\cpan\build\strictures-1.004004-gRjp4J/blib/lib
C:/strawberry/perl/site/lib
C:/strawberry/perl/vendor/lib
C:/strawberry/perl/lib
.