Benchmark-Perl-Formance v0.55 Perl 5 v5.32.0 x86_64-linux-thread-multi

Status
Pass
From
Slaven Rezić
Dist
Benchmark-Perl-Formance v0.55
Platform
Perl 5 v5.32.0 x86_64-linux-thread-multi
Date
2021-09-17 12:49:39
ID
b8889820-17b5-11ec-9626-4e651f24ea8f
This distribution has been tested as part of the CPAN Testers
project, supporting the Perl programming language.  See
http://wiki.cpantesters.org/ for more information or email
questions to cpan-testers-discuss@perl.org


--
Dear Steffen Schwigon,

This is a computer-generated report for Benchmark-Perl-Formance-0.55
on perl 5.32.0, created by CPAN-Reporter-1.2018.

Thank you for uploading your work to CPAN.  Congratulations!
All tests were successful.

Sections of this report:

    * Tester comments
    * Program output
    * Prerequisites
    * Environment and other context

------------------------------
TESTER COMMENTS
------------------------------

Additional comments from tester:

none provided

------------------------------
PROGRAM OUTPUT
------------------------------

Output from '/usr/bin/make test':

PERL_DL_NONLAZY=1 "/opt/perl-5.32.0t/bin/perl" "-MExtUtils::Command::MM" "-MTest::Harness" "-e" "undef *Test::Harness::Switches; test_harness(0, 'blib/lib', 'blib/arch')" t/*.t
t/00-compile.t ......... ok
# 
# Testing Benchmark::Perl::Formance 0.55, Perl 5.032000, /opt/perl-5.32.0t/bin/perl
t/00-load.t ............ ok
t/author-eol.t ......... skipped: these tests are for testing by the author
t/author-pod-syntax.t .. skipped: these tests are for testing by the author
t/basic.t .............. ok
# 
# Sample run. May take some seconds...
# Run DPath...
# Run Fib...
# Run FibOO...
# Run Mem...
# Run MatrixReal...
# Run Prime...
# Run Rx...
# Skip plugin 'Rx':Illegal division by zero at lib/Benchmark/Perl/Formance/Plugin/Rx.pm line 97.
# Run RxMicro...
# Run Shootout::fasta...
# Run Shootout::regexdna...
# Run Shootout::binarytrees...
# Run Shootout::revcomp...
# Run Shootout::nbody...
# Run Shootout::spectralnorm...
# 
# perlformance.perl5.DPath.dpath                        : 0.045026
# perlformance.perl5.Fib                                : 0.016312
# perlformance.perl5.FibOO                              : 0.023705
# perlformance.perl5.MatrixReal.det.005                 : 0.070336
# perlformance.perl5.MatrixReal.det_LR.005              : 0.064723
# perlformance.perl5.MatrixReal.inverse.005             : 0.240136
# perlformance.perl5.MatrixReal.invert_LR.005           : 0.239378
# perlformance.perl5.MatrixReal.matrix_squared.005      : 0.062065
# perlformance.perl5.MatrixReal.matrix_times_itself.005 : 0.047368
# perlformance.perl5.MatrixReal.to_negative_one.005     : 0.285412
# perlformance.perl5.Mem.allocate                       : 0.111916
# perlformance.perl5.Mem.copy                           : 0.260367
# perlformance.perl5.Prime.math_primality               : 0.002011
# perlformance.perl5.RxMicro.code-literal               : 0.247660
# perlformance.perl5.RxMicro.code-runtime               : 0.135162
# perlformance.perl5.RxMicro.precompile-access          : 0.293315
# perlformance.perl5.RxMicro.runtime-compile            : 0.344233
# perlformance.perl5.RxMicro.runtime-compile-nocache    : 0.413617
# perlformance.perl5.Shootout.binarytrees               : 0.106869
# perlformance.perl5.Shootout.fasta                     : 0.063299
# perlformance.perl5.Shootout.nbody                     : 0.031966
# perlformance.perl5.Shootout.spectralnorm              : 0.098973
t/samplerun.t .......... ok
All tests successful.
Files=6, Tests=21,  5 wallclock secs ( 0.03 usr  0.00 sys +  5.03 cusr  0.32 csys =  5.38 CPU)
Result: PASS

------------------------------
PREREQUISITES
------------------------------

Prerequisite modules loaded:

requires:

    Module                Need Have    
    --------------------- ---- --------
    Config::Perl::V       0    0.32    
    Data::DPath           0    0.58    
    Data::Structure::Util 0    0.16    
    Data::YAML::Writer    0    0.0.7   
    Devel::Platform::Info 0    1.00    
    JSON                  0    4.03    
    List::Util            0    1.58    
    Math::MatrixReal      0    2.13    
    Math::Primality       0    0.08    
    Module::Pluggable     0    5.2     
    Module::Runtime       0    0.016   
    Sys::Hostname         0    1.23    
    Sys::Info             0    0.7811  

build_requires:

    Module                Need Have    
    --------------------- ---- --------
    Data::YAML::Reader    0    0.0.7   
    ExtUtils::MakeMaker   0    7.62    
    File::Spec            0    3.78    
    IO::Handle            0    1.48    
    IPC::Open3            0    1.21    
    Test::More            0.88 1.302186

configure_requires:

    Module                Need Have    
    --------------------- ---- --------
    ExtUtils::MakeMaker   0    7.62    


------------------------------
ENVIRONMENT AND OTHER CONTEXT
------------------------------

Environment variables:

    LANG = en_US.UTF-8
    PATH = /usr/local/bin:/usr/bin:/bin:/usr/local/sbin:/usr/sbin:/sbin:/home/cpansand/bin/linux-gnu:/home/cpansand/bin/sh:/home/cpansand/bin:/usr/games:/home/cpansand/devel:/home/eserte/src/srezic-misc/scripts
    PERL5LIB = /home/cpansand/.local/share/.cpan/build/2021091714/Math-Primality-0.08-3/blib/arch:/home/cpansand/.local/share/.cpan/build/2021091714/Math-Primality-0.08-3/blib/lib:/home/cpansand/.local/share/.cpan/build/2021091714/Math-MatrixReal-2.13-3/blib/arch:/home/cpansand/.local/share/.cpan/build/2021091714/Math-MatrixReal-2.13-3/blib/lib:/home/cpansand/.local/share/.cpan/build/2021091714/Data-YAML-0.0.7-3/blib/arch:/home/cpansand/.local/share/.cpan/build/2021091714/Data-YAML-0.0.7-3/blib/lib:/home/cpansand/.local/share/.cpan/build/2021091714/Data-Structure-Util-0.16-3/blib/arch:/home/cpansand/.local/share/.cpan/build/2021091714/Data-Structure-Util-0.16-3/blib/lib:/home/cpansand/.local/share/.cpan/build/2021091714/Data-DPath-0.58-3/blib/arch:/home/cpansand/.local/share/.cpan/build/2021091714/Data-DPath-0.58-3/blib/lib:/home/cpansand/.local/share/.cpan/build/2021091714/Iterator-Util-0.02-3/blib/arch:/home/cpansand/.local/share/.cpan/build/2021091714/Iterator-Util-0.02-3/blib/lib:/home/cpansand/.local/share/.cpan/build/2021091714/Iterator-0.03-3/blib/arch:/home/cpansand/.local/share/.cpan/build/2021091714/Iterator-0.03-3/blib/lib
    PERL5OPT = 
    PERL5_CPANPLUS_IS_RUNNING = 27677
    PERL5_CPAN_IS_RUNNING = 27677
    PERL5_CPAN_IS_RUNNING_IN_RECURSION = 26002,27677
    PERLDOC = -MPod::Perldoc::ToTextOverstrike
    PERL_BATCH = yes
    PERL_CANARY_STABILITY_NOPROMPT = 1
    PERL_CPAN_REPORTER_CONFIG = /var/tmp/cpansmoker-1023/2021091714/cpanreporter_000_config.ini
    PERL_EXTUTILS_AUTOINSTALL = --defaultdeps
    PERL_USE_UNSAFE_INC = 1
    SHELL = /usr/bin/zsh
    TERM = screen
    TMPDIR = /var/tmp/cpansmoker-1023/2021091714

Perl special variables (and OS-specific diagnostics, for MSWin32):

    $^X = /opt/perl-5.32.0t/bin/perl
    $UID/$EUID = 1023 / 1023
    $GID = 1023 1023
    $EGID = 1023 1023

Perl module toolchain versions installed:

    Module              Have    
    ------------------- --------
    CPAN                2.27    
    CPAN::Meta          2.150010
    Cwd                 3.78    
    ExtUtils::CBuilder  0.280234
    ExtUtils::Command   7.62    
    ExtUtils::Install   2.14    
    ExtUtils::MakeMaker 7.62    
    ExtUtils::Manifest  1.72    
    ExtUtils::ParseXS   3.40    
    File::Spec          3.78    
    JSON                4.03    
    JSON::PP            4.04    
    Module::Build       0.4231  
    Module::Signature   n/a     
    Parse::CPAN::Meta   2.150010
    Test::Harness       3.42    
    Test::More          1.302186
    YAML                1.30    
    YAML::Syck          1.34    
    version             0.9924  


--

Summary of my perl5 (revision 5 version 32 subversion 0) configuration:
   
  Platform:
    osname=linux
    osvers=4.15.0-154-generic
    archname=x86_64-linux-thread-multi
    uname='linux cloud6.bbbike.org 4.15.0-154-generic #161-ubuntu smp fri jul 30 13:04:17 utc 2021 x86_64 x86_64 x86_64 gnulinux '
    config_args='-ds -e -Dprefix=/opt/perl-5.32.0t -Dusethreads -Dcf_email=srezic@cpan.org'
    hint=recommended
    useposix=true
    d_sigaction=define
    useithreads=define
    usemultiplicity=define
    use64bitint=define
    use64bitall=define
    uselongdouble=undef
    usemymalloc=n
    default_inc_excludes_dot=define
    bincompat5005=undef
  Compiler:
    cc='cc'
    ccflags ='-D_REENTRANT -D_GNU_SOURCE -fwrapv -fno-strict-aliasing -pipe -fstack-protector-strong -I/usr/local/include -D_LARGEFILE_SOURCE -D_FILE_OFFSET_BITS=64'
    optimize='-O2'
    cppflags='-D_REENTRANT -D_GNU_SOURCE -fwrapv -fno-strict-aliasing -pipe -fstack-protector-strong -I/usr/local/include'
    ccversion=''
    gccversion='7.5.0'
    gccosandvers=''
    intsize=4
    longsize=8
    ptrsize=8
    doublesize=8
    byteorder=12345678
    doublekind=3
    d_longlong=define
    longlongsize=8
    d_longdbl=define
    longdblsize=16
    longdblkind=3
    ivtype='long'
    ivsize=8
    nvtype='double'
    nvsize=8
    Off_t='off_t'
    lseeksize=8
    alignbytes=8
    prototype=define
  Linker and Libraries:
    ld='cc'
    ldflags =' -fstack-protector-strong -L/usr/local/lib'
    libpth=/usr/local/lib /usr/lib/gcc/x86_64-linux-gnu/7/include-fixed /usr/include/x86_64-linux-gnu /usr/lib /lib/x86_64-linux-gnu /lib/../lib /usr/lib/x86_64-linux-gnu /usr/lib/../lib /lib
    libs=-lpthread -lnsl -lgdbm -ldb -ldl -lm -lcrypt -lutil -lc
    perllibs=-lpthread -lnsl -ldl -lm -lcrypt -lutil -lc
    libc=libc-2.27.so
    so=so
    useshrplib=false
    libperl=libperl.a
    gnulibc_version='2.27'
  Dynamic Linking:
    dlsrc=dl_dlopen.xs
    dlext=so
    d_dlsymun=undef
    ccdlflags='-Wl,-E'
    cccdlflags='-fPIC'
    lddlflags='-shared -O2 -L/usr/local/lib -fstack-protector-strong'


Characteristics of this binary (from libperl): 
  Compile-time options:
    HAS_TIMES
    MULTIPLICITY
    PERLIO_LAYERS
    PERL_COPY_ON_WRITE
    PERL_DONT_CREATE_GVSV
    PERL_IMPLICIT_CONTEXT
    PERL_MALLOC_WRAP
    PERL_OP_PARENT
    PERL_PRESERVE_IVUV
    USE_64_BIT_ALL
    USE_64_BIT_INT
    USE_ITHREADS
    USE_LARGE_FILES
    USE_LOCALE
    USE_LOCALE_COLLATE
    USE_LOCALE_CTYPE
    USE_LOCALE_NUMERIC
    USE_LOCALE_TIME
    USE_PERLIO
    USE_PERL_ATOF
    USE_REENTRANT_API
    USE_THREAD_SAFE_LOCALE
  Locally applied patches:
    Devel::PatchPerl 2.08
  Built under linux
  Compiled at Sep  5 2021 13:34:49
  %ENV:
    PERL5LIB="/home/cpansand/.local/share/.cpan/build/2021091714/Math-Primality-0.08-3/blib/arch:/home/cpansand/.local/share/.cpan/build/2021091714/Math-Primality-0.08-3/blib/lib:/home/cpansand/.local/share/.cpan/build/2021091714/Math-MatrixReal-2.13-3/blib/arch:/home/cpansand/.local/share/.cpan/build/2021091714/Math-MatrixReal-2.13-3/blib/lib:/home/cpansand/.local/share/.cpan/build/2021091714/Data-YAML-0.0.7-3/blib/arch:/home/cpansand/.local/share/.cpan/build/2021091714/Data-YAML-0.0.7-3/blib/lib:/home/cpansand/.local/share/.cpan/build/2021091714/Data-Structure-Util-0.16-3/blib/arch:/home/cpansand/.local/share/.cpan/build/2021091714/Data-Structure-Util-0.16-3/blib/lib:/home/cpansand/.local/share/.cpan/build/2021091714/Data-DPath-0.58-3/blib/arch:/home/cpansand/.local/share/.cpan/build/2021091714/Data-DPath-0.58-3/blib/lib:/home/cpansand/.local/share/.cpan/build/2021091714/Iterator-Util-0.02-3/blib/arch:/home/cpansand/.local/share/.cpan/build/2021091714/Iterator-Util-0.02-3/blib/lib:/home/cpansand/.local/share/.cpan/build/2021091714/Iterator-0.03-3/blib/arch:/home/cpansand/.local/share/.cpan/build/2021091714/Iterator-0.03-3/blib/lib"
    PERL5OPT=""
    PERL5_CPANPLUS_IS_RUNNING="27677"
    PERL5_CPAN_IS_RUNNING="27677"
    PERL5_CPAN_IS_RUNNING_IN_RECURSION="26002,27677"
    PERLDOC="-MPod::Perldoc::ToTextOverstrike"
    PERL_BATCH="yes"
    PERL_CANARY_STABILITY_NOPROMPT="1"
    PERL_CPAN_REPORTER_CONFIG="/var/tmp/cpansmoker-1023/2021091714/cpanreporter_000_config.ini"
    PERL_EXTUTILS_AUTOINSTALL="--defaultdeps"
    PERL_USE_UNSAFE_INC="1"
  @INC:
    /home/cpansand/.local/share/.cpan/build/2021091714/Math-Primality-0.08-3/blib/arch
    /home/cpansand/.local/share/.cpan/build/2021091714/Math-Primality-0.08-3/blib/lib
    /home/cpansand/.local/share/.cpan/build/2021091714/Math-MatrixReal-2.13-3/blib/arch
    /home/cpansand/.local/share/.cpan/build/2021091714/Math-MatrixReal-2.13-3/blib/lib
    /home/cpansand/.local/share/.cpan/build/2021091714/Data-YAML-0.0.7-3/blib/arch
    /home/cpansand/.local/share/.cpan/build/2021091714/Data-YAML-0.0.7-3/blib/lib
    /home/cpansand/.local/share/.cpan/build/2021091714/Data-Structure-Util-0.16-3/blib/arch
    /home/cpansand/.local/share/.cpan/build/2021091714/Data-Structure-Util-0.16-3/blib/lib
    /home/cpansand/.local/share/.cpan/build/2021091714/Data-DPath-0.58-3/blib/arch
    /home/cpansand/.local/share/.cpan/build/2021091714/Data-DPath-0.58-3/blib/lib
    /home/cpansand/.local/share/.cpan/build/2021091714/Iterator-Util-0.02-3/blib/arch
    /home/cpansand/.local/share/.cpan/build/2021091714/Iterator-Util-0.02-3/blib/lib
    /home/cpansand/.local/share/.cpan/build/2021091714/Iterator-0.03-3/blib/arch
    /home/cpansand/.local/share/.cpan/build/2021091714/Iterator-0.03-3/blib/lib
    /opt/perl-5.32.0t/lib/site_perl/5.32.0/x86_64-linux-thread-multi
    /opt/perl-5.32.0t/lib/site_perl/5.32.0
    /opt/perl-5.32.0t/lib/5.32.0/x86_64-linux-thread-multi
    /opt/perl-5.32.0t/lib/5.32.0
    .