Report for Sub-Exporter-GlobExporter-0.003

Back
From: metabase:user:dbfd798e-cbbe-11e2-b882-9c504e4df5df
Subject: PASS Sub-Exporter-GlobExporter-0.003 v5.14.4 GNU/Linux
Date: 2013-06-27T20:25:34Z

This distribution has been tested as part of the CPAN Testers
project, supporting the Perl programming language.  See
http://wiki.cpantesters.org/ for more information or email
questions to cpan-testers-discuss@perl.org


--
Dear Ricardo SIGNES,

This is a computer-generated report for Sub-Exporter-GlobExporter-0.003
on perl 5.14.4, created by CPAN-Reporter-1.2010.

Thank you for uploading your work to CPAN.  Congratulations!
All tests were successful.

Sections of this report:

    * Tester comments
    * Program output
    * Prerequisites
    * Environment and other context

------------------------------
TESTER COMMENTS
------------------------------

Additional comments from tester:

none provided

------------------------------
PROGRAM OUTPUT
------------------------------

Output from '/usr/bin/make test':

PERL_DL_NONLAZY=1 /home/perl2/perl5/perlbrew/perls/perl-5.14.4/bin/perl "-MExtUtils::Command::MM" "-e" "test_harness(0, 'blib/lib', 'blib/arch')" t/*.t
t/00-compile.t ................ ok
# 
# 
# Generated by Dist::Zilla::Plugin::ReportVersions::Tiny v1.08
# perl: 5.014004 (wanted any version) on linux from /home/perl2/perl5/perlbrew/perls/perl-5.14.4/bin/perl
# 
# ExtUtils::MakeMaker                           => 6.68       (want 6.30)   
# File::Find                                    => 1.19       (want any version)
# File::Temp                                    => 0.2301     (want any version)
# Scalar::Util                                  => 1.23       (want any version)
# Sub::Exporter                                 => 0.986      (want any version)
# Test::More                                    => 0.98       (want 0.96)   
# Test::Pod                                     => 1.48       (want 1.41)   
# strict                                        => 1.04       (want any version)
# version                                       => 0.88       (want 0.9901) 
# warnings                                      => 1.12       (want any version)
# 
# Thanks for using my code.  I hope it works for you.
# If not, please try and include this output in the bug report.
# That will help me reproduce the issue and solve your problem.
# 
t/000-report-versions-tiny.t .. ok
t/export.t .................... ok
All tests successful.
Files=3, Tests=10,  1 wallclock secs ( 0.04 usr  0.06 sys +  0.27 cusr  0.30 csys =  0.67 CPU)
Result: PASS

------------------------------
PREREQUISITES
------------------------------

Prerequisite modules loaded:

requires:

    Module              Need Have  
    ------------------- ---- ------
    Scalar::Util        0    1.23  
    strict              0    1.04  
    Sub::Exporter       0    0.986 
    warnings            0    1.12  

build_requires:

    Module              Need Have  
    ------------------- ---- ------
    File::Find          0    1.19  
    File::Temp          0    0.2301
    Test::More          0.96 0.98  

configure_requires:

    Module              Need Have  
    ------------------- ---- ------
    ExtUtils::MakeMaker 6.30 6.68  


------------------------------
ENVIRONMENT AND OTHER CONTEXT
------------------------------

Environment variables:

    LANG = en_US.UTF-8
    PATH = /home/perl2/perl5/perlbrew/bin:/home/perl2/perl5/perlbrew/perls/perl-5.14.4/bin:/usr/local/sbin:/usr/local/bin:/usr/sbin:/usr/bin:/sbin:/bin
    PERL5LIB = 
    PERL5OPT = 
    PERL5_CPANPLUS_IS_RUNNING = 22062
    PERL5_CPAN_IS_RUNNING = 22062
    PERLBREW_BASHRC_VERSION = 0.64
    PERLBREW_HOME = /home/perl2/.perlbrew
    PERLBREW_MANPATH = /home/perl2/perl5/perlbrew/perls/perl-5.14.4/man
    PERLBREW_PATH = /home/perl2/perl5/perlbrew/bin:/home/perl2/perl5/perlbrew/perls/perl-5.14.4/bin
    PERLBREW_PERL = perl-5.14.4
    PERLBREW_ROOT = /home/perl2/perl5/perlbrew
    PERLBREW_VERSION = 0.64
    SHELL = /bin/bash
    TERM = screen-bce

Perl special variables (and OS-specific diagnostics, for MSWin32):

    $^X = /home/perl2/perl5/perlbrew/perls/perl-5.14.4/bin/perl
    $UID/$EUID = 1003 / 1003
    $GID = 1003 1003
    $EGID = 1003 1003

Perl module toolchain versions installed:

    Module              Have    
    ------------------- --------
    CPAN                2.00    
    CPAN::Meta          2.112621
    Cwd                 3.40    
    ExtUtils::CBuilder  0.280205
    ExtUtils::Command   1.17    
    ExtUtils::Install   1.56    
    ExtUtils::MakeMaker 6.68    
    ExtUtils::Manifest  1.60    
    ExtUtils::ParseXS   2.2210  
    File::Spec          3.40    
    JSON                2.59    
    JSON::PP            2.27200 
    Module::Build       0.4005  
    Module::Signature   0.73    
    Parse::CPAN::Meta   1.4404  
    Test::Harness       3.28    
    Test::More          0.98    
    YAML                0.84    
    YAML::Syck          1.27    
    version             0.88    


--

Summary of my perl5 (revision 5 version 14 subversion 4) configuration:
   
  Platform:
    osname=linux, osvers=3.8.0-25-generic, archname=x86_64-linux
    uname='linux cthomas2 3.8.0-25-generic #37-ubuntu smp thu jun 6 20:47:07 utc 2013 x86_64 x86_64 x86_64 gnulinux '
    config_args='-de -Dprefix=/home/perl2/perl5/perlbrew/perls/perl-5.14.4 -Aeval:scriptdir=/home/perl2/perl5/perlbrew/perls/perl-5.14.4/bin'
    hint=recommended, useposix=true, d_sigaction=define
    useithreads=undef, usemultiplicity=undef
    useperlio=define, d_sfio=undef, uselargefiles=define, usesocks=undef
    use64bitint=define, use64bitall=define, uselongdouble=undef
    usemymalloc=n, bincompat5005=undef
  Compiler:
    cc='cc', ccflags ='-fno-strict-aliasing -pipe -fstack-protector -I/usr/local/include -D_LARGEFILE_SOURCE -D_FILE_OFFSET_BITS=64',
    optimize='-O2',
    cppflags='-fno-strict-aliasing -pipe -fstack-protector -I/usr/local/include'
    ccversion='', gccversion='4.7.3', gccosandvers=''
    intsize=4, longsize=8, ptrsize=8, doublesize=8, byteorder=12345678
    d_longlong=define, longlongsize=8, d_longdbl=define, longdblsize=16
    ivtype='long', ivsize=8, nvtype='double', nvsize=8, Off_t='off_t', lseeksize=8
    alignbytes=8, prototype=define
  Linker and Libraries:
    ld='cc', ldflags =' -fstack-protector -L/usr/local/lib'
    libpth=/usr/local/lib /lib/x86_64-linux-gnu /lib/../lib /usr/lib/x86_64-linux-gnu /usr/lib/../lib /lib /usr/lib
    libs=-lnsl -ldl -lm -lcrypt -lutil -lc
    perllibs=-lnsl -ldl -lm -lcrypt -lutil -lc
    libc=, so=so, useshrplib=false, libperl=libperl.a
    gnulibc_version='2.17'
  Dynamic Linking:
    dlsrc=dl_dlopen.xs, dlext=so, d_dlsymun=undef, ccdlflags='-Wl,-E'
    cccdlflags='-fPIC', lddlflags='-shared -O2 -L/usr/local/lib -fstack-protector'


Characteristics of this binary (from libperl): 
  Compile-time options: PERL_DONT_CREATE_GVSV PERL_MALLOC_WRAP
                        PERL_PRESERVE_IVUV USE_64_BIT_ALL USE_64_BIT_INT
                        USE_LARGE_FILES USE_PERLIO USE_PERL_ATOF
  Built under linux
  Compiled at Jun 27 2013 14:36:03
  %ENV:
    PERL5LIB=""
    PERL5OPT=""
    PERL5_CPANPLUS_IS_RUNNING="22062"
    PERL5_CPAN_IS_RUNNING="22062"
    PERLBREW_BASHRC_VERSION="0.64"
    PERLBREW_HOME="/home/perl2/.perlbrew"
    PERLBREW_MANPATH="/home/perl2/perl5/perlbrew/perls/perl-5.14.4/man"
    PERLBREW_PATH="/home/perl2/perl5/perlbrew/bin:/home/perl2/perl5/perlbrew/perls/perl-5.14.4/bin"
    PERLBREW_PERL="perl-5.14.4"
    PERLBREW_ROOT="/home/perl2/perl5/perlbrew"
    PERLBREW_VERSION="0.64"
  @INC:
    /home/perl2/perl5/perlbrew/perls/perl-5.14.4/lib/site_perl/5.14.4/x86_64-linux
    /home/perl2/perl5/perlbrew/perls/perl-5.14.4/lib/site_perl/5.14.4
    /home/perl2/perl5/perlbrew/perls/perl-5.14.4/lib/5.14.4/x86_64-linux
    /home/perl2/perl5/perlbrew/perls/perl-5.14.4/lib/5.14.4
    .