MooseX-WithCache v0.01007 Perl 5 v5.37.6 x86_64-linux
- Status
- Pass
- From
- Andreas J. König (ANDK)
- Dist
-
MooseX-WithCache v0.01007
- Platform
- Perl 5 v5.37.6 x86_64-linux
- Date
- 2022-11-30 11:32:50
- ID
- b8dbfe7e-70a2-11ed-9331-2f451659f48f
This distribution has been tested as part of the CPAN Testers
project, supporting the Perl programming language. See
http://wiki.cpantesters.org/ for more information or email
questions to cpan-testers-discuss@perl.org
--
Dear Robin Clarke,
This is a computer-generated report for MooseX-WithCache-0.01007
on perl 5.37.6, created by CPAN-Reporter-1.2018.
Thank you for uploading your work to CPAN. Congratulations!
All tests were successful.
Sections of this report:
* Tester comments
* Program output
* Prerequisites
* Environment and other context
------------------------------
TESTER COMMENTS
------------------------------
Additional comments from tester:
this report is from an automated smoke testing program
and was not reviewed by a human for accuracy
------------------------------
PROGRAM OUTPUT
------------------------------
Output from '/usr/bin/make test':
PERL_DL_NONLAZY=1 "/tmp/basesmoker-reloperl-lm5t/bin/perl" "-MExtUtils::Command::MM" "-MTest::Harness" "-e" "undef *Test::Harness::Switches; test_harness(0, 'inc', 'blib/lib', 'blib/arch')" t/*.t t/*/*.t
t/00_compile.t ....... ok
t/02_memcached.t ..... skipped: no memcached server found
must specify either 'datastore' hashref or 'global' flag at /home/sand/src/perl/repoperls/installed-perls/host/k93focal/v5.37.6/b254/lib/site_perl/5.37.6/CHI/Driver/Memory.pm line 34.
CHI::Driver::Memory::BUILD(CHI::Driver::Memory__WITH__CHI::Driver::Role::Universal=HASH(0x55f665a4e3b0), HASH(0x55f665abe0b0)) called at (eval 275) line 508
CHI::Driver::Memory__WITH__CHI::Driver::Role::Universal::new("CHI::Driver::Memory__WITH__CHI::Driver::Role::Universal", "chi_root_class", "CHI", "driver_class", "CHI::Driver::Memory") called at (eval 274) line 56
CHI::Driver::Memory::new("CHI::Driver::Memory__WITH__CHI::Driver::Role::Universal", "chi_root_class", "CHI", "driver_class", "CHI::Driver::Memory") called at /home/sand/src/perl/repoperls/installed-perls/host/k93focal/v5.37.6/b254/lib/site_perl/5.37.6/CHI.pm line 151
CHI::new("CHI", "driver", "Memory") called at t/03_chi.t line 29
t/03_chi.t ........... ok
t/04_fastmmap.t ...... ok
t/05_filecache.t ..... ok
t/99_pod-coverage.t .. skipped: Enable TEST_POD environment variable to test POD
t/99_pod.t ........... skipped: Enable TEST_POD environment variable to test POD
All tests successful.
Files=7, Tests=43, 1 wallclock secs ( 0.03 usr 0.01 sys + 1.52 cusr 0.14 csys = 1.70 CPU)
Result: PASS
------------------------------
PREREQUISITES
------------------------------
Prerequisite modules loaded:
requires:
Module Need Have
--------------------------- ----- --------
Cache::FileCache 0 0
Cache::Memcached 0 1.30
Data::Dumper 0 2.187
Digest::MD5 0 2.58
Moose 0.59 2.2201
MooseX::Role::Parameterized 0 1.11
perl 5.008 5.037006
build_requires:
Module Need Have
--------------------------- ----- --------
ExtUtils::MakeMaker 6.42 7.64
IO::Socket::INET 0 1.51
Test::Exception 0 0.43
Test::More 0 1.302191
configure_requires:
Module Need Have
--------------------------- ----- --------
ExtUtils::MakeMaker 6.42 7.64
------------------------------
ENVIRONMENT AND OTHER CONTEXT
------------------------------
Environment variables:
AUTOMATED_TESTING = 1
LANG = en_US.UTF-8
PATH = /home/sand/bin:/usr/local/bin:/usr/local/sbin:/usr/sbin:/usr/bin:/sbin:/bin:/usr/games:/usr/local/games:/snap/bin:/usr/local/perl/bin:/usr/X11/bin
PERL = /tmp/basesmoker-reloperl-lm5t/bin/perl
PERL5LIB =
PERL5OPT =
PERL5_CPANPLUS_IS_RUNNING = 2497929
PERL5_CPAN_IS_RUNNING = 2497929
PERL_CANARY_STABILITY_NOPROMPT = 1
PERL_MM_USE_DEFAULT = 1
PERL_USE_UNSAFE_INC = 1
SHELL = /usr/bin/zsh
TERM = screen
Perl special variables (and OS-specific diagnostics, for MSWin32):
$^X = /tmp/basesmoker-reloperl-lm5t/bin/perl
$UID/$EUID = 1005 / 1005
$GID = 1005 1005
$EGID = 1005 1005
Perl module toolchain versions installed:
Module Have
------------------- --------
CPAN 2.34
CPAN::Meta 2.150010
Cwd 3.86
ExtUtils::CBuilder 0.280238
ExtUtils::Command 7.64
ExtUtils::Install 2.20
ExtUtils::MakeMaker 7.64
ExtUtils::Manifest 1.73
ExtUtils::ParseXS 3.48
File::Spec 3.87
JSON 4.10
JSON::PP 4.12
Module::Build 0.4231
Module::Signature 0.88
Parse::CPAN::Meta 2.150010
Test::Harness 3.44
Test::More 1.302191
YAML 1.30
YAML::Syck 1.34
version 0.9929
--
Summary of my perl5 (revision 5 version 37 subversion 6) configuration:
Commit id: d569e7cc1171d70b4ea183bc7c257dcf50f0ab12
Platform:
osname=linux
osvers=5.4.0-132-generic
archname=x86_64-linux
uname='linux k93focal 5.4.0-132-generic #148-ubuntu smp mon oct 17 16:02:06 utc 2022 x86_64 x86_64 x86_64 gnulinux '
config_args='-Dprefix=/home/sand/src/perl/repoperls/installed-perls/host/k93focal/v5.37.6/b254 -Dmyhostname=k93focal -Dinstallusrbinperl=n -Uversiononly -Dusedevel -des -Ui_db -Dlibswanted=cl pthread socket inet nsl gdbm dbm malloc dl ld sun m crypt sec util c cposix posix ucb BSD gdbm_compat -Uuseithreads -Uuselongdouble -DEBUGGING=both'
hint=recommended
useposix=true
d_sigaction=define
useithreads=undef
usemultiplicity=undef
use64bitint=define
use64bitall=define
uselongdouble=undef
usemymalloc=n
default_inc_excludes_dot=define
Compiler:
cc='cc'
ccflags ='-fwrapv -DDEBUGGING -fno-strict-aliasing -pipe -fstack-protector-strong -I/usr/local/include -D_LARGEFILE_SOURCE -D_FILE_OFFSET_BITS=64'
optimize='-O2 -g'
cppflags='-fwrapv -DDEBUGGING -fno-strict-aliasing -pipe -fstack-protector-strong -I/usr/local/include'
ccversion=''
gccversion='9.4.0'
gccosandvers=''
intsize=4
longsize=8
ptrsize=8
doublesize=8
byteorder=12345678
doublekind=3
d_longlong=define
longlongsize=8
d_longdbl=define
longdblsize=16
longdblkind=3
ivtype='long'
ivsize=8
nvtype='double'
nvsize=8
Off_t='off_t'
lseeksize=8
alignbytes=8
prototype=define
Linker and Libraries:
ld='cc'
ldflags =' -fstack-protector-strong -L/usr/local/lib'
libpth=/usr/local/lib /usr/lib/x86_64-linux-gnu /usr/lib /usr/lib64
libs=-lpthread -lnsl -ldl -lm -lcrypt -lutil -lc
perllibs=-lpthread -lnsl -ldl -lm -lcrypt -lutil -lc
libc=libc-2.31.so
so=so
useshrplib=false
libperl=libperl.a
gnulibc_version='2.31'
Dynamic Linking:
dlsrc=dl_dlopen.xs
dlext=so
d_dlsymun=undef
ccdlflags='-Wl,-E'
cccdlflags='-fPIC'
lddlflags='-shared -O2 -g -L/usr/local/lib -fstack-protector-strong'
Characteristics of this binary (from libperl):
Compile-time options:
DEBUGGING
HAS_TIMES
PERLIO_LAYERS
PERL_COPY_ON_WRITE
PERL_DONT_CREATE_GVSV
PERL_HASH_FUNC_SIPHASH13
PERL_HASH_USE_SBOX32
PERL_MALLOC_WRAP
PERL_OP_PARENT
PERL_PRESERVE_IVUV
PERL_USE_DEVEL
PERL_USE_SAFE_PUTENV
USE_64_BIT_ALL
USE_64_BIT_INT
USE_LARGE_FILES
USE_LOCALE
USE_LOCALE_COLLATE
USE_LOCALE_CTYPE
USE_LOCALE_NUMERIC
USE_LOCALE_TIME
USE_PERLIO
USE_PERL_ATOF
Built under linux
Compiled at Nov 28 2022 12:48:00
%ENV:
PERL="/tmp/basesmoker-reloperl-lm5t/bin/perl"
PERL5LIB=""
PERL5OPT=""
PERL5_CPANPLUS_IS_RUNNING="2497929"
PERL5_CPAN_IS_RUNNING="2497929"
PERL_CANARY_STABILITY_NOPROMPT="1"
PERL_MM_USE_DEFAULT="1"
PERL_USE_UNSAFE_INC="1"
@INC:
/home/sand/src/perl/repoperls/installed-perls/host/k93focal/v5.37.6/b254/lib/site_perl/5.37.6/x86_64-linux
/home/sand/src/perl/repoperls/installed-perls/host/k93focal/v5.37.6/b254/lib/site_perl/5.37.6
/home/sand/src/perl/repoperls/installed-perls/host/k93focal/v5.37.6/b254/lib/5.37.6/x86_64-linux
/home/sand/src/perl/repoperls/installed-perls/host/k93focal/v5.37.6/b254/lib/5.37.6
.