Report for Text-VimColor-0.21

Back
From: metabase:user:30f0bd62-2aae-11df-837a-5e0a49663a4f
Subject: PASS Text-VimColor-0.21 v5.17.5 OpenBSD
Date: 2012-10-21T19:58:45Z

This distribution has been tested as part of the CPAN Testers
project, supporting the Perl programming language.  See
http://wiki.cpantesters.org/ for more information or email
questions to cpan-testers-discuss@perl.org


--
Dear Randy Stauner,

This is a computer-generated report for Text-VimColor-0.21
on perl 5.17.5, created by CPAN-Reporter-1.2006.

Thank you for uploading your work to CPAN.  Congratulations!
All tests were successful.

Sections of this report:

    * Tester comments
    * Program output
    * Prerequisites
    * Environment and other context

------------------------------
TESTER COMMENTS
------------------------------

Additional comments from tester:

this report is from an automated smoke testing program
and was not reviewed by a human for accuracy

------------------------------
PROGRAM OUTPUT
------------------------------

Output from '/usr/bin/make test':

Skip blib/lib/auto/share/dist/Text-VimColor/light.css (unchanged)
Skip blib/lib/auto/share/dist/Text-VimColor/mark.vim (unchanged)
Skip blib/lib/auto/share/dist/Text-VimColor/light.xsl (unchanged)
PERL_DL_NONLAZY=1 /home/sts/cpansmoke/perl-5.17.5/bin/perl5.17.5 "-MExtUtils::Command::MM" "-e" "test_harness(0, 'blib/lib', 'blib/arch')" t/*.t
t/00-compile.t ......... ok
# Prerequisite Report:
#   Version Module                 
#   ------- -----------------------
#      1.27 Carp                   
#      5.67 Exporter               
#   6.63_02 ExtUtils::MakeMaker    
#      2.25 File::Copy             
#      1.22 File::Find             
#      1.03 File::ShareDir         
#      0.04 File::ShareDir::Install
#   3.39_02 File::Spec::Functions  
#      0.22 File::Temp             
#      2.38 Getopt::Long           
#      1.16 IO::File               
#      1.13 IPC::Open3             
#      1.25 List::Util             
#      0.26 Path::Class            
#      1.07 Symbol                 
#      3.02 Term::ANSIColor        
#      0.98 Test::More             
#      1.07 strict                 
#      1.15 warnings               
t/00-report-prereqs.t .. ok
# vim --version
# 
# VIM - Vi IMproved 7.3 (2010 Aug 15, compiled Feb  7 2012 17:44:36)
# Included patches: 1-8, 11-20, 22-26, 28-34, 38-50, 52-62, 65-78, 80-84, 86, 88-94, 96-107, 109-112, 114-118, 120-124, 126-130, 132-135, 137-145, 147-154
# Compiled by naddy@i386.ports.openbsd.org
# Normal version without GUI.  Features included (+) or not (-):
# -arabic +autocmd -balloon_eval -browse +builtin_terms +byte_offset +cindent 
# -clientserver -clipboard +cmdline_compl +cmdline_hist +cmdline_info +comments 
# -conceal +cryptv +cscope +cursorbind +cursorshape +dialog_con +diff +digraphs 
# -dnd -ebcdic -emacs_tags +eval +ex_extra +extra_search -farsi +file_in_path 
# +find_in_path +float +folding -footer +fork() +gettext -hangul_input +iconv 
# +insert_expand +jumplist -keymap -langmap +libcall +linebreak +lispindent 
# +listcmds +localmap -lua +menu +mksession +modify_fname +mouse -mouseshape 
# -mouse_dec -mouse_gpm -mouse_jsbterm -mouse_netterm -mouse_sysmouse 
# +mouse_xterm +multi_byte +multi_lang -mzscheme +netbeans_intg -osfiletype 
# +path_extra -perl +persistent_undo +postscript +printer -profile -python 
# -python3 +quickfix +reltime -rightleft -ruby +scrollbind +signs +smartindent 
# -sniff +startuptime +statusline -sun_workshop +syntax +tag_binary 
# +tag_old_static -tag_any_white -tcl +terminfo +termresponse +textobjects +title
#  -toolbar +user_commands +vertsplit +virtualedit +visual +visualextra +viminfo 
# +vreplace +wildignore +wildmenu +windows +writebackup -X11 -xfontset -xim -xsmp
#  -xterm_clipboard -xterm_save 
#    system vimrc file: "$VIM/vimrc"
#      user vimrc file: "$HOME/.vimrc"
#       user exrc file: "$HOME/.exrc"
#   fall-back for $VIM: "/usr/local/share/vim"
# Compilation: cc -c -I. -Iproto -DHAVE_CONFIG_H   -I/usr/local/include  -O2 -pipe -D_FORTIFY_SOURCE=1      
# Linking: cc   -L/usr/local/lib -Wl,--as-needed -o vim             -lm  -lcurses -liconv -lintl -liconv                     
# 
t/000-vim-version.t .... ok
t/ansi.t ............... ok
t/compare-formats.t .... ok
Wide character in print at /home/sts/cpansmoke/perl-5.17.5/lib/5.17.5/Test/Builder.pm line 1759.
t/encoding.t ........... ok
t/html.t ............... ok
t/input_filename.t ..... ok
t/new.t ................ ok
t/override-options.t ... ok
t/share-dir.t .......... ok
t/tvctestsyn.t ......... ok
t/untie-std-handles.t .. ok
t/vim_let.t ............ ok
t/vim_options.t ........ ok
t/xml.t ................ skipped: XML::Parser module required for these tests.
All tests successful.

Test Summary Report
-------------------
t/encoding.t         (Wstat: 0 Tests: 6 Failed: 0)
  TODO passed:   1-3, 5
Files=16, Tests=121,  4 wallclock secs ( 0.14 usr  0.09 sys +  2.76 cusr  0.81 csys =  3.80 CPU)
Result: PASS

------------------------------
PREREQUISITES
------------------------------

Prerequisite modules loaded:

requires:

    Module                  Need Have   
    ----------------------- ---- -------
    Carp                    0    1.27   
    File::Copy              0    2.25   
    File::ShareDir          0    1.03   
    File::Temp              0    0.22   
    Getopt::Long            0    2.38   
    IO::File                0    1.16   
    IPC::Open3              0    1.13   
    Path::Class             0    0.26   
    strict                  0    1.07   
    Symbol                  0    1.07   
    Term::ANSIColor         1.03 3.02   
    warnings                0    1.15   

build_requires:

    Module                  Need Have   
    ----------------------- ---- -------
    Exporter                0    5.67   
    ExtUtils::MakeMaker     0    6.63_02
    File::Find              0    1.22   
    File::Spec::Functions   0    3.39_02
    List::Util              0    1.25   
    Path::Class             0.04 0.26   
    Test::More              0.88 0.98   

configure_requires:

    Module                  Need Have   
    ----------------------- ---- -------
    ExtUtils::MakeMaker     6.30 6.63_02
    File::ShareDir::Install 0.03 0.04   
    File::Temp              0    0.22   
    IO::File                0    1.16   
    IPC::Open3              0    1.13   
    strict                  0    1.07   
    warnings                0    1.15   


------------------------------
ENVIRONMENT AND OTHER CONTEXT
------------------------------

Environment variables:

    AUTOMATED_TESTING = 1
    PATH = /home/sts/bin:/bin:/sbin:/usr/bin:/usr/sbin:/usr/X11R6/bin:/usr/local/bin:/usr/local/sbin:/usr/games:.
    PERL5LIB = /home/sts/cpansmoke/perl-5.17.5/cpan/build/Path-Class-0.26-8EV5Lr/blib/arch:/home/sts/cpansmoke/perl-5.17.5/cpan/build/Path-Class-0.26-8EV5Lr/blib/lib:/home/sts/cpansmoke/perl-5.17.5/cpan/build/File-ShareDir-1.03-_hciTk/blib/arch:/home/sts/cpansmoke/perl-5.17.5/cpan/build/File-ShareDir-1.03-_hciTk/blib/lib:/home/sts/cpansmoke/perl-5.17.5/cpan/build/Class-Inspector-1.28-vxclGr/blib/arch:/home/sts/cpansmoke/perl-5.17.5/cpan/build/Class-Inspector-1.28-vxclGr/blib/lib:/home/sts/cpansmoke/perl-5.17.5/cpan/build/File-ShareDir-Install-0.04-T770Jz/blib/arch:/home/sts/cpansmoke/perl-5.17.5/cpan/build/File-ShareDir-Install-0.04-T770Jz/blib/lib
    PERL5OPT = 
    PERL5_CPANPLUS_IS_RUNNING = 20441
    PERL5_CPAN_IS_RUNNING = 20441
    PERL5_CPAN_IS_RUNNING_IN_RECURSION = 7479,20441
    PERL_CR_SMOKER_CURRENT = Text-VimColor-0.21
    PERL_EXTUTILS_AUTOINSTALL = --defaultdeps
    PERL_MM_USE_DEFAULT = 1
    SHELL = /usr/local/bin/bash
    TERM = screen
    TMPDIR = /home/sts/cpansmoke/tmp

Perl special variables (and OS-specific diagnostics, for MSWin32):

    $^X = /home/sts/cpansmoke/perl-5.17.5/bin/perl5.17.5
    $UID/$EUID = 1000 / 1000
    $GID = 10 10 0
    $EGID = 10 10 0

Perl module toolchain versions installed:

    Module              Have    
    ------------------- --------
    CPAN                1.9800  
    CPAN::Meta          2.120921
    Cwd                 3.39_02 
    ExtUtils::CBuilder  0.280209
    ExtUtils::Command   1.17    
    ExtUtils::Install   1.58    
    ExtUtils::MakeMaker 6.63_02 
    ExtUtils::Manifest  1.61    
    ExtUtils::ParseXS   3.18    
    File::Spec          3.39_02 
    JSON                2.53    
    JSON::PP            2.27200 
    Module::Build       0.4003  
    Module::Signature   n/a     
    Parse::CPAN::Meta   1.4404  
    Test::Harness       3.25_01 
    Test::More          0.98    
    YAML                n/a     
    YAML::Syck          n/a     
    version             0.9901  


--

Summary of my perl5 (revision 5 version 17 subversion 5) configuration:
   
  Platform:
    osname=openbsd, osvers=5.1, archname=OpenBSD.i386-openbsd-thread-multi
    uname='openbsd cpansmoke3 5.1 generic.mp#188 i386 '
    config_args='-des -Dusedevel -Dusethreads -Dprefix=/home/sts/cpansmoke/perl-5.17.5'
    hint=recommended, useposix=true, d_sigaction=define
    useithreads=define, usemultiplicity=define
    useperlio=define, d_sfio=undef, uselargefiles=define, usesocks=undef
    use64bitint=undef, use64bitall=undef, uselongdouble=undef
    usemymalloc=y, bincompat5005=undef
  Compiler:
    cc='cc', ccflags ='-pthread -fno-strict-aliasing -pipe -fstack-protector -I/usr/local/include',
    optimize='-O2',
    cppflags='-pthread -fno-strict-aliasing -pipe -fstack-protector -I/usr/local/include'
    ccversion='', gccversion='4.2.1 20070719 ', gccosandvers='openbsd5.1'
    intsize=4, longsize=4, ptrsize=4, doublesize=8, byteorder=1234
    d_longlong=define, longlongsize=8, d_longdbl=define, longdblsize=12
    ivtype='long', ivsize=4, nvtype='double', nvsize=8, Off_t='off_t', lseeksize=8
    alignbytes=4, prototype=define
  Linker and Libraries:
    ld='cc', ldflags ='-pthread -Wl,-E  -fstack-protector -L/usr/local/lib'
    libpth=/usr/local/lib /usr/lib
    libs=-lgdbm -lm -lutil -lc
    perllibs=-lm -lutil -lc
    libc=/usr/lib/libc.so.62.0, so=so, useshrplib=false, libperl=libperl.a
    gnulibc_version=''
  Dynamic Linking:
    dlsrc=dl_dlopen.xs, dlext=so, d_dlsymun=undef, ccdlflags=' '
    cccdlflags='-DPIC -fPIC ', lddlflags='-shared -fPIC  -L/usr/local/lib -fstack-protector'


Characteristics of this binary (from libperl): 
  Compile-time options: HAS_TIMES MULTIPLICITY MYMALLOC PERLIO_LAYERS
                        PERL_DONT_CREATE_GVSV PERL_IMPLICIT_CONTEXT
                        PERL_MALLOC_WRAP PERL_PRESERVE_IVUV PERL_USE_DEVEL
                        USE_ITHREADS USE_LARGE_FILES USE_LOCALE
                        USE_LOCALE_COLLATE USE_LOCALE_CTYPE
                        USE_LOCALE_NUMERIC USE_PERLIO USE_PERL_ATOF
                        USE_REENTRANT_API
  Built under openbsd
  Compiled at Oct 20 2012 19:34:26
  %ENV:
    PERL5LIB="/home/sts/cpansmoke/perl-5.17.5/cpan/build/Path-Class-0.26-8EV5Lr/blib/arch:/home/sts/cpansmoke/perl-5.17.5/cpan/build/Path-Class-0.26-8EV5Lr/blib/lib:/home/sts/cpansmoke/perl-5.17.5/cpan/build/File-ShareDir-1.03-_hciTk/blib/arch:/home/sts/cpansmoke/perl-5.17.5/cpan/build/File-ShareDir-1.03-_hciTk/blib/lib:/home/sts/cpansmoke/perl-5.17.5/cpan/build/Class-Inspector-1.28-vxclGr/blib/arch:/home/sts/cpansmoke/perl-5.17.5/cpan/build/Class-Inspector-1.28-vxclGr/blib/lib:/home/sts/cpansmoke/perl-5.17.5/cpan/build/File-ShareDir-Install-0.04-T770Jz/blib/arch:/home/sts/cpansmoke/perl-5.17.5/cpan/build/File-ShareDir-Install-0.04-T770Jz/blib/lib"
    PERL5OPT=""
    PERL5_CPANPLUS_IS_RUNNING="20441"
    PERL5_CPAN_IS_RUNNING="20441"
    PERL5_CPAN_IS_RUNNING_IN_RECURSION="7479,20441"
    PERL_CR_SMOKER_CURRENT="Text-VimColor-0.21"
    PERL_EXTUTILS_AUTOINSTALL="--defaultdeps"
    PERL_MM_USE_DEFAULT="1"
  @INC:
    /home/sts/cpansmoke/perl-5.17.5/cpan/build/Path-Class-0.26-8EV5Lr/blib/arch
    /home/sts/cpansmoke/perl-5.17.5/cpan/build/Path-Class-0.26-8EV5Lr/blib/lib
    /home/sts/cpansmoke/perl-5.17.5/cpan/build/File-ShareDir-1.03-_hciTk/blib/arch
    /home/sts/cpansmoke/perl-5.17.5/cpan/build/File-ShareDir-1.03-_hciTk/blib/lib
    /home/sts/cpansmoke/perl-5.17.5/cpan/build/Class-Inspector-1.28-vxclGr/blib/arch
    /home/sts/cpansmoke/perl-5.17.5/cpan/build/Class-Inspector-1.28-vxclGr/blib/lib
    /home/sts/cpansmoke/perl-5.17.5/cpan/build/File-ShareDir-Install-0.04-T770Jz/blib/arch
    /home/sts/cpansmoke/perl-5.17.5/cpan/build/File-ShareDir-Install-0.04-T770Jz/blib/lib
    /home/sts/cpansmoke/perl-5.17.5/lib/site_perl/5.17.5/OpenBSD.i386-openbsd-thread-multi
    /home/sts/cpansmoke/perl-5.17.5/lib/site_perl/5.17.5
    /home/sts/cpansmoke/perl-5.17.5/lib/5.17.5/OpenBSD.i386-openbsd-thread-multi
    /home/sts/cpansmoke/perl-5.17.5/lib/5.17.5
    .