Back
From: metabase:user:658b1998-6103-11e3-88d4-5cc416ff9feb
Subject: PASS PadWalker-1.98 v5.16.3 Mac OS X
Date: 2013-12-10T17:58:49Z
This distribution has been tested as part of the CPAN Testers
project, supporting the Perl programming language. See
http://wiki.cpantesters.org/ for more information or email
questions to cpan-testers-discuss@perl.org
--
Dear ROBIN,
This is a computer-generated report for PadWalker-1.98
on perl 5.16.3, created by App::cpanminus::reporter 0.10 (1.7001).
Thank you for uploading your work to CPAN. Congratulations!
All tests were successful.
Sections of this report:
* Tester comments
* Program output
* Prerequisites
* Environment and other context
------------------------------
TESTER COMMENTS
------------------------------
Additional comments from tester:
none provided
------------------------------
PROGRAM OUTPUT
------------------------------
Output from '':
Building and testing PadWalker-1.98
cp PadWalker.pm blib/lib/PadWalker.pm
/Users/jbolila/perl5/perlbrew/perls/16.3/bin/perl /Users/jbolila/perl5/perlbrew/perls/16.3/lib/5.16.3/ExtUtils/xsubpp -typemap /Users/jbolila/perl5/perlbrew/perls/16.3/lib/5.16.3/ExtUtils/typemap PadWalker.xs > PadWalker.xsc && mv PadWalker.xsc PadWalker.c
cc -c -fno-common -DPERL_DARWIN -fno-strict-aliasing -pipe -fstack-protector -I/usr/local/include -O3 -DVERSION=\"1.98\" -DXS_VERSION=\"1.98\" "-I/Users/jbolila/perl5/perlbrew/perls/16.3/lib/5.16.3/darwin-2level/CORE" PadWalker.c
Running Mkbootstrap for PadWalker ()
chmod 644 PadWalker.bs
rm -f blib/arch/auto/PadWalker/PadWalker.bundle
env MACOSX_DEPLOYMENT_TARGET=10.3 cc -bundle -undefined dynamic_lookup -L/usr/local/lib -fstack-protector PadWalker.o -o blib/arch/auto/PadWalker/PadWalker.bundle \
\
chmod 755 blib/arch/auto/PadWalker/PadWalker.bundle
cp PadWalker.bs blib/arch/auto/PadWalker/PadWalker.bs
chmod 644 blib/arch/auto/PadWalker/PadWalker.bs
Manifying blib/man3/PadWalker.0
PERL_DL_NONLAZY=1 /Users/jbolila/perl5/perlbrew/perls/16.3/bin/perl "-MExtUtils::Command::MM" "-e" "test_harness(0, 'blib/lib', 'blib/arch')" t/*.t
t/closure.t ... ok
t/dm.t ........ ok
t/foo.t ....... ok
t/our.t ....... ok
t/recurse.t ... ok
t/sub.t ....... ok
t/test.t ...... ok
t/tt.t ........ ok
t/var_name.t .. ok
All tests successful.
Files=9, Tests=81, 0 wallclock secs ( 0.03 usr 0.01 sys + 0.09 cusr 0.02 csys = 0.15 CPU)
Result: PASS
------------------------------
PREREQUISITES
------------------------------
Prerequisite modules loaded:
No requirements found
------------------------------
ENVIRONMENT AND OTHER CONTEXT
------------------------------
Environment variables:
LC_ALL = en_US.UTF-8
LC_CTYPE =
PATH = /Users/jbolila/.rvm/gems/ruby-1.9.3-p484/bin:/Users/jbolila/.rvm/gems/ruby-1.9.3-p484@global/bin:/Users/jbolila/.rvm/rubies/ruby-1.9.3-p484/bin:/Users/jbolila/.rvm/bin:/Users/jbolila/.perlbrew/libs/16.3@std/bin:/Users/jbolila/perl5/perlbrew/bin:/Users/jbolila/perl5/perlbrew/perls/16.3/bin:/usr/local/bin:/usr/bin:/bin:/usr/sbin:/sbin:/opt/X11/bin:/Users/jbolila/local/bin
PERL5LIB = /Users/jbolila/.perlbrew/libs/16.3@std/lib/perl5
PERLBREW_BASHRC_VERSION = 0.67
PERLBREW_HOME = /Users/jbolila/.perlbrew
PERLBREW_LIB = std
PERLBREW_MANPATH = /Users/jbolila/.perlbrew/libs/16.3@std/man:/Users/jbolila/perl5/perlbrew/perls/16.3/man
PERLBREW_PATH = /Users/jbolila/.perlbrew/libs/16.3@std/bin:/Users/jbolila/perl5/perlbrew/bin:/Users/jbolila/perl5/perlbrew/perls/16.3/bin
PERLBREW_PERL = 16.3
PERLBREW_ROOT = /Users/jbolila/perl5/perlbrew
PERLBREW_VERSION = 0.67
PERL_LOCAL_LIB_ROOT = /Users/jbolila/.perlbrew/libs/16.3@std
PERL_MB_OPT = --install_base /Users/jbolila/.perlbrew/libs/16.3@std
PERL_MM_OPT = INSTALL_BASE=/Users/jbolila/.perlbrew/libs/16.3@std
SHELL = /bin/bash
TERM = xterm-256color
TMPDIR = /var/folders/xk/bht5ztkn3l35wrfbr2cx6tqc0000gp/T/
Perl special variables (and OS-specific diagnostics, for MSWin32):
EGID = 20 20 503 12 61 402 401 100
EUID = 502
EXECUTABLE_NAME = /Users/jbolila/perl5/perlbrew/perls/16.3/bin/perl
GID = 20 20 503 12 61 402 401 100
UID = 502
Perl module toolchain versions installed:
Module Have
------------------- --------
CPAN 1.9800
CPAN::Meta 2.133380
Cwd 3.40
ExtUtils::CBuilder 0.280206
ExtUtils::Command 1.17
ExtUtils::Install 1.58
ExtUtils::MakeMaker 6.63_02
ExtUtils::Manifest 1.61
ExtUtils::ParseXS 3.16
File::Spec 3.40
JSON 2.90
JSON::PP 2.27200
Module::Build 0.4203
Module::Signature n/a
Parse::CPAN::Meta 1.4409
Test::Harness 3.30
Test::More 1.001002
YAML n/a
YAML::Syck n/a
version 0.9904
--
Summary of my perl5 (revision 5 version 16 subversion 3) configuration:
Platform:
osname=darwin, osvers=13.0.0, archname=darwin-2level
uname='darwin mini 13.0.0 darwin kernel version 13.0.0: thu sep 19 22:22:27 pdt 2013; root:xnu-2422.1.72~6release_x86_64 x86_64 '
config_args='-de -Dprefix=/Users/jbolila/perl5/perlbrew/perls/16.3 -Dman1dir=none -Dman3dir=none -Aeval:scriptdir=/Users/jbolila/perl5/perlbrew/perls/16.3/bin'
hint=recommended, useposix=true, d_sigaction=define
useithreads=undef, usemultiplicity=undef
useperlio=define, d_sfio=undef, uselargefiles=define, usesocks=undef
use64bitint=define, use64bitall=define, uselongdouble=undef
usemymalloc=n, bincompat5005=undef
Compiler:
cc='cc', ccflags ='-fno-common -DPERL_DARWIN -fno-strict-aliasing -pipe -fstack-protector -I/usr/local/include',
optimize='-O3',
cppflags='-fno-common -DPERL_DARWIN -fno-strict-aliasing -pipe -fstack-protector -I/usr/local/include'
ccversion='', gccversion='4.2.1 Compatible Apple LLVM 5.0 (clang-500.2.79)', gccosandvers=''
intsize=4, longsize=8, ptrsize=8, doublesize=8, byteorder=12345678
d_longlong=define, longlongsize=8, d_longdbl=define, longdblsize=16
ivtype='long', ivsize=8, nvtype='double', nvsize=8, Off_t='off_t', lseeksize=8
alignbytes=8, prototype=define
Linker and Libraries:
ld='env MACOSX_DEPLOYMENT_TARGET=10.3 cc', ldflags =' -fstack-protector -L/usr/local/lib'
libpth=/usr/local/lib /usr/lib
libs=-lgdbm -ldbm -ldl -lm -lutil -lc
perllibs=-ldl -lm -lutil -lc
libc=, so=dylib, useshrplib=false, libperl=libperl.a
gnulibc_version=''
Dynamic Linking:
dlsrc=dl_dlopen.xs, dlext=bundle, d_dlsymun=undef, ccdlflags=' '
cccdlflags=' ', lddlflags=' -bundle -undefined dynamic_lookup -L/usr/local/lib -fstack-protector'
Characteristics of this binary (from libperl):
Compile-time options: HAS_TIMES PERLIO_LAYERS PERL_DONT_CREATE_GVSV
PERL_MALLOC_WRAP PERL_PRESERVE_IVUV USE_64_BIT_ALL
USE_64_BIT_INT USE_LARGE_FILES USE_LOCALE
USE_LOCALE_COLLATE USE_LOCALE_CTYPE
USE_LOCALE_NUMERIC USE_PERLIO USE_PERL_ATOF
Built under darwin
Compiled at Dec 9 2013 18:30:15
%ENV:
PERL5LIB="/Users/jbolila/.perlbrew/libs/16.3@std/lib/perl5"
PERLBREW_BASHRC_VERSION="0.67"
PERLBREW_HOME="/Users/jbolila/.perlbrew"
PERLBREW_LIB="std"
PERLBREW_MANPATH="/Users/jbolila/.perlbrew/libs/16.3@std/man:/Users/jbolila/perl5/perlbrew/perls/16.3/man"
PERLBREW_PATH="/Users/jbolila/.perlbrew/libs/16.3@std/bin:/Users/jbolila/perl5/perlbrew/bin:/Users/jbolila/perl5/perlbrew/perls/16.3/bin"
PERLBREW_PERL="16.3"
PERLBREW_ROOT="/Users/jbolila/perl5/perlbrew"
PERLBREW_VERSION="0.67"
PERL_LOCAL_LIB_ROOT="/Users/jbolila/.perlbrew/libs/16.3@std"
PERL_MB_OPT="--install_base /Users/jbolila/.perlbrew/libs/16.3@std"
PERL_MM_OPT="INSTALL_BASE=/Users/jbolila/.perlbrew/libs/16.3@std"
@INC:
/Users/jbolila/.perlbrew/libs/16.3@std/lib/perl5/darwin-2level
/Users/jbolila/.perlbrew/libs/16.3@std/lib/perl5
/Users/jbolila/perl5/perlbrew/perls/16.3/lib/site_perl/5.16.3/darwin-2level
/Users/jbolila/perl5/perlbrew/perls/16.3/lib/site_perl/5.16.3
/Users/jbolila/perl5/perlbrew/perls/16.3/lib/5.16.3/darwin-2level
/Users/jbolila/perl5/perlbrew/perls/16.3/lib/5.16.3
.