App-JESP v0.016 Perl 5 v5.26.2 x86_64-linux-ld

Status
Pass
From
Slaven Rezić
Dist
App-JESP v0.016
Platform
Perl 5 v5.26.2 x86_64-linux-ld
Date
2021-04-22 16:35:17
ID
b8fb4876-a388-11eb-9d5e-39291f24ea8f
This distribution has been tested as part of the CPAN Testers
project, supporting the Perl programming language.  See
http://wiki.cpantesters.org/ for more information or email
questions to cpan-testers-discuss@perl.org


--
Dear Jerome Eteve,

This is a computer-generated report for App-JESP-0.016
on perl 5.26.2, created by CPAN-Reporter-1.2018.

Thank you for uploading your work to CPAN.  Congratulations!
All tests were successful.

Sections of this report:

    * Tester comments
    * Program output
    * Prerequisites
    * Environment and other context

------------------------------
TESTER COMMENTS
------------------------------

Additional comments from tester:

none provided

------------------------------
PROGRAM OUTPUT
------------------------------

Output from '/usr/bin/make test':

PERL_DL_NONLAZY=1 "/opt/perl-5.26.2D/bin/perl" "-MExtUtils::Command::MM" "-MTest::Harness" "-e" "undef *Test::Harness::Switches; test_harness(0, 'blib/lib', 'blib/arch')" t/*.t
t/build.t ............... ok
t/colors.t .............. ok
t/deploy.t .............. ok
t/deploy_mysql.t ........ skipped: could not find mysqld, please set appropriate PATH
t/deploy_mysqlpasswd.t .. skipped: could not find mysqld, please set appropriate PATH
t/deploy_pgsql.t ........ skipped: could not find postmaster, please set appropriate PATH or POSTGRES_HOME at /opt/perl-5.26.2D/lib/site_perl/5.26.2/Test/PostgreSQL.pm line 274.
t/deploy_script.t ....... ok
t/install.t ............. ok
# Warning: could not build Test::mysqld could not find mysqld, please set appropriate PATH
# Warning: could not build Test::PostgreSQL: could not find postmaster, please set appropriate PATH or POSTGRES_HOME at /opt/perl-5.26.2D/lib/site_perl/5.26.2/Test/PostgreSQL.pm line 274.
#  - could not find postmaster, please set appropriate PATH or POSTGRES_HOME
t/install_dbs.t ......... ok
t/plan.t ................ ok
t/plan_script.t ......... ok
t/pod-coverage.t ........ ok
All tests successful.
Files=12, Tests=68,  4 wallclock secs ( 0.03 usr  0.06 sys +  2.68 cusr  0.67 csys =  3.44 CPU)
Result: PASS

------------------------------
PREREQUISITES
------------------------------

Prerequisite modules loaded:

requires:

    Module              Need     Have      
    ------------------- -------- ----------
    App::Cmd            0.331    0.333     
    Data::Dumper        0        2.173     
    DBI                 1.636    1.643     
    DBIx::Simple        1.35     1.37      
    File::Slurp         0        9999.32   
    File::Spec          0        3.75      
    File::Which         1.21     1.24      
    IO::Interactive     1.022    1.023     
    IPC::Run            0        20200505.0
    JSON                0        4.03      
    Log::Any            1.040    1.709     
    Moose               2.1801   2.2015    
    SQL::Abstract       1.81     2.000001  
    String::ShellQuote  1.04     1.04      
    String::Truncate    1.100602 1.100602  
    Term::ANSIColor     3.01     5.01      

build_requires:

    Module              Need     Have      
    ------------------- -------- ----------
    Carp::Always        0.13     0.16      
    DBD::SQLite         1.50     1.66      
    ExtUtils::MakeMaker 0        7.62      
    File::Temp          0.2304   0.2311    
    File::Which         1.21     1.24      
    Test::Most          0.34     0.37      
    Test::Pod::Coverage 1.08     1.10      

configure_requires:

    Module              Need     Have      
    ------------------- -------- ----------
    ExtUtils::MakeMaker 0        7.62      


------------------------------
ENVIRONMENT AND OTHER CONTEXT
------------------------------

Environment variables:

    LANG = C
    PATH = /usr/local/bin:/usr/bin:/bin:/usr/local/sbin:/usr/sbin:/sbin:/home/cpansand/bin/linux-gnu:/home/cpansand/bin/sh:/home/cpansand/bin:/usr/games:/home/cpansand/devel:/home/eserte/src/srezic-misc/scripts
    PERL5LIB = 
    PERL5OPT = 
    PERL5_CPANPLUS_IS_RUNNING = 14248
    PERL5_CPAN_IS_RUNNING = 14248
    PERL5_CPAN_IS_RUNNING_IN_RECURSION = 7144,14248
    PERLDOC = -MPod::Perldoc::ToTextOverstrike
    PERL_BATCH = yes
    PERL_CANARY_STABILITY_NOPROMPT = 1
    PERL_CPAN_REPORTER_CONFIG = /var/tmp/cpansmoker-1023/2021042216/cpanreporter_000_config.ini
    PERL_EXTUTILS_AUTOINSTALL = --defaultdeps
    PERL_USE_UNSAFE_INC = 1
    SHELL = /usr/bin/zsh
    TERM = screen
    TMPDIR = /var/tmp/cpansmoker-1023/2021042216

Perl special variables (and OS-specific diagnostics, for MSWin32):

    $^X = /opt/perl-5.26.2D/bin/perl
    $UID/$EUID = 1023 / 1023
    $GID = 1023 1023
    $EGID = 1023 1023

Perl module toolchain versions installed:

    Module              Have    
    ------------------- --------
    CPAN                2.28    
    CPAN::Meta          2.150010
    Cwd                 3.75    
    ExtUtils::CBuilder  0.280236
    ExtUtils::Command   7.62    
    ExtUtils::Install   2.20    
    ExtUtils::MakeMaker 7.62    
    ExtUtils::Manifest  1.73    
    ExtUtils::ParseXS   3.35    
    File::Spec          3.75    
    JSON                4.03    
    JSON::PP            4.06    
    Module::Build       0.4231  
    Module::Signature   0.87    
    Parse::CPAN::Meta   2.150010
    Test::Harness       3.42    
    Test::More          1.302183
    YAML                1.30    
    YAML::Syck          1.34    
    version             0.9929  


--

Summary of my perl5 (revision 5 version 26 subversion 2) configuration:
   
  Platform:
    osname=linux
    osvers=4.19.0-5-amd64
    archname=x86_64-linux-ld
    uname='linux debian10 4.19.0-5-amd64 #1 smp debian 4.19.37-5+deb10u1 (2019-07-19) x86_64 gnulinux '
    config_args='-ds -e -Dprefix=/opt/perl-5.26.2D -Duselongdouble -Dcf_email=srezic@cpan.org'
    hint=recommended
    useposix=true
    d_sigaction=define
    useithreads=undef
    usemultiplicity=undef
    use64bitint=define
    use64bitall=define
    uselongdouble=define
    usemymalloc=n
    default_inc_excludes_dot=define
    bincompat5005=undef
  Compiler:
    cc='cc'
    ccflags ='-fwrapv -fno-strict-aliasing -pipe -fstack-protector-strong -I/usr/local/include -D_LARGEFILE_SOURCE -D_FILE_OFFSET_BITS=64'
    optimize='-O2'
    cppflags='-fwrapv -fno-strict-aliasing -pipe -fstack-protector-strong -I/usr/local/include'
    ccversion=''
    gccversion='8.3.0'
    gccosandvers=''
    intsize=4
    longsize=8
    ptrsize=8
    doublesize=8
    byteorder=12345678
    doublekind=3
    d_longlong=define
    longlongsize=8
    d_longdbl=define
    longdblsize=16
    longdblkind=3
    ivtype='long'
    ivsize=8
    nvtype='long double'
    nvsize=16
    Off_t='off_t'
    lseeksize=8
    alignbytes=16
    prototype=define
  Linker and Libraries:
    ld='cc'
    ldflags =' -fstack-protector-strong -L/usr/local/lib'
    libpth=/usr/local/lib /usr/lib/gcc/x86_64-linux-gnu/8/include-fixed /usr/include/x86_64-linux-gnu /usr/lib /lib/x86_64-linux-gnu /lib/../lib /usr/lib/x86_64-linux-gnu /usr/lib/../lib /lib
    libs=-lpthread -lnsl -lgdbm -ldb -ldl -lm -lcrypt -lutil -lc
    perllibs=-lpthread -lnsl -ldl -lm -lcrypt -lutil -lc
    libc=libc-2.28.so
    so=so
    useshrplib=false
    libperl=libperl.a
    gnulibc_version='2.28'
  Dynamic Linking:
    dlsrc=dl_dlopen.xs
    dlext=so
    d_dlsymun=undef
    ccdlflags='-Wl,-E'
    cccdlflags='-fPIC'
    lddlflags='-shared -O2 -L/usr/local/lib -fstack-protector-strong'


Characteristics of this binary (from libperl): 
  Compile-time options:
    HAS_TIMES
    PERLIO_LAYERS
    PERL_COPY_ON_WRITE
    PERL_DONT_CREATE_GVSV
    PERL_MALLOC_WRAP
    PERL_OP_PARENT
    PERL_PRESERVE_IVUV
    USE_64_BIT_ALL
    USE_64_BIT_INT
    USE_LARGE_FILES
    USE_LOCALE
    USE_LOCALE_COLLATE
    USE_LOCALE_CTYPE
    USE_LOCALE_NUMERIC
    USE_LOCALE_TIME
    USE_LONG_DOUBLE
    USE_PERLIO
    USE_PERL_ATOF
  Built under linux
  Compiled at Aug  6 2019 21:04:31
  %ENV:
    PERL5LIB=""
    PERL5OPT=""
    PERL5_CPANPLUS_IS_RUNNING="14248"
    PERL5_CPAN_IS_RUNNING="14248"
    PERL5_CPAN_IS_RUNNING_IN_RECURSION="7144,14248"
    PERLDOC="-MPod::Perldoc::ToTextOverstrike"
    PERL_BATCH="yes"
    PERL_CANARY_STABILITY_NOPROMPT="1"
    PERL_CPAN_REPORTER_CONFIG="/var/tmp/cpansmoker-1023/2021042216/cpanreporter_000_config.ini"
    PERL_EXTUTILS_AUTOINSTALL="--defaultdeps"
    PERL_USE_UNSAFE_INC="1"
  @INC:
    /opt/perl-5.26.2D/lib/site_perl/5.26.2/x86_64-linux-ld
    /opt/perl-5.26.2D/lib/site_perl/5.26.2
    /opt/perl-5.26.2D/lib/5.26.2/x86_64-linux-ld
    /opt/perl-5.26.2D/lib/5.26.2
    .