CTKlib v2.06 Perl 5 v5.33.6 x86_64-linux-thread-multi

Status
Pass
From
Andreas J. König (ANDK)
Dist
CTKlib v2.06
Platform
Perl 5 v5.33.6 x86_64-linux-thread-multi
Date
2021-02-03 23:22:46
ID
b910bfb6-6676-11eb-84b0-2a5b51a9f53e
This distribution has been tested as part of the CPAN Testers
project, supporting the Perl programming language.  See
http://wiki.cpantesters.org/ for more information or email
questions to cpan-testers-discuss@perl.org


--
Dear Sergey Lepenkov,

This is a computer-generated report for CTKlib-2.06
on perl 5.33.6, created by CPAN-Reporter-1.2018.

Thank you for uploading your work to CPAN.  Congratulations!
All tests were successful.

Sections of this report:

    * Tester comments
    * Program output
    * Prerequisites
    * Environment and other context

------------------------------
TESTER COMMENTS
------------------------------

Additional comments from tester:

this report is from an automated smoke testing program
and was not reviewed by a human for accuracy

------------------------------
PROGRAM OUTPUT
------------------------------

Output from '/usr/bin/make test':

"/tmp/basesmoker-reloperl-qOT2/bin/perl" -MExtUtils::Command::MM -e 'cp_nonempty' -- CTK.bs blib/arch/auto/CTK/CTK.bs 644
PERL_DL_NONLAZY=1 "/tmp/basesmoker-reloperl-qOT2/bin/perl" "-MExtUtils::Command::MM" "-MTest::Harness" "-e" "undef *Test::Harness::Switches; test_harness(0, 'blib/lib', 'blib/arch')" t/*.t
t/00-distribution.t .... skipped: Currently a developer-only test
t/00-fixme.t ........... skipped: requires Test::Fixme to run
t/00-pod-coverage.t .... skipped: Currently a developer-only test
t/00-pod.t ............. skipped: Currently a developer-only test
t/00-trailingspace.t ... skipped: Test::TrailingSpace required for trailing space test
t/01-use.t ............. ok
t/02-default.t ......... ok
t/03-xsutil.t .......... ok
t/04-ctkx.t ............ ok
t/05-helper.t .......... ok
t/06-format.t .......... ok
t/07-cgu_void.t ........ ok
t/08-tfvals.t .......... ok
t/09-configuration.t ... ok
t/10-log.t ............. ok
t/11-plugins.t ......... ok
t/12-app.t ............. ok
t/13-void.t ............ ok
t/14-plugin-file.t ..... skipped: Currently a developer-only test
t/15-flags.t ........... ok
t/16-plugin-archive.t .. skipped: Currently a developer-only test
t/17-crypt-tcd04.t ..... ok
t/18-crypt.t ........... skipped: Currently a developer-only test
t/19-crypt-gpg.t ....... skipped: Currently a developer-only test
t/20-plugin-net.t ...... skipped: Currently a developer-only test
t/21-sendmail.t ........ skipped: Currently a developer-only test
t/22-dbi.t ............. skipped: Currently a developer-only test
t/23-attrs.t ........... ok
t/24-digest.t .......... ok
t/25-plugins-ext.t ..... skipped: Currently a developer-only test
All tests successful.
Files=30, Tests=142,  3 wallclock secs ( 0.06 usr  0.08 sys +  2.60 cusr  0.61 csys =  3.35 CPU)
Result: PASS

------------------------------
PREREQUISITES
------------------------------

Prerequisite modules loaded:

requires:

    Module                 Need     Have    
    ---------------------- -------- --------
    Class::C3::Adopt::NEXT 0.13     0.14    
    Class::Singleton       1.4      1.6     
    Config::General        2        2.63    
    DBI                    1.63     1.643   
    ExtUtils::MakeMaker    6.6      7.58    
    File::Copy             2        2.35    
    File::Copy::Recursive  0.38     0.45    
    File::Find             0        1.38    
    File::Path             2        2.18    
    File::Pid              1        1.01    
    File::Spec             0.82     3.80    
    File::Temp             0        0.2311  
    IO                     0        1.45    
    IO::String             1.08     1.08    
    IPC::Open3             1        1.21    
    JSON                   2.9      4.03    
    List::Util             1.45     1.55    
    MIME::Base64           3        3.16    
    MIME::Lite             3        3.031   
    MRO::Compat            0.12     0.13    
    Net::FTP               2.6      3.13    
    perl                   5.016001 5.033006
    Perl::OSType           1        1.010   
    Symbol                 1.05     1.09    
    Sys::SigAction         0.2      0.23    
    Sys::Syslog            0        0.36    
    Term::ANSIColor        4.03     5.01    
    Text::SimpleTable      2        2.07    
    Time::HiRes            1.97     1.9766  
    Time::Local            1.2      1.30    
    Try::Tiny              0.27     0.30    
    URI                    1.6      5.07    
    XML::Simple            2.22     2.25    
    XSLoader               0.01     0.30    
    YAML                   0.73     1.30    
    YAML::XS               0.4      0.82    

build_requires:

    Module                 Need     Have    
    ---------------------- -------- --------
    Test::Simple           1        1.302183

configure_requires:

    Module                 Need     Have    
    ---------------------- -------- --------
    ExtUtils::MakeMaker    0        7.58    

opt_requires:

    Module                 Need     Have    
    ---------------------- -------- --------
    Data::Dumper           0        2.176   


------------------------------
ENVIRONMENT AND OTHER CONTEXT
------------------------------

Environment variables:

    AUTOMATED_TESTING = 1
    LANG = en_US.utf8
    PATH = /home/sand/bin:/usr/local/bin:/usr/local/sbin:/usr/sbin:/usr/bin:/sbin:/bin:/usr/games:/usr/local/games:/snap/bin:/usr/local/perl/bin:/usr/X11/bin
    PERL = /tmp/basesmoker-reloperl-qOT2/bin/perl
    PERL5LIB = /tmp/loop_over_bdir-471513-MkfAY3/RackMan-1.19-0/blib/arch:/tmp/loop_over_bdir-471513-MkfAY3/RackMan-1.19-0/blib/lib:/tmp/loop_over_bdir-471513-MkfAY3/Linux-InitFS-0.2-0/blib/arch:/tmp/loop_over_bdir-471513-MkfAY3/Linux-InitFS-0.2-0/blib/lib
    PERL5OPT = 
    PERL5_CPANPLUS_IS_RUNNING = 471522
    PERL5_CPAN_IS_RUNNING = 471522
    PERL_CANARY_STABILITY_NOPROMPT = 1
    PERL_MM_USE_DEFAULT = 1
    PERL_USE_UNSAFE_INC = 1
    SHELL = /bin/bash
    TERM = screen

Perl special variables (and OS-specific diagnostics, for MSWin32):

    $^X = /tmp/basesmoker-reloperl-qOT2/bin/perl
    $UID/$EUID = 1005 / 1005
    $GID = 1005 1005
    $EGID = 1005 1005

Perl module toolchain versions installed:

    Module              Have    
    ------------------- --------
    CPAN                2.28    
    CPAN::Meta          2.150010
    Cwd                 3.80    
    ExtUtils::CBuilder  0.280235
    ExtUtils::Command   7.58    
    ExtUtils::Install   2.20    
    ExtUtils::MakeMaker 7.58    
    ExtUtils::Manifest  1.73    
    ExtUtils::ParseXS   3.42    
    File::Spec          3.80    
    JSON                4.03    
    JSON::PP            4.05    
    Module::Build       0.4231  
    Module::Signature   0.87    
    Parse::CPAN::Meta   2.150010
    Test::Harness       3.43    
    Test::More          1.302183
    YAML                1.30    
    YAML::Syck          1.34    
    version             0.9928  


--

Summary of my perl5 (revision 5 version 33 subversion 6) configuration:
  Commit id: 7b99455fe0a347ad42afab1cd66997f231344818
  Platform:
    osname=linux
    osvers=5.4.0-58-generic
    archname=x86_64-linux-thread-multi
    uname='linux k93focal 5.4.0-58-generic #64-ubuntu smp wed dec 9 08:16:25 utc 2020 x86_64 x86_64 x86_64 gnulinux '
    config_args='-Dprefix=/home/sand/src/perl/repoperls/installed-perls/host/k93focal/v5.33.6/300c -Dmyhostname=k93focal -Dinstallusrbinperl=n -Uversiononly -Dusedevel -des -Ui_db -Dlibswanted=cl pthread socket inet nsl gdbm dbm malloc dl ld sun m crypt sec util c cposix posix ucb BSD gdbm_compat -Duseithreads -Uuselongdouble -DEBUGGING=-g'
    hint=recommended
    useposix=true
    d_sigaction=define
    useithreads=define
    usemultiplicity=define
    use64bitint=define
    use64bitall=define
    uselongdouble=undef
    usemymalloc=n
    default_inc_excludes_dot=define
  Compiler:
    cc='cc'
    ccflags ='-D_REENTRANT -D_GNU_SOURCE -fwrapv -fno-strict-aliasing -pipe -fstack-protector-strong -I/usr/local/include -D_LARGEFILE_SOURCE -D_FILE_OFFSET_BITS=64'
    optimize='-O2 -g'
    cppflags='-D_REENTRANT -D_GNU_SOURCE -fwrapv -fno-strict-aliasing -pipe -fstack-protector-strong -I/usr/local/include'
    ccversion=''
    gccversion='9.3.0'
    gccosandvers=''
    intsize=4
    longsize=8
    ptrsize=8
    doublesize=8
    byteorder=12345678
    doublekind=3
    d_longlong=define
    longlongsize=8
    d_longdbl=define
    longdblsize=16
    longdblkind=3
    ivtype='long'
    ivsize=8
    nvtype='double'
    nvsize=8
    Off_t='off_t'
    lseeksize=8
    alignbytes=8
    prototype=define
  Linker and Libraries:
    ld='cc'
    ldflags =' -fstack-protector-strong -L/usr/local/lib'
    libpth=/usr/local/lib /usr/include/x86_64-linux-gnu /usr/lib /lib/x86_64-linux-gnu /lib/../lib /usr/lib/x86_64-linux-gnu /usr/lib/../lib /lib /lib64 /usr/lib64
    libs=-lpthread -lnsl -ldl -lm -lcrypt -lutil -lc
    perllibs=-lpthread -lnsl -ldl -lm -lcrypt -lutil -lc
    libc=libc-2.31.so
    so=so
    useshrplib=false
    libperl=libperl.a
    gnulibc_version='2.31'
  Dynamic Linking:
    dlsrc=dl_dlopen.xs
    dlext=so
    d_dlsymun=undef
    ccdlflags='-Wl,-E'
    cccdlflags='-fPIC'
    lddlflags='-shared -O2 -g -L/usr/local/lib -fstack-protector-strong'


Characteristics of this binary (from libperl): 
  Compile-time options:
    HAS_TIMES
    MULTIPLICITY
    PERLIO_LAYERS
    PERL_COPY_ON_WRITE
    PERL_DONT_CREATE_GVSV
    PERL_IMPLICIT_CONTEXT
    PERL_MALLOC_WRAP
    PERL_OP_PARENT
    PERL_PRESERVE_IVUV
    PERL_USE_DEVEL
    USE_64_BIT_ALL
    USE_64_BIT_INT
    USE_ITHREADS
    USE_LARGE_FILES
    USE_LOCALE
    USE_LOCALE_COLLATE
    USE_LOCALE_CTYPE
    USE_LOCALE_NUMERIC
    USE_LOCALE_TIME
    USE_PERLIO
    USE_PERL_ATOF
    USE_REENTRANT_API
    USE_THREAD_SAFE_LOCALE
  Built under linux
  Compiled at Jan 31 2021 15:25:41
  %ENV:
    PERL="/tmp/basesmoker-reloperl-qOT2/bin/perl"
    PERL5LIB="/tmp/loop_over_bdir-471513-MkfAY3/RackMan-1.19-0/blib/arch:/tmp/loop_over_bdir-471513-MkfAY3/RackMan-1.19-0/blib/lib:/tmp/loop_over_bdir-471513-MkfAY3/Linux-InitFS-0.2-0/blib/arch:/tmp/loop_over_bdir-471513-MkfAY3/Linux-InitFS-0.2-0/blib/lib"
    PERL5OPT=""
    PERL5_CPANPLUS_IS_RUNNING="471522"
    PERL5_CPAN_IS_RUNNING="471522"
    PERL_CANARY_STABILITY_NOPROMPT="1"
    PERL_MM_USE_DEFAULT="1"
    PERL_USE_UNSAFE_INC="1"
  @INC:
    /tmp/loop_over_bdir-471513-MkfAY3/RackMan-1.19-0/blib/arch
    /tmp/loop_over_bdir-471513-MkfAY3/RackMan-1.19-0/blib/lib
    /tmp/loop_over_bdir-471513-MkfAY3/Linux-InitFS-0.2-0/blib/arch
    /tmp/loop_over_bdir-471513-MkfAY3/Linux-InitFS-0.2-0/blib/lib
    /home/sand/src/perl/repoperls/installed-perls/host/k93focal/v5.33.6/300c/lib/site_perl/5.33.6/x86_64-linux-thread-multi
    /home/sand/src/perl/repoperls/installed-perls/host/k93focal/v5.33.6/300c/lib/site_perl/5.33.6
    /home/sand/src/perl/repoperls/installed-perls/host/k93focal/v5.33.6/300c/lib/5.33.6/x86_64-linux-thread-multi
    /home/sand/src/perl/repoperls/installed-perls/host/k93focal/v5.33.6/300c/lib/5.33.6
    .