Benchmark-Perl-Formance v0.55 Perl 5 v5.41.13 i86pc-solaris-64

Status
Pass
From
Carlos Guevara
Dist
Benchmark-Perl-Formance v0.55
Platform
Perl 5 v5.41.13 i86pc-solaris-64
Date
2025-05-29 04:16:41
ID
b918b23c-3c43-11f0-9c51-d2f9384b8a7c
This distribution has been tested as part of the CPAN Testers
project, supporting the Perl programming language.  See
http://wiki.cpantesters.org/ for more information or email
questions to cpan-testers-discuss@perl.org


--
Dear Steffen Schwigon,

This is a computer-generated report for Benchmark-Perl-Formance-0.55
on perl 5.41.13, created by CPAN-Reporter-1.2020.

Thank you for uploading your work to CPAN.  Congratulations!
All tests were successful.

Sections of this report:

    * Tester comments
    * Program output
    * Prerequisites
    * Environment and other context

------------------------------
TESTER COMMENTS
------------------------------

Additional comments from tester:

this report is from an automated smoke testing program
and was not reviewed by a human for accuracy

------------------------------
PROGRAM OUTPUT
------------------------------

Output from '/usr/bin/make test':

PERL_DL_NONLAZY=1 "/export/home/cpan/bin/perl/bin/perl5.41.13" "-MExtUtils::Command::MM" "-MTest::Harness" "-e" "undef *Test::Harness::Switches; test_harness(0, 'blib/lib', 'blib/arch')" t/*.t
t/00-compile.t ......... ok
# 
# Testing Benchmark::Perl::Formance 0.55, Perl 5.041013, /export/home/cpan/bin/perl/bin/perl5.41.13
t/00-load.t ............ ok
t/author-eol.t ......... skipped: these tests are for testing by the author
t/author-pod-syntax.t .. skipped: these tests are for testing by the author
sh: showrev: not found
Use of uninitialized value in pattern match (m//) at /export/home/cpan/bin/perl/lib/site_perl/5.41.13/Devel/Platform/Info/Solaris.pm line 50.
t/basic.t .............. ok
# 
# Sample run. May take some seconds...
# Run DPath...
# Run Fib...
# Run FibOO...
# Run Mem...
# Run MatrixReal...
# Skip plugin 'MatrixReal':Can't locate Math/MatrixReal.pm in @INC (you may need to install the Math::MatrixReal module) (@INC entries checked: lib /export/home/cpan/.cpan/build/Benchmark-Perl-Formance-0.55-0/blib/lib /export/home/cpan/.cpan/build/Benchmark-Perl-Formance-0.55-0/blib/arch /export/home/cpan/bin/perl/lib/site_perl/5.41.13/i86pc-solaris-64 /export/home/cpan/bin/perl/lib/site_perl/5.41.13 /export/home/cpan/bin/perl/lib/5.41.13/i86pc-solaris-64 /export/home/cpan/bin/perl/lib/5.41.13 .) at lib/Benchmark/Perl/Formance/Plugin/MatrixReal.pm line 18.
# Run Prime...
# Run Rx...
# Run RxMicro...
# Run Shootout::fasta...
# Run Shootout::regexdna...
# Run Shootout::binarytrees...
# Run Shootout::revcomp...
# Run Shootout::nbody...
# Run Shootout::spectralnorm...
# 
# perlformance.perl5.DPath.dpath                     : 0.047917
# perlformance.perl5.Fib                             : 0.017145
# perlformance.perl5.FibOO                           : 0.023330
# perlformance.perl5.Mem.allocate                    : 0.200104
# perlformance.perl5.Mem.copy                        : 0.355058
# perlformance.perl5.Rx.regexes.fieldsplit1          : 0.275704
# perlformance.perl5.Rx.regexes.fieldsplit2          : 0.006598
# perlformance.perl5.Rx.regexes.pathological         : 0.314958
# perlformance.perl5.RxMicro.code-literal            : 0.266829
# perlformance.perl5.RxMicro.code-runtime            : 0.164313
# perlformance.perl5.RxMicro.precompile-access       : 0.439198
# perlformance.perl5.RxMicro.runtime-compile         : 0.586827
# perlformance.perl5.RxMicro.runtime-compile-nocache : 0.455107
# perlformance.perl5.Shootout.binarytrees            : 0.110793
# perlformance.perl5.Shootout.fasta                  : 0.064829
# perlformance.perl5.Shootout.nbody                  : 0.037258
# perlformance.perl5.Shootout.spectralnorm           : 0.467630
t/samplerun.t .......... ok
All tests successful.
Files=6, Tests=21,  5 wallclock secs ( 0.03 usr  0.01 sys +  4.42 cusr  0.65 csys =  5.11 CPU)
Result: PASS

------------------------------
PREREQUISITES
------------------------------

Prerequisite modules loaded:

requires:

    Module                                    Need Have    
    ----------------------------------------- ---- --------
    Config::Perl::V                           0    0.38    
    Data::DPath                               0    0.60    
    Data::Structure::Util                     0    0.16    
    Data::YAML::Writer                        0    0.0.7   
    Devel::Platform::Info                     0    1.00    
    JSON                                      0    4.10    
    List::Util                                0    1.68_01 
  ! Math::MatrixReal                          0    n/a     
  ! Math::Primality                           0    n/a     
    Module::Pluggable                         0    6.3     
    Module::Runtime                           0    0.018   
    Sys::Hostname                             0    1.25    
    Sys::Info                                 0    0.7811  

build_requires:

    Module                                    Need Have    
    ----------------------------------------- ---- --------
    Data::YAML::Reader                        0    0.0.7   
    ExtUtils::MakeMaker                       0    7.76    
    File::Spec                                0    3.94    
    IO::Handle                                0    1.55    
    IPC::Open3                                0    1.24    
    Test::More                                0.88 1.302214

configure_requires:

    Module                                    Need Have    
    ----------------------------------------- ---- --------
    ExtUtils::MakeMaker                       0    7.76    

opt_requires:

    Module                                    Need Have    
    ----------------------------------------- ---- --------
  ! BenchmarkAnything::Storage::Frontend::Lib 0    n/a     
    Clone                                     0    0.47    
    experimental                              0    0.035   
    File::Copy::Recursive                     0    0.45    
    File::ShareDir                            0    1.118   
  ! Math::GMPz                                0    n/a     


------------------------------
ENVIRONMENT AND OTHER CONTEXT
------------------------------

Environment variables:

    AUTOMATED_TESTING = 1
    DATE_MANIP_TEST_DM5 = 1
    LANG = en_US.UTF-8
    LC_ALL = C
    NONINTERACTIVE_TESTING = 1
    NO_NETWORK_TESTING = 1
    PATH = /export/home/cpan/bin/perl/bin:/usr/bin:/usr/sbin:/sbin:/opt/ooce/bin:/usr/gnu/bin
    PERL5LIB = 
    PERL5OPT = 
    PERL5_CPANPLUS_IS_RUNNING = 28580
    PERL5_CPAN_IS_RUNNING = 28580
    PERL_MM_USE_DEFAULT = 1
    PERL_USE_UNSAFE_INC = 1
    SHELL = /bin/sh
    TERM = screen

Perl special variables (and OS-specific diagnostics, for MSWin32):

    $^X = /export/home/cpan/bin/perl/bin/perl5.41.13
    $UID/$EUID = 101 / 101
    $GID = 1 1
    $EGID = 1 1

Perl module toolchain versions installed:

    Module              Have    
    ------------------- --------
    CPAN                2.38    
    CPAN::Meta          2.150010
    Cwd                 3.94    
    ExtUtils::CBuilder  0.280241
    ExtUtils::Command   7.76    
    ExtUtils::Install   2.22    
    ExtUtils::MakeMaker 7.76    
    ExtUtils::Manifest  1.75    
    ExtUtils::ParseXS   3.57    
    File::Spec          3.94    
    JSON                4.10    
    JSON::PP            4.16    
    Module::Build       0.4234  
    Module::Signature   0.89    
    Parse::CPAN::Meta   2.150010
    Test2               1.302214
    Test::Harness       3.52    
    Test::More          1.302214
    YAML                1.31    
    YAML::Syck          1.34    
    version             0.9933  


--

Summary of my perl5 (revision 5 version 41 subversion 13) configuration:
  Commit id: 5c2e7577a3fa70dc39d27c0426db6eb897eee9b1
  Platform:
    osname=solaris
    osvers=2.11
    archname=i86pc-solaris-64
    uname='sunos cjg-omniosce 5.11 omnios-r151052-5ce47a2ab6 i86pc i386 i86pc '
    config_args='-des -Dprefix=/export/home/cpan/bin/perl -Dscriptdir=/export/home/cpan/bin/perl/bin -Dusedevel -Duse64bitall -Dcc=gcc'
    hint=recommended
    useposix=true
    d_sigaction=define
    useithreads=undef
    usemultiplicity=undef
    use64bitint=define
    use64bitall=define
    uselongdouble=undef
    usemymalloc=n
    default_inc_excludes_dot=define
  Compiler:
    cc='gcc'
    ccflags ='-m64 -fwrapv -fno-strict-aliasing -pipe -fstack-protector-strong -D_LARGEFILE_SOURCE -D_FILE_OFFSET_BITS=64 -D_FORTIFY_SOURCE=2'
    optimize='-O'
    cppflags='-m64 -fwrapv -fno-strict-aliasing -pipe -fstack-protector-strong'
    ccversion=''
    gccversion='14.2.0'
    gccosandvers=''
    intsize=4
    longsize=8
    ptrsize=8
    doublesize=8
    byteorder=12345678
    doublekind=3
    d_longlong=define
    longlongsize=8
    d_longdbl=define
    longdblsize=16
    longdblkind=3
    ivtype='long'
    ivsize=8
    nvtype='double'
    nvsize=8
    Off_t='off_t'
    lseeksize=8
    alignbytes=8
    prototype=define
  Linker and Libraries:
    ld='gcc'
    ldflags =' -m64 -fstack-protector-strong -L/usr/gnu/lib '
    libpth=/opt/gcc-14/lib /usr/lib /usr/gnu/lib /usr/ccs/lib
    libs=-lpthread -lsocket -lnsl -ldl -lm -lc
    perllibs=-lpthread -lsocket -lnsl -ldl -lm -lc
    libc=/lib/libc.so
    so=so
    useshrplib=true
    libperl=libperl.so
    gnulibc_version=''
  Dynamic Linking:
    dlsrc=dl_dlopen.xs
    dlext=so
    d_dlsymun=undef
    ccdlflags='  -R /export/home/cpan/bin/perl/lib/5.41.13/i86pc-solaris-64/CORE'
    cccdlflags='-fPIC'
    lddlflags=' -shared -m64 -L/usr/gnu/lib -fstack-protector-strong'


Characteristics of this binary (from libperl): 
  Compile-time options:
    HAS_LONG_DOUBLE
    HAS_STRTOLD
    HAS_TIMES
    PERLIO_LAYERS
    PERL_COPY_ON_WRITE
    PERL_DONT_CREATE_GVSV
    PERL_HASH_FUNC_SIPHASH13
    PERL_HASH_USE_SBOX32
    PERL_MALLOC_WRAP
    PERL_OP_PARENT
    PERL_PRESERVE_IVUV
    PERL_USE_DEVEL
    PERL_USE_SAFE_PUTENV
    USE_64_BIT_ALL
    USE_64_BIT_INT
    USE_LARGE_FILES
    USE_LOCALE
    USE_LOCALE_COLLATE
    USE_LOCALE_CTYPE
    USE_LOCALE_NUMERIC
    USE_LOCALE_TIME
    USE_PERLIO
    USE_PERL_ATOF
  Built under solaris
  Compiled at May 28 2025 16:00:11
  %ENV:
    PERL5LIB=""
    PERL5OPT=""
    PERL5_CPANPLUS_IS_RUNNING="28580"
    PERL5_CPAN_IS_RUNNING="28580"
    PERL_MM_USE_DEFAULT="1"
    PERL_USE_UNSAFE_INC="1"
  @INC:
    /export/home/cpan/bin/perl/lib/site_perl/5.41.13/i86pc-solaris-64
    /export/home/cpan/bin/perl/lib/site_perl/5.41.13
    /export/home/cpan/bin/perl/lib/5.41.13/i86pc-solaris-64
    /export/home/cpan/bin/perl/lib/5.41.13
    .