Report for Catalyst-View-Email-0.33

Back
From: metabase:user:314402c4-2aae-11df-837a-5e0a49663a4f
Subject: PASS Catalyst-View-Email-0.33 v5.18.2 GNU/Linux
Date: 2014-05-14T11:41:44Z

This distribution has been tested as part of the CPAN Testers
project, supporting the Perl programming language.  See
http://wiki.cpantesters.org/ for more information or email
questions to cpan-testers-discuss@perl.org


--
Dear Devin Austin,

This is a computer-generated report for Catalyst-View-Email-0.33
on perl 5.18.2, created by CPAN-Reporter-1.2011.

Thank you for uploading your work to CPAN.  Congratulations!
All tests were successful.

Sections of this report:

    * Tester comments
    * Program output
    * Prerequisites
    * Environment and other context

------------------------------
TESTER COMMENTS
------------------------------

Additional comments from tester:

none provided

------------------------------
PROGRAM OUTPUT
------------------------------

Output from '/usr/bin/make test':

PERL_DL_NONLAZY=1 /bbbike/perl-5.18.2t/bin/perl "-MExtUtils::Command::MM" "-MTest::Harness" "-e" "undef *Test::Harness::Switches; test_harness(0, 'inc', 'blib/lib', 'blib/arch')" t/01use.t t/02pod.t t/04basic.t t/05template.t t/06config.t t/07mason.t
t/01use.t ....... ok
t/02pod.t ....... skipped: set TEST_POD to enable this test
require TestApp::View::Mason was successful but the package is not defined. at /opt/perl-5.18.2t/lib/site_perl/5.18.2/Catalyst/Utils.pm line 314.
Class::MOP::load_class is deprecated at /opt/perl-5.18.2t/lib/site_perl/5.18.2/x86_64-linux-thread-multi/Class/MOP.pm line 73.
	Class::MOP::load_class('Email::Sender::Transport::Test') called at /tmpfs/.cpan-build/Catalyst-View-Email-0.33-3ofoOA/blib/lib/Catalyst/View/Email.pm line 226
	Catalyst::View::Email::_build_mailer_obj('TestApp::View::Email=HASH(0x4e5a930)') called at accessor Catalyst::View::Email::_mailer_obj (defined at /tmpfs/.cpan-build/Catalyst-View-Email-0.33-3ofoOA/blib/lib/Catalyst/View/Email.pm line 21) line 10
	Catalyst::View::Email::_mailer_obj('TestApp::View::Email=HASH(0x4e5a930)') called at /tmpfs/.cpan-build/Catalyst-View-Email-0.33-3ofoOA/blib/lib/Catalyst/View/Email.pm line 299
	Catalyst::View::Email::process('TestApp::View::Email=HASH(0x4e5a930)', 'TestApp=HASH(0x4f482e8)') called at /opt/perl-5.18.2t/lib/site_perl/5.18.2/Catalyst/Action.pm line 65
	Catalyst::Action::execute('Catalyst::Action=HASH(0x4f52590)', 'TestApp::View::Email=HASH(0x4e5a930)', 'TestApp=HASH(0x4f482e8)') called at /opt/perl-5.18.2t/lib/site_perl/5.18.2/Catalyst.pm line 1734
	eval {...} called at /opt/perl-5.18.2t/lib/site_perl/5.18.2/Catalyst.pm line 1734
	Catalyst::execute('TestApp=HASH(0x4f482e8)', 'TestApp::View::Email', 'Catalyst::Action=HASH(0x4f52590)') called at /opt/perl-5.18.2t/lib/site_perl/5.18.2/Catalyst/Action.pm line 60
	Catalyst::Action::dispatch('Catalyst::Action=HASH(0x4f52590)', 'TestApp=HASH(0x4f482e8)') called at /opt/perl-5.18.2t/lib/site_perl/5.18.2/Catalyst/Dispatcher.pm line 258
	Catalyst::Dispatcher::_do_forward('Catalyst::Dispatcher=HASH(0x4442dd8)', 'forward', 'TestApp=HASH(0x4f482e8)', 'TestApp::View::Email') called at /opt/perl-5.18.2t/lib/site_perl/5.18.2/Catalyst/Dispatcher.pm line 238
	Catalyst::Dispatcher::forward('Catalyst::Dispatcher=HASH(0x4442dd8)', 'TestApp=HASH(0x4f482e8)', 'TestApp::View::Email') called at /opt/perl-5.18.2t/lib/site_perl/5.18.2/Catalyst.pm line 397
	Catalyst::forward('TestApp=HASH(0x4f482e8)', 'TestApp::View::Email') called at /tmpfs/.cpan-build/Catalyst-View-Email-0.33-3ofoOA/t/lib/TestApp/Controller/Root.pm line 26
	TestApp::Controller::Root::email('TestApp::Controller::Root=HASH(0x4cf8658)', 'TestApp=HASH(0x4f482e8)') called at /opt/perl-5.18.2t/lib/site_perl/5.18.2/Catalyst/Action.pm line 65
	Catalyst::Action::execute('Catalyst::Action=HASH(0x4ea2450)', 'TestApp::Controller::Root=HASH(0x4cf8658)', 'TestApp=HASH(0x4f482e8)') called at /opt/perl-5.18.2t/lib/site_perl/5.18.2/Catalyst.pm line 1734
	eval {...} called at /opt/perl-5.18.2t/lib/site_perl/5.18.2/Catalyst.pm line 1734
	Catalyst::execute('TestApp=HASH(0x4f482e8)', 'TestApp::Controller::Root', 'Catalyst::Action=HASH(0x4ea2450)') called at /opt/perl-5.18.2t/lib/site_perl/5.18.2/Catalyst/Action.pm line 60
	Catalyst::Action::dispatch('Catalyst::Action=HASH(0x4ea2450)', 'TestApp=HASH(0x4f482e8)') called at /opt/perl-5.18.2t/lib/site_perl/5.18.2/Catalyst/Controller.pm line 161
	Catalyst::Controller::_ACTION('TestApp::Controller::Root=HASH(0x4cf8658)', 'TestApp=HASH(0x4f482e8)') called at /opt/perl-5.18.2t/lib/site_perl/5.18.2/Catalyst/Action.pm line 65
	Catalyst::Action::execute('Catalyst::Action=HASH(0x4ea1cd0)', 'TestApp::Controller::Root=HASH(0x4cf8658)', 'TestApp=HASH(0x4f482e8)') called at /opt/perl-5.18.2t/lib/site_perl/5.18.2/Catalyst.pm line 1734
	eval {...} called at /opt/perl-5.18.2t/lib/site_perl/5.18.2/Catalyst.pm line 1734
	Catalyst::execute('TestApp=HASH(0x4f482e8)', 'TestApp::Controller::Root', 'Catalyst::Action=HASH(0x4ea1cd0)') called at /opt/perl-5.18.2t/lib/site_perl/5.18.2/Catalyst/Action.pm line 60
	Catalyst::Action::dispatch('Catalyst::Action=HASH(0x4ea1cd0)', 'TestApp=HASH(0x4f482e8)') called at /opt/perl-5.18.2t/lib/site_perl/5.18.2/Catalyst/Dispatcher.pm line 258
	Catalyst::Dispatcher::_do_forward('Catalyst::Dispatcher=HASH(0x4442dd8)', 'forward', 'TestApp=HASH(0x4f482e8)', '_ACTION') called at /opt/perl-5.18.2t/lib/site_perl/5.18.2/Catalyst/Dispatcher.pm line 238
	Catalyst::Dispatcher::forward('Catalyst::Dispatcher=HASH(0x4442dd8)', 'TestApp=HASH(0x4f482e8)', '_ACTION') called at /opt/perl-5.18.2t/lib/site_perl/5.18.2/Catalyst.pm line 397
	Catalyst::forward('TestApp=HASH(0x4f482e8)', '_ACTION') called at /opt/perl-5.18.2t/lib/site_perl/5.18.2/Catalyst/Controller.pm line 135
	Catalyst::Controller::_DISPATCH('TestApp::Controller::Root=HASH(0x4cf8658)', 'TestApp=HASH(0x4f482e8)') called at /opt/perl-5.18.2t/lib/site_perl/5.18.2/Catalyst/Action.pm line 65
	Catalyst::Action::execute('Catalyst::Action=HASH(0x4e9efd0)', 'TestApp::Controller::Root=HASH(0x4cf8658)', 'TestApp=HASH(0x4f482e8)') called at /opt/perl-5.18.2t/lib/site_perl/5.18.2/Catalyst.pm line 1734
	eval {...} called at /opt/perl-5.18.2t/lib/site_perl/5.18.2/Catalyst.pm line 1734
	Catalyst::execute('TestApp=HASH(0x4f482e8)', 'TestApp::Controller::Root', 'Catalyst::Action=HASH(0x4e9efd0)') called at /opt/perl-5.18.2t/lib/site_perl/5.18.2/Catalyst/Action.pm line 60
	Catalyst::Action::dispatch('Catalyst::Action=HASH(0x4e9efd0)', 'TestApp=HASH(0x4f482e8)') called at /opt/perl-5.18.2t/lib/site_perl/5.18.2/Catalyst/Dispatcher.pm line 258
	Catalyst::Dispatcher::_do_forward('Catalyst::Dispatcher=HASH(0x4442dd8)', 'forward', 'TestApp=HASH(0x4f482e8)', '/root/_DISPATCH') called at /opt/perl-5.18.2t/lib/site_perl/5.18.2/Catalyst/Dispatcher.pm line 238
	Catalyst::Dispatcher::forward('Catalyst::Dispatcher=HASH(0x4442dd8)', 'TestApp=HASH(0x4f482e8)', '/root/_DISPATCH') called at /opt/perl-5.18.2t/lib/site_perl/5.18.2/Catalyst.pm line 397
	Catalyst::forward('TestApp=HASH(0x4f482e8)', '/root/_DISPATCH') called at /opt/perl-5.18.2t/lib/site_perl/5.18.2/Catalyst/Dispatcher.pm line 106
	Catalyst::Dispatcher::dispatch('Catalyst::Dispatcher=HASH(0x4442dd8)', 'TestApp=HASH(0x4f482e8)') called at /opt/perl-5.18.2t/lib/site_perl/5.18.2/Catalyst.pm line 1680
	Catalyst::dispatch('TestApp=HASH(0x4f482e8)') called at /opt/perl-5.18.2t/lib/site_perl/5.18.2/Catalyst.pm line 2019
	Catalyst::try {...} () called at /opt/perl-5.18.2t/lib/site_perl/5.18.2/Try/Tiny.pm line 81
	eval {...} called at /opt/perl-5.18.2t/lib/site_perl/5.18.2/Try/Tiny.pm line 72
	Try::Tiny::try('CODE(0x4f44fa0)', 'Try::Tiny::Catch=REF(0x4f44e38)') called at /opt/perl-5.18.2t/lib/site_perl/5.18.2/Catalyst.pm line 2028
	Catalyst::handle_request('TestApp', 'env', 'HASH(0x4b71060)', 'response_cb', 'CODE(0x4f44e98)') called at /opt/perl-5.18.2t/lib/site_perl/5.18.2/Catalyst/Engine.pm line 797
	Catalyst::Engine::__ANON__('CODE(0x4f44e98)') called at /opt/perl-5.18.2t/lib/site_perl/5.18.2/Plack/Middleware/HTTPExceptions.pm line 32
	Plack::Middleware::HTTPExceptions::try {...} () called at /opt/perl-5.18.2t/lib/site_perl/5.18.2/Try/Tiny.pm line 81
	eval {...} called at /opt/perl-5.18.2t/lib/site_perl/5.18.2/Try/Tiny.pm line 72
	Try::Tiny::try('CODE(0x4f44cd0)', 'Try::Tiny::Catch=REF(0x4f442f8)') called at /opt/perl-5.18.2t/lib/site_perl/5.18.2/Plack/Middleware/HTTPExceptions.pm line 41
	Plack::Middleware::HTTPExceptions::__ANON__('CODE(0x4f44bc8)') called at /opt/perl-5.18.2t/lib/site_perl/5.18.2/Plack/Util.pm line 301
	Plack::Util::__ANON__('CODE(0x4f44ac0)') called at /opt/perl-5.18.2t/lib/site_perl/5.18.2/Plack/Util.pm line 301
	Plack::Util::__ANON__('CODE(0x4f449b8)') called at /opt/perl-5.18.2t/lib/site_perl/5.18.2/Plack/Util.pm line 301
	Plack::Util::__ANON__('CODE(0x4f44940)') called at /opt/perl-5.18.2t/lib/site_perl/5.18.2/HTTP/Message/PSGI.pm line 100
	HTTP::Message::PSGI::res_from_psgi('CODE(0x4f3e568)') called at /opt/perl-5.18.2t/lib/site_perl/5.18.2/HTTP/Message/PSGI.pm line 155
	HTTP::Response::from_psgi('HTTP::Response', 'CODE(0x4f3e568)') called at /opt/perl-5.18.2t/lib/site_perl/5.18.2/Plack/Test/MockHTTP.pm line 24
	Plack::Test::MockHTTP::try {...} () called at /opt/perl-5.18.2t/lib/site_perl/5.18.2/Try/Tiny.pm line 76
	eval {...} called at /opt/perl-5.18.2t/lib/site_perl/5.18.2/Try/Tiny.pm line 72
	Try::Tiny::try('CODE(0x4adecb0)', 'Try::Tiny::Catch=REF(0x4e747c0)') called at /opt/perl-5.18.2t/lib/site_perl/5.18.2/Plack/Test/MockHTTP.pm line 27
	Plack::Test::MockHTTP::request('Plack::Test::MockHTTP=HASH(0x4ebcb30)', 'HTTP::Request=HASH(0x4eb2550)') called at /opt/perl-5.18.2t/lib/site_perl/5.18.2/Plack/Test.pm line 38
	Plack::Test::__ANON__('HTTP::Request=HASH(0x4eb2550)') called at /opt/perl-5.18.2t/lib/site_perl/5.18.2/Catalyst/Test.pm line 281
	Catalyst::Test::__ANON__('CODE(0x4ebc9c8)') called at /opt/perl-5.18.2t/lib/site_perl/5.18.2/Plack/Test.pm line 38
	Plack::Test::test_psgi('mangle_response', 'CODE(0x3ab3a98)', 'app', 'CODE(0x4eb20e8)', 'app', 'CODE(0x4ebc7e8)', 'client', 'CODE(0x4ebc890)') called at /opt/perl-5.18.2t/lib/site_perl/5.18.2/Catalyst/Test.pm line 284
	Catalyst::Test::_request('HASH(0x29477a8)', '/email?time=1400067675') called at /opt/perl-5.18.2t/lib/site_perl/5.18.2/Catalyst/Test.pm line 327
	Catalyst::Test::_local_request('TestApp', '/email?time=1400067675') called at /opt/perl-5.18.2t/lib/site_perl/5.18.2/Catalyst/Test.pm line 32
	Catalyst::Test::__ANON__('/email?time=1400067675') called at t/04basic.t line 14
t/04basic.t ..... ok
require TestApp::View::Mason was successful but the package is not defined. at /opt/perl-5.18.2t/lib/site_perl/5.18.2/Catalyst/Utils.pm line 314.
Class::MOP::load_class is deprecated at /opt/perl-5.18.2t/lib/site_perl/5.18.2/x86_64-linux-thread-multi/Class/MOP.pm line 73.
	Class::MOP::load_class('Email::Sender::Transport::Test') called at /tmpfs/.cpan-build/Catalyst-View-Email-0.33-3ofoOA/blib/lib/Catalyst/View/Email.pm line 226
	Catalyst::View::Email::_build_mailer_obj('TestApp::View::Email::Template=HASH(0x5284200)') called at accessor Catalyst::View::Email::_mailer_obj (defined at /tmpfs/.cpan-build/Catalyst-View-Email-0.33-3ofoOA/blib/lib/Catalyst/View/Email.pm line 21) line 10
	Catalyst::View::Email::_mailer_obj('TestApp::View::Email::Template=HASH(0x5284200)') called at /tmpfs/.cpan-build/Catalyst-View-Email-0.33-3ofoOA/blib/lib/Catalyst/View/Email.pm line 299
	Catalyst::View::Email::process('TestApp::View::Email::Template=HASH(0x5284200)', 'TestApp=HASH(0x54aae80)') called at /tmpfs/.cpan-build/Catalyst-View-Email-0.33-3ofoOA/blib/lib/Catalyst/View/Email/Template.pm line 306
	Class::MOP::Class:::around('CODE(0x50e6bb8)', 'TestApp::View::Email::Template=HASH(0x5284200)', 'TestApp=HASH(0x54aae80)') called at /opt/perl-5.18.2t/lib/site_perl/5.18.2/x86_64-linux-thread-multi/Class/MOP/Method/Wrapped.pm line 163
	Class::MOP::Method::Wrapped::__ANON__('TestApp::View::Email::Template=HASH(0x5284200)', 'TestApp=HASH(0x54aae80)') called at /opt/perl-5.18.2t/lib/site_perl/5.18.2/x86_64-linux-thread-multi/Class/MOP/Method/Wrapped.pm line 92
	Catalyst::View::Email::Template::process('TestApp::View::Email::Template=HASH(0x5284200)', 'TestApp=HASH(0x54aae80)') called at /opt/perl-5.18.2t/lib/site_perl/5.18.2/Catalyst/Action.pm line 65
	Catalyst::Action::execute('Catalyst::Action=HASH(0x54b8398)', 'TestApp::View::Email::Template=HASH(0x5284200)', 'TestApp=HASH(0x54aae80)') called at /opt/perl-5.18.2t/lib/site_perl/5.18.2/Catalyst.pm line 1734
	eval {...} called at /opt/perl-5.18.2t/lib/site_perl/5.18.2/Catalyst.pm line 1734
	Catalyst::execute('TestApp=HASH(0x54aae80)', 'TestApp::View::Email::Template', 'Catalyst::Action=HASH(0x54b8398)') called at /opt/perl-5.18.2t/lib/site_perl/5.18.2/Catalyst/Action.pm line 60
	Catalyst::Action::dispatch('Catalyst::Action=HASH(0x54b8398)', 'TestApp=HASH(0x54aae80)') called at /opt/perl-5.18.2t/lib/site_perl/5.18.2/Catalyst/Dispatcher.pm line 258
	Catalyst::Dispatcher::_do_forward('Catalyst::Dispatcher=HASH(0x4d2bcd8)', 'forward', 'TestApp=HASH(0x54aae80)', 'TestApp::View::Email::Template') called at /opt/perl-5.18.2t/lib/site_perl/5.18.2/Catalyst/Dispatcher.pm line 238
	Catalyst::Dispatcher::forward('Catalyst::Dispatcher=HASH(0x4d2bcd8)', 'TestApp=HASH(0x54aae80)', 'TestApp::View::Email::Template') called at /opt/perl-5.18.2t/lib/site_perl/5.18.2/Catalyst.pm line 397
	Catalyst::forward('TestApp=HASH(0x54aae80)', 'TestApp::View::Email::Template') called at /tmpfs/.cpan-build/Catalyst-View-Email-0.33-3ofoOA/t/lib/TestApp/Controller/Root.pm line 81
	TestApp::Controller::Root::template_email('TestApp::Controller::Root=HASH(0x532d470)', 'TestApp=HASH(0x54aae80)') called at /opt/perl-5.18.2t/lib/site_perl/5.18.2/Catalyst/Action.pm line 65
	Catalyst::Action::execute('Catalyst::Action=HASH(0x5409590)', 'TestApp::Controller::Root=HASH(0x532d470)', 'TestApp=HASH(0x54aae80)') called at /opt/perl-5.18.2t/lib/site_perl/5.18.2/Catalyst.pm line 1734
	eval {...} called at /opt/perl-5.18.2t/lib/site_perl/5.18.2/Catalyst.pm line 1734
	Catalyst::execute('TestApp=HASH(0x54aae80)', 'TestApp::Controller::Root', 'Catalyst::Action=HASH(0x5409590)') called at /opt/perl-5.18.2t/lib/site_perl/5.18.2/Catalyst/Action.pm line 60
	Catalyst::Action::dispatch('Catalyst::Action=HASH(0x5409590)', 'TestApp=HASH(0x54aae80)') called at /opt/perl-5.18.2t/lib/site_perl/5.18.2/Catalyst/Controller.pm line 161
	Catalyst::Controller::_ACTION('TestApp::Controller::Root=HASH(0x532d470)', 'TestApp=HASH(0x54aae80)') called at /opt/perl-5.18.2t/lib/site_perl/5.18.2/Catalyst/Action.pm line 65
	Catalyst::Action::execute('Catalyst::Action=HASH(0x5404f98)', 'TestApp::Controller::Root=HASH(0x532d470)', 'TestApp=HASH(0x54aae80)') called at /opt/perl-5.18.2t/lib/site_perl/5.18.2/Catalyst.pm line 1734
	eval {...} called at /opt/perl-5.18.2t/lib/site_perl/5.18.2/Catalyst.pm line 1734
	Catalyst::execute('TestApp=HASH(0x54aae80)', 'TestApp::Controller::Root', 'Catalyst::Action=HASH(0x5404f98)') called at /opt/perl-5.18.2t/lib/site_perl/5.18.2/Catalyst/Action.pm line 60
	Catalyst::Action::dispatch('Catalyst::Action=HASH(0x5404f98)', 'TestApp=HASH(0x54aae80)') called at /opt/perl-5.18.2t/lib/site_perl/5.18.2/Catalyst/Dispatcher.pm line 258
	Catalyst::Dispatcher::_do_forward('Catalyst::Dispatcher=HASH(0x4d2bcd8)', 'forward', 'TestApp=HASH(0x54aae80)', '_ACTION') called at /opt/perl-5.18.2t/lib/site_perl/5.18.2/Catalyst/Dispatcher.pm line 238
	Catalyst::Dispatcher::forward('Catalyst::Dispatcher=HASH(0x4d2bcd8)', 'TestApp=HASH(0x54aae80)', '_ACTION') called at /opt/perl-5.18.2t/lib/site_perl/5.18.2/Catalyst.pm line 397
	Catalyst::forward('TestApp=HASH(0x54aae80)', '_ACTION') called at /opt/perl-5.18.2t/lib/site_perl/5.18.2/Catalyst/Controller.pm line 135
	Catalyst::Controller::_DISPATCH('TestApp::Controller::Root=HASH(0x532d470)', 'TestApp=HASH(0x54aae80)') called at /opt/perl-5.18.2t/lib/site_perl/5.18.2/Catalyst/Action.pm line 65
	Catalyst::Action::execute('Catalyst::Action=HASH(0x53f6d98)', 'TestApp::Controller::Root=HASH(0x532d470)', 'TestApp=HASH(0x54aae80)') called at /opt/perl-5.18.2t/lib/site_perl/5.18.2/Catalyst.pm line 1734
	eval {...} called at /opt/perl-5.18.2t/lib/site_perl/5.18.2/Catalyst.pm line 1734
	Catalyst::execute('TestApp=HASH(0x54aae80)', 'TestApp::Controller::Root', 'Catalyst::Action=HASH(0x53f6d98)') called at /opt/perl-5.18.2t/lib/site_perl/5.18.2/Catalyst/Action.pm line 60
	Catalyst::Action::dispatch('Catalyst::Action=HASH(0x53f6d98)', 'TestApp=HASH(0x54aae80)') called at /opt/perl-5.18.2t/lib/site_perl/5.18.2/Catalyst/Dispatcher.pm line 258
	Catalyst::Dispatcher::_do_forward('Catalyst::Dispatcher=HASH(0x4d2bcd8)', 'forward', 'TestApp=HASH(0x54aae80)', '/root/_DISPATCH') called at /opt/perl-5.18.2t/lib/site_perl/5.18.2/Catalyst/Dispatcher.pm line 238
	Catalyst::Dispatcher::forward('Catalyst::Dispatcher=HASH(0x4d2bcd8)', 'TestApp=HASH(0x54aae80)', '/root/_DISPATCH') called at /opt/perl-5.18.2t/lib/site_perl/5.18.2/Catalyst.pm line 397
	Catalyst::forward('TestApp=HASH(0x54aae80)', '/root/_DISPATCH') called at /opt/perl-5.18.2t/lib/site_perl/5.18.2/Catalyst/Dispatcher.pm line 106
	Catalyst::Dispatcher::dispatch('Catalyst::Dispatcher=HASH(0x4d2bcd8)', 'TestApp=HASH(0x54aae80)') called at /opt/perl-5.18.2t/lib/site_perl/5.18.2/Catalyst.pm line 1680
	Catalyst::dispatch('TestApp=HASH(0x54aae80)') called at /opt/perl-5.18.2t/lib/site_perl/5.18.2/Catalyst.pm line 2019
	Catalyst::try {...} () called at /opt/perl-5.18.2t/lib/site_perl/5.18.2/Try/Tiny.pm line 81
	eval {...} called at /opt/perl-5.18.2t/lib/site_perl/5.18.2/Try/Tiny.pm line 72
	Try::Tiny::try('CODE(0x54aa7c0)', 'Try::Tiny::Catch=REF(0x54aa658)') called at /opt/perl-5.18.2t/lib/site_perl/5.18.2/Catalyst.pm line 2028
	Catalyst::handle_request('TestApp', 'env', 'HASH(0x50be6e8)', 'response_cb', 'CODE(0x54aa6b8)') called at /opt/perl-5.18.2t/lib/site_perl/5.18.2/Catalyst/Engine.pm line 797
	Catalyst::Engine::__ANON__('CODE(0x54aa6b8)') called at /opt/perl-5.18.2t/lib/site_perl/5.18.2/Plack/Middleware/HTTPExceptions.pm line 32
	Plack::Middleware::HTTPExceptions::try {...} () called at /opt/perl-5.18.2t/lib/site_perl/5.18.2/Try/Tiny.pm line 81
	eval {...} called at /opt/perl-5.18.2t/lib/site_perl/5.18.2/Try/Tiny.pm line 72
	Try::Tiny::try('CODE(0x54aa408)', 'Try::Tiny::Catch=REF(0x54a9a30)') called at /opt/perl-5.18.2t/lib/site_perl/5.18.2/Plack/Middleware/HTTPExceptions.pm line 41
	Plack::Middleware::HTTPExceptions::__ANON__('CODE(0x54aa300)') called at /opt/perl-5.18.2t/lib/site_perl/5.18.2/Plack/Util.pm line 301
	Plack::Util::__ANON__('CODE(0x54aa1f8)') called at /opt/perl-5.18.2t/lib/site_perl/5.18.2/Plack/Util.pm line 301
	Plack::Util::__ANON__('CODE(0x54aa0f0)') called at /opt/perl-5.18.2t/lib/site_perl/5.18.2/Plack/Util.pm line 301
	Plack::Util::__ANON__('CODE(0x54aa078)') called at /opt/perl-5.18.2t/lib/site_perl/5.18.2/HTTP/Message/PSGI.pm line 100
	HTTP::Message::PSGI::res_from_psgi('CODE(0x54a98f8)') called at /opt/perl-5.18.2t/lib/site_perl/5.18.2/HTTP/Message/PSGI.pm line 155
	HTTP::Response::from_psgi('HTTP::Response', 'CODE(0x54a98f8)') called at /opt/perl-5.18.2t/lib/site_perl/5.18.2/Plack/Test/MockHTTP.pm line 24
	Plack::Test::MockHTTP::try {...} () called at /opt/perl-5.18.2t/lib/site_perl/5.18.2/Try/Tiny.pm line 76
	eval {...} called at /opt/perl-5.18.2t/lib/site_perl/5.18.2/Try/Tiny.pm line 72
	Try::Tiny::try('CODE(0x50efbb8)', 'Try::Tiny::Catch=REF(0x53cc2a8)') called at /opt/perl-5.18.2t/lib/site_perl/5.18.2/Plack/Test/MockHTTP.pm line 27
	Plack::Test::MockHTTP::request('Plack::Test::MockHTTP=HASH(0x5440108)', 'HTTP::Request=HASH(0x5415520)') called at /opt/perl-5.18.2t/lib/site_perl/5.18.2/Plack/Test.pm line 38
	Plack::Test::__ANON__('HTTP::Request=HASH(0x5415520)') called at /opt/perl-5.18.2t/lib/site_perl/5.18.2/Catalyst/Test.pm line 281
	Catalyst::Test::__ANON__('CODE(0x543ffa0)') called at /opt/perl-5.18.2t/lib/site_perl/5.18.2/Plack/Test.pm line 38
	Plack::Test::test_psgi('mangle_response', 'CODE(0x431c808)', 'app', 'CODE(0x54150b8)', 'app', 'CODE(0x543fdc0)', 'client', 'CODE(0x543fe68)') called at /opt/perl-5.18.2t/lib/site_perl/5.18.2/Catalyst/Test.pm line 284
	Catalyst::Test::_request('HASH(0x226e818)', '/template_email?time=1400067676') called at /opt/perl-5.18.2t/lib/site_perl/5.18.2/Catalyst/Test.pm line 327
	Catalyst::Test::_local_request('TestApp', '/template_email?time=1400067676') called at /opt/perl-5.18.2t/lib/site_perl/5.18.2/Catalyst/Test.pm line 32
	Catalyst::Test::__ANON__('/template_email?time=1400067676') called at t/05template.t line 18
t/05template.t .. ok
require TestApp::View::Mason was successful but the package is not defined. at /opt/perl-5.18.2t/lib/site_perl/5.18.2/Catalyst/Utils.pm line 314.
Class::MOP::load_class is deprecated at /opt/perl-5.18.2t/lib/site_perl/5.18.2/x86_64-linux-thread-multi/Class/MOP.pm line 73.
	Class::MOP::load_class('Email::Sender::Transport::Test') called at /tmpfs/.cpan-build/Catalyst-View-Email-0.33-3ofoOA/blib/lib/Catalyst/View/Email.pm line 226
	Catalyst::View::Email::_build_mailer_obj('TestApp::View::Email::AppConfig=HASH(0x4082558)') called at accessor Catalyst::View::Email::_mailer_obj (defined at /tmpfs/.cpan-build/Catalyst-View-Email-0.33-3ofoOA/blib/lib/Catalyst/View/Email.pm line 21) line 10
	Catalyst::View::Email::_mailer_obj('TestApp::View::Email::AppConfig=HASH(0x4082558)') called at /tmpfs/.cpan-build/Catalyst-View-Email-0.33-3ofoOA/blib/lib/Catalyst/View/Email.pm line 299
	Catalyst::View::Email::process('TestApp::View::Email::AppConfig=HASH(0x4082558)', 'TestApp=HASH(0x42aa1a0)') called at /opt/perl-5.18.2t/lib/site_perl/5.18.2/Catalyst/Action.pm line 65
	Catalyst::Action::execute('Catalyst::Action=HASH(0x42b7a28)', 'TestApp::View::Email::AppConfig=HASH(0x4082558)', 'TestApp=HASH(0x42aa1a0)') called at /opt/perl-5.18.2t/lib/site_perl/5.18.2/Catalyst.pm line 1734
	eval {...} called at /opt/perl-5.18.2t/lib/site_perl/5.18.2/Catalyst.pm line 1734
	Catalyst::execute('TestApp=HASH(0x42aa1a0)', 'TestApp::View::Email::AppConfig', 'Catalyst::Action=HASH(0x42b7a28)') called at /opt/perl-5.18.2t/lib/site_perl/5.18.2/Catalyst/Action.pm line 60
	Catalyst::Action::dispatch('Catalyst::Action=HASH(0x42b7a28)', 'TestApp=HASH(0x42aa1a0)') called at /opt/perl-5.18.2t/lib/site_perl/5.18.2/Catalyst/Dispatcher.pm line 258
	Catalyst::Dispatcher::_do_forward('Catalyst::Dispatcher=HASH(0x313a800)', 'forward', 'TestApp=HASH(0x42aa1a0)', 'TestApp::View::Email::AppConfig') called at /opt/perl-5.18.2t/lib/site_perl/5.18.2/Catalyst/Dispatcher.pm line 238
	Catalyst::Dispatcher::forward('Catalyst::Dispatcher=HASH(0x313a800)', 'TestApp=HASH(0x42aa1a0)', 'TestApp::View::Email::AppConfig') called at /opt/perl-5.18.2t/lib/site_perl/5.18.2/Catalyst.pm line 397
	Catalyst::forward('TestApp=HASH(0x42aa1a0)', 'TestApp::View::Email::AppConfig') called at /tmpfs/.cpan-build/Catalyst-View-Email-0.33-3ofoOA/t/lib/TestApp/Controller/Root.pm line 48
	TestApp::Controller::Root::email_app_config('TestApp::Controller::Root=HASH(0x4136a80)', 'TestApp=HASH(0x42aa1a0)') called at /opt/perl-5.18.2t/lib/site_perl/5.18.2/Catalyst/Action.pm line 65
	Catalyst::Action::execute('Catalyst::Action=HASH(0x4208ee0)', 'TestApp::Controller::Root=HASH(0x4136a80)', 'TestApp=HASH(0x42aa1a0)') called at /opt/perl-5.18.2t/lib/site_perl/5.18.2/Catalyst.pm line 1734
	eval {...} called at /opt/perl-5.18.2t/lib/site_perl/5.18.2/Catalyst.pm line 1734
	Catalyst::execute('TestApp=HASH(0x42aa1a0)', 'TestApp::Controller::Root', 'Catalyst::Action=HASH(0x4208ee0)') called at /opt/perl-5.18.2t/lib/site_perl/5.18.2/Catalyst/Action.pm line 60
	Catalyst::Action::dispatch('Catalyst::Action=HASH(0x4208ee0)', 'TestApp=HASH(0x42aa1a0)') called at /opt/perl-5.18.2t/lib/site_perl/5.18.2/Catalyst/Controller.pm line 161
	Catalyst::Controller::_ACTION('TestApp::Controller::Root=HASH(0x4136a80)', 'TestApp=HASH(0x42aa1a0)') called at /opt/perl-5.18.2t/lib/site_perl/5.18.2/Catalyst/Action.pm line 65
	Catalyst::Action::execute('Catalyst::Action=HASH(0x42041f8)', 'TestApp::Controller::Root=HASH(0x4136a80)', 'TestApp=HASH(0x42aa1a0)') called at /opt/perl-5.18.2t/lib/site_perl/5.18.2/Catalyst.pm line 1734
	eval {...} called at /opt/perl-5.18.2t/lib/site_perl/5.18.2/Catalyst.pm line 1734
	Catalyst::execute('TestApp=HASH(0x42aa1a0)', 'TestApp::Controller::Root', 'Catalyst::Action=HASH(0x42041f8)') called at /opt/perl-5.18.2t/lib/site_perl/5.18.2/Catalyst/Action.pm line 60
	Catalyst::Action::dispatch('Catalyst::Action=HASH(0x42041f8)', 'TestApp=HASH(0x42aa1a0)') called at /opt/perl-5.18.2t/lib/site_perl/5.18.2/Catalyst/Dispatcher.pm line 258
	Catalyst::Dispatcher::_do_forward('Catalyst::Dispatcher=HASH(0x313a800)', 'forward', 'TestApp=HASH(0x42aa1a0)', '_ACTION') called at /opt/perl-5.18.2t/lib/site_perl/5.18.2/Catalyst/Dispatcher.pm line 238
	Catalyst::Dispatcher::forward('Catalyst::Dispatcher=HASH(0x313a800)', 'TestApp=HASH(0x42aa1a0)', '_ACTION') called at /opt/perl-5.18.2t/lib/site_perl/5.18.2/Catalyst.pm line 397
	Catalyst::forward('TestApp=HASH(0x42aa1a0)', '_ACTION') called at /opt/perl-5.18.2t/lib/site_perl/5.18.2/Catalyst/Controller.pm line 135
	Catalyst::Controller::_DISPATCH('TestApp::Controller::Root=HASH(0x4136a80)', 'TestApp=HASH(0x42aa1a0)') called at /opt/perl-5.18.2t/lib/site_perl/5.18.2/Catalyst/Action.pm line 65
	Catalyst::Action::execute('Catalyst::Action=HASH(0x41f64b0)', 'TestApp::Controller::Root=HASH(0x4136a80)', 'TestApp=HASH(0x42aa1a0)') called at /opt/perl-5.18.2t/lib/site_perl/5.18.2/Catalyst.pm line 1734
	eval {...} called at /opt/perl-5.18.2t/lib/site_perl/5.18.2/Catalyst.pm line 1734
	Catalyst::execute('TestApp=HASH(0x42aa1a0)', 'TestApp::Controller::Root', 'Catalyst::Action=HASH(0x41f64b0)') called at /opt/perl-5.18.2t/lib/site_perl/5.18.2/Catalyst/Action.pm line 60
	Catalyst::Action::dispatch('Catalyst::Action=HASH(0x41f64b0)', 'TestApp=HASH(0x42aa1a0)') called at /opt/perl-5.18.2t/lib/site_perl/5.18.2/Catalyst/Dispatcher.pm line 258
	Catalyst::Dispatcher::_do_forward('Catalyst::Dispatcher=HASH(0x313a800)', 'forward', 'TestApp=HASH(0x42aa1a0)', '/root/_DISPATCH') called at /opt/perl-5.18.2t/lib/site_perl/5.18.2/Catalyst/Dispatcher.pm line 238
	Catalyst::Dispatcher::forward('Catalyst::Dispatcher=HASH(0x313a800)', 'TestApp=HASH(0x42aa1a0)', '/root/_DISPATCH') called at /opt/perl-5.18.2t/lib/site_perl/5.18.2/Catalyst.pm line 397
	Catalyst::forward('TestApp=HASH(0x42aa1a0)', '/root/_DISPATCH') called at /opt/perl-5.18.2t/lib/site_perl/5.18.2/Catalyst/Dispatcher.pm line 106
	Catalyst::Dispatcher::dispatch('Catalyst::Dispatcher=HASH(0x313a800)', 'TestApp=HASH(0x42aa1a0)') called at /opt/perl-5.18.2t/lib/site_perl/5.18.2/Catalyst.pm line 1680
	Catalyst::dispatch('TestApp=HASH(0x42aa1a0)') called at /opt/perl-5.18.2t/lib/site_perl/5.18.2/Catalyst.pm line 2019
	Catalyst::try {...} () called at /opt/perl-5.18.2t/lib/site_perl/5.18.2/Try/Tiny.pm line 81
	eval {...} called at /opt/perl-5.18.2t/lib/site_perl/5.18.2/Try/Tiny.pm line 72
	Try::Tiny::try('CODE(0x42483c8)', 'Try::Tiny::Catch=REF(0x4248260)') called at /opt/perl-5.18.2t/lib/site_perl/5.18.2/Catalyst.pm line 2028
	Catalyst::handle_request('TestApp', 'env', 'HASH(0x400a368)', 'response_cb', 'CODE(0x42482c0)') called at /opt/perl-5.18.2t/lib/site_perl/5.18.2/Catalyst/Engine.pm line 797
	Catalyst::Engine::__ANON__('CODE(0x42482c0)') called at /opt/perl-5.18.2t/lib/site_perl/5.18.2/Plack/Middleware/HTTPExceptions.pm line 32
	Plack::Middleware::HTTPExceptions::try {...} () called at /opt/perl-5.18.2t/lib/site_perl/5.18.2/Try/Tiny.pm line 81
	eval {...} called at /opt/perl-5.18.2t/lib/site_perl/5.18.2/Try/Tiny.pm line 72
	Try::Tiny::try('CODE(0x42480f8)', 'Try::Tiny::Catch=REF(0x4247720)') called at /opt/perl-5.18.2t/lib/site_perl/5.18.2/Plack/Middleware/HTTPExceptions.pm line 41
	Plack::Middleware::HTTPExceptions::__ANON__('CODE(0x4247ff0)') called at /opt/perl-5.18.2t/lib/site_perl/5.18.2/Plack/Util.pm line 301
	Plack::Util::__ANON__('CODE(0x4247ee8)') called at /opt/perl-5.18.2t/lib/site_perl/5.18.2/Plack/Util.pm line 301
	Plack::Util::__ANON__('CODE(0x4247de0)') called at /opt/perl-5.18.2t/lib/site_perl/5.18.2/Plack/Util.pm line 301
	Plack::Util::__ANON__('CODE(0x4247d68)') called at /opt/perl-5.18.2t/lib/site_perl/5.18.2/HTTP/Message/PSGI.pm line 100
	HTTP::Message::PSGI::res_from_psgi('CODE(0x42475e8)') called at /opt/perl-5.18.2t/lib/site_perl/5.18.2/HTTP/Message/PSGI.pm line 155
	HTTP::Response::from_psgi('HTTP::Response', 'CODE(0x42475e8)') called at /opt/perl-5.18.2t/lib/site_perl/5.18.2/Plack/Test/MockHTTP.pm line 24
	Plack::Test::MockHTTP::try {...} () called at /opt/perl-5.18.2t/lib/site_perl/5.18.2/Try/Tiny.pm line 76
	eval {...} called at /opt/perl-5.18.2t/lib/site_perl/5.18.2/Try/Tiny.pm line 72
	Try::Tiny::try('CODE(0x4054fd0)', 'Try::Tiny::Catch=REF(0x41caca8)') called at /opt/perl-5.18.2t/lib/site_perl/5.18.2/Plack/Test/MockHTTP.pm line 27
	Plack::Test::MockHTTP::request('Plack::Test::MockHTTP=HASH(0x421f808)', 'HTTP::Request=HASH(0x4215570)') called at /opt/perl-5.18.2t/lib/site_perl/5.18.2/Plack/Test.pm line 38
	Plack::Test::__ANON__('HTTP::Request=HASH(0x4215570)') called at /opt/perl-5.18.2t/lib/site_perl/5.18.2/Catalyst/Test.pm line 281
	Catalyst::Test::__ANON__('CODE(0x421f688)') called at /opt/perl-5.18.2t/lib/site_perl/5.18.2/Plack/Test.pm line 38
	Plack::Test::test_psgi('app', 'CODE(0x4215108)', 'mangle_response', 'CODE(0x311f580)', 'app', 'CODE(0x421f4c0)', 'client', 'CODE(0x421f568)') called at /opt/perl-5.18.2t/lib/site_perl/5.18.2/Catalyst/Test.pm line 284
	Catalyst::Test::_request('HASH(0x106e818)', '/email_app_config?time=1400067676') called at /opt/perl-5.18.2t/lib/site_perl/5.18.2/Catalyst/Test.pm line 327
	Catalyst::Test::_local_request('TestApp', '/email_app_config?time=1400067676') called at /opt/perl-5.18.2t/lib/site_perl/5.18.2/Catalyst/Test.pm line 32
	Catalyst::Test::__ANON__('/email_app_config?time=1400067676') called at t/06config.t line 21
t/06config.t .... ok
t/07mason.t ..... skipped: Test requires module 'Catalyst::View::Mason' but it's not found
All tests successful.
Files=6, Tests=34,  2 wallclock secs ( 0.02 usr  0.04 sys +  2.25 cusr  0.29 csys =  2.60 CPU)
Result: PASS

------------------------------
PREREQUISITES
------------------------------

Prerequisite modules loaded:

requires:

    Module                Need     Have    
    --------------------- -------- --------
    Authen::SASL          2.13     2.16    
    Catalyst              5.7      5.90064 
    Email::MIME           1.859    1.926   
    Email::MIME::Creator  1.455    1.926   
    Email::Sender::Simple 0.100110 1.300011
    MIME::Base64          3.08     3.13    
    Moose                 0.93     2.1205  
    parent                0.223    0.225   
    Test::More            0.88     1.001003
    Test::Requires        0        0.07    

build_requires:

    Module                Need     Have    
    --------------------- -------- --------
    ExtUtils::MakeMaker   6.36     6.98    
    Test::More            0        1.001003
    Test::Requires        0        0.07    

configure_requires:

    Module                Need     Have    
    --------------------- -------- --------
    ExtUtils::MakeMaker   6.36     6.98    


------------------------------
ENVIRONMENT AND OTHER CONTEXT
------------------------------

Environment variables:

    DBIC_NO_WARN_BAD_PERL = 1
    LANG = C
    PATH = /usr/local/bin:/usr/bin:/bin:/usr/local/sbin:/usr/sbin:/sbin:/home/eserte/bin/linux-gnu:/home/eserte/bin/sh:/home/eserte/bin:/usr/games:/home/eserte/devel:/home/eserte/src/srezic-misc/scripts
    PERL = /bbbike/perl-5.18.2t/bin/perl
    PERL5LIB = 
    PERL5OPT = 
    PERL5_CPANPLUS_IS_RUNNING = 8109
    PERL5_CPAN_IS_RUNNING = 8109
    PERL5_CPAN_IS_RUNNING_IN_RECURSION = 7959,8109
    PERLDOC = -MPod::Perldoc::ToTextOverstrike
    PERL_BATCH = yes
    PERL_CPAN_REPORTER_CONFIG = /var/tmp/cpansmoker-1001/aVLM63EswO_config.ini
    PERL_EXTUTILS_AUTOINSTALL = --defaultdeps
    PERL_HTML_DISPLAY_CLASS = HTML::Display::Mozilla
    PERL_PARALLEL_SMOKER = yes
    SHELL = /bin/zsh
    TERM = screen
    TMPDIR = /var/tmp/cpansmoker-1001

Perl special variables (and OS-specific diagnostics, for MSWin32):

    $^X = /bbbike/perl-5.18.2t/bin/perl
    $UID/$EUID = 1001 / 1001
    $GID = 1001 109 1001
    $EGID = 1001 109 1001

Perl module toolchain versions installed:

    Module              Have    
    ------------------- --------
    CPAN                2.00    
    CPAN::Meta          2.141170
    Cwd                 3.40    
    ExtUtils::CBuilder  0.280210
    ExtUtils::Command   1.17    
    ExtUtils::Install   1.59    
    ExtUtils::MakeMaker 6.98    
    ExtUtils::Manifest  1.63    
    ExtUtils::ParseXS   3.18    
    File::Spec          3.40    
    JSON                2.90    
    JSON::PP            2.27203 
    Module::Build       0.4205  
    Module::Signature   n/a     
    Parse::CPAN::Meta   1.4414  
    Test::Harness       3.30    
    Test::More          1.001003
    YAML                0.90    
    YAML::Syck          1.27    
    version             0.9902  


--

Summary of my perl5 (revision 5 version 18 subversion 2) configuration:
   
  Platform:
    osname=linux, osvers=3.2.0-4-amd64, archname=x86_64-linux-thread-multi
    uname='linux eserte 3.2.0-4-amd64 #1 smp debian 3.2.57-3 x86_64 gnulinux '
    config_args='-ds -e -Dprefix=/opt/perl-5.18.2t -Dusethreads'
    hint=recommended, useposix=true, d_sigaction=define
    useithreads=define, usemultiplicity=define
    useperlio=define, d_sfio=undef, uselargefiles=define, usesocks=undef
    use64bitint=define, use64bitall=define, uselongdouble=undef
    usemymalloc=n, bincompat5005=undef
  Compiler:
    cc='cc', ccflags ='-D_REENTRANT -D_GNU_SOURCE -fno-strict-aliasing -pipe -fstack-protector -I/usr/local/include -D_LARGEFILE_SOURCE -D_FILE_OFFSET_BITS=64',
    optimize='-O2',
    cppflags='-D_REENTRANT -D_GNU_SOURCE -fno-strict-aliasing -pipe -fstack-protector -I/usr/local/include'
    ccversion='', gccversion='4.7.2', gccosandvers=''
    intsize=4, longsize=8, ptrsize=8, doublesize=8, byteorder=12345678
    d_longlong=define, longlongsize=8, d_longdbl=define, longdblsize=16
    ivtype='long', ivsize=8, nvtype='double', nvsize=8, Off_t='off_t', lseeksize=8
    alignbytes=8, prototype=define
  Linker and Libraries:
    ld='cc', ldflags =' -fstack-protector -L/usr/local/lib'
    libpth=/usr/local/lib /lib/x86_64-linux-gnu /lib/../lib /usr/lib/x86_64-linux-gnu /usr/lib/../lib /lib /usr/lib
    libs=-lnsl -ldb -ldl -lm -lcrypt -lutil -lpthread -lc
    perllibs=-lnsl -ldl -lm -lcrypt -lutil -lpthread -lc
    libc=, so=so, useshrplib=false, libperl=libperl.a
    gnulibc_version='2.13'
  Dynamic Linking:
    dlsrc=dl_dlopen.xs, dlext=so, d_dlsymun=undef, ccdlflags='-Wl,-E'
    cccdlflags='-fPIC', lddlflags='-shared -O2 -L/usr/local/lib -fstack-protector'


Characteristics of this binary (from libperl): 
  Compile-time options: HAS_TIMES MULTIPLICITY PERLIO_LAYERS
                        PERL_DONT_CREATE_GVSV
                        PERL_HASH_FUNC_ONE_AT_A_TIME_HARD
                        PERL_IMPLICIT_CONTEXT PERL_MALLOC_WRAP
                        PERL_PRESERVE_IVUV PERL_SAWAMPERSAND USE_64_BIT_ALL
                        USE_64_BIT_INT USE_ITHREADS USE_LARGE_FILES
                        USE_LOCALE USE_LOCALE_COLLATE USE_LOCALE_CTYPE
                        USE_LOCALE_NUMERIC USE_PERLIO USE_PERL_ATOF
                        USE_REENTRANT_API
  Built under linux
  Compiled at May 14 2014 07:16:29
  %ENV:
    PERL="/bbbike/perl-5.18.2t/bin/perl"
    PERL5LIB=""
    PERL5OPT=""
    PERL5_CPANPLUS_IS_RUNNING="8109"
    PERL5_CPAN_IS_RUNNING="8109"
    PERL5_CPAN_IS_RUNNING_IN_RECURSION="7959,8109"
    PERLDOC="-MPod::Perldoc::ToTextOverstrike"
    PERL_BATCH="yes"
    PERL_CPAN_REPORTER_CONFIG="/var/tmp/cpansmoker-1001/aVLM63EswO_config.ini"
    PERL_EXTUTILS_AUTOINSTALL="--defaultdeps"
    PERL_HTML_DISPLAY_CLASS="HTML::Display::Mozilla"
    PERL_PARALLEL_SMOKER="yes"
  @INC:
    /opt/perl-5.18.2t/lib/site_perl/5.18.2/x86_64-linux-thread-multi
    /opt/perl-5.18.2t/lib/site_perl/5.18.2
    /opt/perl-5.18.2t/lib/5.18.2/x86_64-linux-thread-multi
    /opt/perl-5.18.2t/lib/5.18.2
    .