Report for Text-MacroScript-2.09_04

Back
From: metabase:user:314402c4-2aae-11df-837a-5e0a49663a4f
Subject: PASS Text-MacroScript-2.09_04 v5.18.2 FreeBSD
Date: 2015-05-24T21:34:57Z

This distribution has been tested as part of the CPAN Testers
project, supporting the Perl programming language.  See
http://wiki.cpantesters.org/ for more information or email
questions to cpan-testers-discuss@perl.org


--
Dear Paulo Custodio,

This is a computer-generated report for Text-MacroScript-2.09_04
on perl 5.18.2, created by CPAN-Reporter-1.2014.

Thank you for uploading your work to CPAN.  Congratulations!
All tests were successful.

Sections of this report:

    * Tester comments
    * Program output
    * Prerequisites
    * Environment and other context

------------------------------
TESTER COMMENTS
------------------------------

Additional comments from tester:

none provided

------------------------------
PROGRAM OUTPUT
------------------------------

Output from '/usr/bin/make test':

PERL_DL_NONLAZY=1 "/usr/perl5.18.2/bin/perl" "-MExtUtils::Command::MM" "-MTest::Harness" "-e" "undef *Test::Harness::Switches; test_harness(0, 'blib/lib', 'blib/arch')" t/*.t
t/case.t ......... ok
t/comment.t ...... ok
# file '~/testmacroscript.tmp~' not found
# Issue #46: Syntax error in %CASE expression is not caught
# Issue #47 eval error when evaluating a SCRIPT is not caught and Perl error message is output
# Issue #49: Missing parameter or unescaped # in MACRO not reported for all missing parameters
t/expand_file.t .. ok
# Issue #10: macrodir always in embedded mode, ignoring -p option
# Issue #10: macrodir always in embedded mode, ignoring -p option
# Issue #10: macrodir always in embedded mode, ignoring -p option
# Issue #10: macrodir always in embedded mode, ignoring -p option
# Issue #10: macrodir always in embedded mode, ignoring -p option
# Issue #10: macrodir always in embedded mode, ignoring -p option
# Issue #10: macrodir always in embedded mode, ignoring -p option
# Issue #10: macrodir always in embedded mode, ignoring -p option
# Issue #10: macrodir always in embedded mode, ignoring -p option
# Issue #9: macrodir -d: does not replicate source tree in target directory
# Issue #10: macrodir always in embedded mode, ignoring -p option
# Issue #10: macrodir always in embedded mode, ignoring -p option
# Issue #10: macrodir always in embedded mode, ignoring -p option
# Issue #10: macrodir always in embedded mode, ignoring -p option
# Issue #10: macrodir always in embedded mode, ignoring -p option
# Issue #10: macrodir always in embedded mode, ignoring -p option
# Issue #10: macrodir always in embedded mode, ignoring -p option
# Issue #10: macrodir always in embedded mode, ignoring -p option
# Issue #10: macrodir always in embedded mode, ignoring -p option
# Issue #10: macrodir always in embedded mode, ignoring -p option
t/macrodir.t ..... ok
# Issue #23: macropp: report errors on syntax error
# Issue #23: macropp: report errors on syntax error
t/macropp.t ...... ok
# Issue #1: expansion depends on size of macro name
# Issue #4: undefine_all() should carp if no option is given
# Issue #2: expand() does not accept a multi-line text
# Issue #1: expansion depends on size of macro name
# Issue #3: Cannot catch error "missing parameter or unescaped # in MACRO"
# Issue #37: Variables should be expanded in all input text, not only in macro scripts
# Issue #37: Variables should be expanded in all input text, not only in macro scripts
t/macros.t ....... ok
t/macroscript.t .. ok
# Issue #2: expand() does not accept a multi-line text
t/new.t .......... ok
# Issue #41: Macro/script arguments do not nest
# Issue #5: Syntax SUM[] should be accepted to call script without parameters
# Issue #7: expansion depends on size of script name
# Issue #3: Cannot catch error "missing parameter or unescaped # in MACRO"
# Issue #37: Variables should be expanded in all input text, not only in macro scripts
t/scripts.t ...... ok
# Issue #38: Variables with # syntax not parsed by $Macro->define()
# Issue #39: Undefined #var use causes perl error message without location
# Issue #38: Variables with # syntax not parsed by $Macro->define()
# Issue #39: Undefined #var use causes perl error message without location
# Issue #38: Variables with # syntax not parsed by $Macro->define()
# Issue #39: Undefined #var use causes perl error message without location
# Issue #38: Variables with # syntax not parsed by $Macro->define()
# Issue #39: Undefined #var use causes perl error message without location
# Issue #38: Variables with # syntax not parsed by $Macro->define()
# Issue #39: Undefined #var use causes perl error message without location
Cannot undefine non-existent VARIABLE N3 at t/variables.t line 65.
Cannot undefine non-existent VARIABLE N4 at t/variables.t line 65.
Cannot undefine non-existent VARIABLE N5 at t/variables.t line 65.
# Issue #40: Variables should accept expressions and compute them
t/variables.t .... ok
All tests successful.
Files=10, Tests=704, 27 wallclock secs ( 0.51 usr  0.33 sys + 16.99 cusr  6.20 csys = 24.03 CPU)
Result: PASS

------------------------------
PREREQUISITES
------------------------------

Prerequisite modules loaded:

requires:

    Module              Need  Have    
    ------------------- ----- --------
    Capture::Tiny       0.22  0.30    
    Object::Tiny::RW    1.07  1.07    
    Path::Tiny          0.068 0.068   
    perl                5.01  5.018002
    Test::Differences   0.61  0.63    

build_requires:

    Module              Need  Have    
    ------------------- ----- --------
    ExtUtils::MakeMaker 0     7.04    

configure_requires:

    Module              Need  Have    
    ------------------- ----- --------
    ExtUtils::MakeMaker 0     7.04    


------------------------------
ENVIRONMENT AND OTHER CONTEXT
------------------------------

Environment variables:

    DBIC_NO_WARN_BAD_PERL = 1
    LC_ALL = de_DE.ISO8859-1
    PATH = /usr/local/bin:/usr/bin:/bin:/usr/local/sbin:/usr/sbin:/sbin:/home/cpansand/bin/freebsd9.1:/home/cpansand/bin/sh:/home/cpansand/bin:/usr/games:/home/cpansand/devel:/usr/home/eserte/src/srezic-misc/scripts
    PERL5LIB = /home/eserte/.cpan/build/Test-Smoke-1.61_09-HF6UAL/blib/arch:/home/eserte/.cpan/build/Test-Smoke-1.61_09-HF6UAL/blib/lib:/home/eserte/.cpan/build/Prima-1.43_1-zFu4AR/blib/arch:/home/eserte/.cpan/build/Prima-1.43_1-zFu4AR/blib/lib:/home/eserte/.cpan/build/lib-filter-0.03-DOOdSn/blib/arch:/home/eserte/.cpan/build/lib-filter-0.03-DOOdSn/blib/lib:/home/eserte/.cpan/build/Aniki-0.02_03-HBsodI/blib/arch:/home/eserte/.cpan/build/Aniki-0.02_03-HBsodI/blib/lib:/home/eserte/.cpan/build/SQL-NamedPlaceholder-0.04-OxaRGU/blib/arch:/home/eserte/.cpan/build/SQL-NamedPlaceholder-0.04-OxaRGU/blib/lib:/home/eserte/.cpan/build/SQL-Statement-1.406_002-YuHEB2/blib/arch:/home/eserte/.cpan/build/SQL-Statement-1.406_002-YuHEB2/blib/lib:/home/eserte/.cpan/build/Math-Base-Convert-0.08-Waq8FA/blib/arch:/home/eserte/.cpan/build/Math-Base-Convert-0.08-Waq8FA/blib/lib
    PERL5OPT = 
    PERL5_CPANPLUS_IS_RUNNING = 157
    PERL5_CPAN_IS_RUNNING = 157
    PERL5_CPAN_IS_RUNNING_IN_RECURSION = 138,157
    PERLDOC = -MPod::Perldoc::ToTextOverstrike
    PERL_BATCH = yes
    PERL_CPAN_REPORTER_CONFIG = /var/tmp/cpansmoker-1023/cpanreporter_000_config.ini
    PERL_EXTUTILS_AUTOINSTALL = --defaultdeps
    PERL_HTML_DISPLAY_CLASS = HTML::Display::Mozilla
    SHELL = /usr/local/bin/zsh
    TERM = screen
    TMPDIR = /var/tmp/cpansmoker-1023

Perl special variables (and OS-specific diagnostics, for MSWin32):

    $^X = /usr/perl5.18.2/bin/perl
    $UID/$EUID = 1023 / 1023
    $GID = 1023 1023
    $EGID = 1023 1023

Perl module toolchain versions installed:

    Module              Have    
    ------------------- --------
    CPAN                2.10    
    CPAN::Meta          2.150001
    Cwd                 3.47    
    ExtUtils::CBuilder  0.280220
    ExtUtils::Command   1.20    
    ExtUtils::Install   2.04    
    ExtUtils::MakeMaker 7.04    
    ExtUtils::Manifest  1.69    
    ExtUtils::ParseXS   3.24    
    File::Spec          3.47    
    JSON                2.90    
    JSON::PP            2.27203 
    Module::Build       0.4212  
    Module::Signature   0.79    
    Parse::CPAN::Meta   1.4414  
    Test::Harness       3.35    
    Test::More          1.001014
    YAML                1.15    
    YAML::Syck          1.29    
    version             0.9912  


--

Summary of my perl5 (revision 5 version 18 subversion 2) configuration:
   
  Platform:
    osname=freebsd, osvers=9.2-release-p4, archname=amd64-freebsd
    uname='freebsd cvrsnica-freebsd-92 9.2-release-p4 freebsd 9.2-release-p4 #0: tue apr 8 18:08:22 utc 2014 root@amd64-builder.daemonology.net:usrobjusrsrcsysgeneric amd64 '
    config_args='-ds -e -Dprefix=/usr/perl5.18.2'
    hint=recommended, useposix=true, d_sigaction=define
    useithreads=undef, usemultiplicity=undef
    useperlio=define, d_sfio=undef, uselargefiles=define, usesocks=undef
    use64bitint=define, use64bitall=define, uselongdouble=undef
    usemymalloc=n, bincompat5005=undef
  Compiler:
    cc='cc', ccflags ='-DHAS_FPSETMASK -DHAS_FLOATINGPOINT_H -fno-strict-aliasing -pipe -fstack-protector -I/usr/local/include',
    optimize='-O',
    cppflags='-DHAS_FPSETMASK -DHAS_FLOATINGPOINT_H -fno-strict-aliasing -pipe -fstack-protector -I/usr/local/include'
    ccversion='', gccversion='4.2.1 20070831 patched [FreeBSD]', gccosandvers=''
    intsize=4, longsize=8, ptrsize=8, doublesize=8, byteorder=12345678
    d_longlong=define, longlongsize=8, d_longdbl=define, longdblsize=16
    ivtype='long', ivsize=8, nvtype='double', nvsize=8, Off_t='off_t', lseeksize=8
    alignbytes=8, prototype=define
  Linker and Libraries:
    ld='cc', ldflags ='-Wl,-E  -fstack-protector -L/usr/local/lib'
    libpth=/usr/lib /usr/local/lib
    libs=-lgdbm -lm -lcrypt -lutil -lc
    perllibs=-lm -lcrypt -lutil -lc
    libc=, so=so, useshrplib=false, libperl=libperl.a
    gnulibc_version=''
  Dynamic Linking:
    dlsrc=dl_dlopen.xs, dlext=so, d_dlsymun=undef, ccdlflags=' '
    cccdlflags='-DPIC -fPIC', lddlflags='-shared  -L/usr/local/lib -fstack-protector'


Characteristics of this binary (from libperl): 
  Compile-time options: HAS_TIMES PERLIO_LAYERS PERL_DONT_CREATE_GVSV
                        PERL_HASH_FUNC_ONE_AT_A_TIME_HARD PERL_MALLOC_WRAP
                        PERL_PRESERVE_IVUV PERL_SAWAMPERSAND USE_64_BIT_ALL
                        USE_64_BIT_INT USE_LARGE_FILES USE_LOCALE
                        USE_LOCALE_COLLATE USE_LOCALE_CTYPE
                        USE_LOCALE_NUMERIC USE_PERLIO USE_PERL_ATOF
  Built under freebsd
  Compiled at May 16 2014 01:27:28
  %ENV:
    PERL5LIB="/home/eserte/.cpan/build/Test-Smoke-1.61_09-HF6UAL/blib/arch:/home/eserte/.cpan/build/Test-Smoke-1.61_09-HF6UAL/blib/lib:/home/eserte/.cpan/build/Prima-1.43_1-zFu4AR/blib/arch:/home/eserte/.cpan/build/Prima-1.43_1-zFu4AR/blib/lib:/home/eserte/.cpan/build/lib-filter-0.03-DOOdSn/blib/arch:/home/eserte/.cpan/build/lib-filter-0.03-DOOdSn/blib/lib:/home/eserte/.cpan/build/Aniki-0.02_03-HBsodI/blib/arch:/home/eserte/.cpan/build/Aniki-0.02_03-HBsodI/blib/lib:/home/eserte/.cpan/build/SQL-NamedPlaceholder-0.04-OxaRGU/blib/arch:/home/eserte/.cpan/build/SQL-NamedPlaceholder-0.04-OxaRGU/blib/lib:/home/eserte/.cpan/build/SQL-Statement-1.406_002-YuHEB2/blib/arch:/home/eserte/.cpan/build/SQL-Statement-1.406_002-YuHEB2/blib/lib:/home/eserte/.cpan/build/Math-Base-Convert-0.08-Waq8FA/blib/arch:/home/eserte/.cpan/build/Math-Base-Convert-0.08-Waq8FA/blib/lib"
    PERL5OPT=""
    PERL5_CPANPLUS_IS_RUNNING="157"
    PERL5_CPAN_IS_RUNNING="157"
    PERL5_CPAN_IS_RUNNING_IN_RECURSION="138,157"
    PERLDOC="-MPod::Perldoc::ToTextOverstrike"
    PERL_BATCH="yes"
    PERL_CPAN_REPORTER_CONFIG="/var/tmp/cpansmoker-1023/cpanreporter_000_config.ini"
    PERL_EXTUTILS_AUTOINSTALL="--defaultdeps"
    PERL_HTML_DISPLAY_CLASS="HTML::Display::Mozilla"
  @INC:
    /home/eserte/.cpan/build/Test-Smoke-1.61_09-HF6UAL/blib/arch
    /home/eserte/.cpan/build/Test-Smoke-1.61_09-HF6UAL/blib/lib
    /home/eserte/.cpan/build/Prima-1.43_1-zFu4AR/blib/arch
    /home/eserte/.cpan/build/Prima-1.43_1-zFu4AR/blib/lib
    /home/eserte/.cpan/build/lib-filter-0.03-DOOdSn/blib/arch
    /home/eserte/.cpan/build/lib-filter-0.03-DOOdSn/blib/lib
    /home/eserte/.cpan/build/Aniki-0.02_03-HBsodI/blib/arch
    /home/eserte/.cpan/build/Aniki-0.02_03-HBsodI/blib/lib
    /home/eserte/.cpan/build/SQL-NamedPlaceholder-0.04-OxaRGU/blib/arch
    /home/eserte/.cpan/build/SQL-NamedPlaceholder-0.04-OxaRGU/blib/lib
    /home/eserte/.cpan/build/SQL-Statement-1.406_002-YuHEB2/blib/arch
    /home/eserte/.cpan/build/SQL-Statement-1.406_002-YuHEB2/blib/lib
    /home/eserte/.cpan/build/Math-Base-Convert-0.08-Waq8FA/blib/arch
    /home/eserte/.cpan/build/Math-Base-Convert-0.08-Waq8FA/blib/lib
    /usr/perl5.18.2/lib/site_perl/5.18.2/amd64-freebsd
    /usr/perl5.18.2/lib/site_perl/5.18.2
    /usr/perl5.18.2/lib/5.18.2/amd64-freebsd
    /usr/perl5.18.2/lib/5.18.2
    .