Report for Pod-Weaver-PluginBundle-Apocalyptic-0.002

Back
From: metabase:user:320bfe00-2aae-11df-837a-5e0a49663a4f
Subject: PASS Pod-Weaver-PluginBundle-Apocalyptic-0.002 v5.15.1 GNU/Linux
Date: 2011-08-04T11:48:52Z

This distribution has been tested as part of the CPAN Testers
project, supporting the Perl programming language.  See
http://wiki.cpantesters.org/ for more information or email
questions to cpan-testers-discuss@perl.org


--
Dear Apocalypse,

This is a computer-generated report for Pod-Weaver-PluginBundle-Apocalyptic-0.002
on perl 5.15.1, created by CPAN-Reporter-1.1902.

Thank you for uploading your work to CPAN.  Congratulations!
All tests were successful.

Sections of this report:

    * Tester comments
    * Program output
    * Prerequisites
    * Environment and other context

------------------------------
TESTER COMMENTS
------------------------------

Additional comments from tester:

none provided

------------------------------
PROGRAM OUTPUT
------------------------------

Output from './Build test':

t/00-compile.t ................ ok
# 
# 
# perl: v5.15.1 (wanted 5.006) on linux from /home/sand/src/perl/repoperls/installed-perls/perl/v5.15.1-184-gd1558b3/2b65/bin/perl
# 
# File::Find                                    => 1.20       (want any version)
# File::Temp                                    => 0.22       (want any version)
# Module::Build                                 => 0.3901     (want 0.3601) 
# Pod::Elemental::Transformer::List             => 0.101620   (want 0.101620)
# Pod::Weaver::Config::Assembler                => 3.101632   (want 3.101632)
# Pod::Weaver::Plugin::Encoding                 => 0.01       (want 0.01)   
# Pod::Weaver::Plugin::EnsureUniqueSections     => 0.111220   (want 0.103531)
# Pod::Weaver::Plugin::StopWords                => 1.004      (want 1.001005)
# Pod::Weaver::Section::SeeAlso                 => 1.002      (want 1.002)  
# Pod::Weaver::Section::Support                 => 1.004      (want 1.003)  
# Pod::Weaver::Section::WarrantyDisclaimer      => 0.111290   (want 0.103511)
# Test::More                                    => 0.98       (want 0.88)   
# 
# Thanks for using my code.  I hope it works for you.
# If not, please try and include this output in the bug report.
# That will help me reproduce the issue and solve you problem.
# 
t/000-report-versions-tiny.t .. ok
t/apocalypse.t ................ skipped: Test::Apocalypse required for validating the distribution
All tests successful.
Files=3, Tests=2,  2 wallclock secs ( 0.02 usr  0.01 sys +  1.46 cusr  0.12 csys =  1.61 CPU)
Result: PASS

------------------------------
PREREQUISITES
------------------------------

Prerequisite modules loaded:

requires:

    Module                                    Need     Have    
    ----------------------------------------- -------- --------
    perl                                      5.006    5.015001
    Pod::Elemental::Transformer::List         0.101620 0.101620
    Pod::Weaver::Config::Assembler            3.101632 3.101632
    Pod::Weaver::Plugin::Encoding             0.01     0.01    
    Pod::Weaver::Plugin::EnsureUniqueSections 0.103531 0.111220
    Pod::Weaver::Plugin::StopWords            1.001005 1.004   
    Pod::Weaver::Section::SeeAlso             1.002    1.002   
    Pod::Weaver::Section::Support             1.003    1.004   
    Pod::Weaver::Section::WarrantyDisclaimer  0.103511 0.111290

build_requires:

    Module                                    Need     Have    
    ----------------------------------------- -------- --------
    File::Find                                0        1.20    
    File::Temp                                0        0.22    
    Module::Build                             0.3601   0.39_01 
    Test::More                                0.88     0.98    

configure_requires:

    Module                                    Need     Have    
    ----------------------------------------- -------- --------
    Module::Build                             0.3601   0.39_01 


------------------------------
ENVIRONMENT AND OTHER CONTEXT
------------------------------

Environment variables:

    LANG = en_US.UTF-8
    LANGUAGE = en_US:en
    PATH = /usr/lib/ccache:/home/sand/bin:/usr/local/bin:/usr/bin:/bin:/usr/bin/X11:/usr/games:/usr/local/perl/bin:/usr/X11/bin:/sbin:/usr/sbin
    PERL5LIB = /home/sand/.cpan/build/Mason-2.13-es8PRE/blib/arch:/home/sand/.cpan/build/Mason-2.13-es8PRE/blib/lib:/home/sand/.cpan/build/Lemonldap-NG-Manager-1.1.1-WAoTRl/blib/arch:/home/sand/.cpan/build/Lemonldap-NG-Manager-1.1.1-WAoTRl/blib/lib:/home/sand/.cpan/build/HTTP-Throwable-0.016-UPvpS1/blib/arch:/home/sand/.cpan/build/HTTP-Throwable-0.016-UPvpS1/blib/lib:/home/sand/.cpan/build/HTML-FormHandler-0.35001-uSpj3q/blib/arch:/home/sand/.cpan/build/HTML-FormHandler-0.35001-uSpj3q/blib/lib
    PERL5OPT = 
    PERL5_CPANPLUS_IS_RUNNING = 29859
    PERL5_CPAN_IS_RUNNING = 29859
    SHELL = /usr/bin/zsh
    TERM = screen

Perl special variables (and OS-specific diagnostics, for MSWin32):

    $^X = /home/sand/src/perl/repoperls/installed-perls/perl/v5.15.1-184-gd1558b3/2b65/bin/perl
    $UID/$EUID = 1001 / 1001
    $GID = 1001 1001
    $EGID = 1001 1001

Perl module toolchain versions installed:

    Module              Have    
    ------------------- --------
    CPAN                1.9600  
    Cwd                 3.37    
    ExtUtils::CBuilder  0.280204
    ExtUtils::Command   1.17    
    ExtUtils::Install   1.57    
    ExtUtils::MakeMaker 6.58    
    ExtUtils::Manifest  1.58    
    ExtUtils::ParseXS   3.00_05 
    File::Spec          3.33    
    Module::Build       0.39_01 
    Module::Signature   0.68    
    Test::Harness       3.23    
    Test::More          0.98    
    YAML                0.73    
    YAML::Syck          n/a     
    version             0.93    


--

Summary of my perl5 (revision 5 version 15 subversion 1) configuration:
  Commit id: d1558b3e5ee8166e43b25682b925bda52475f61d
  Platform:
    osname=linux, osvers=2.6.39-1-amd64, archname=x86_64-linux-ld
    uname='linux k81 2.6.39-1-amd64 #1 smp tue may 24 14:34:19 utc 2011 x86_64 gnulinux '
    config_args='-Dprefix=/home/src/perl/repoperls/installed-perls/perl/v5.15.1-184-gd1558b3/2b65 -Dinstallusrbinperl=n -Uversiononly -Dusedevel -des -Ui_db -Uuseithreads -Duselongdouble -DDEBUGGING=-g'
    hint=recommended, useposix=true, d_sigaction=define
    useithreads=undef, usemultiplicity=undef
    useperlio=define, d_sfio=undef, uselargefiles=define, usesocks=undef
    use64bitint=define, use64bitall=define, uselongdouble=define
    usemymalloc=n, bincompat5005=undef
  Compiler:
    cc='cc', ccflags ='-fno-strict-aliasing -pipe -fstack-protector -I/usr/local/include -D_LARGEFILE_SOURCE -D_FILE_OFFSET_BITS=64',
    optimize='-O2 -g',
    cppflags='-fno-strict-aliasing -pipe -fstack-protector -I/usr/local/include'
    ccversion='', gccversion='4.6.1', gccosandvers=''
    intsize=4, longsize=8, ptrsize=8, doublesize=8, byteorder=12345678
    d_longlong=define, longlongsize=8, d_longdbl=define, longdblsize=16
    ivtype='long', ivsize=8, nvtype='long double', nvsize=16, Off_t='off_t', lseeksize=8
    alignbytes=16, prototype=define
  Linker and Libraries:
    ld='cc', ldflags =' -fstack-protector -L/usr/local/lib'
    libpth=/usr/local/lib /lib/x86_64-linux-gnu /usr/lib/x86_64-linux-gnu /lib /usr/lib /lib64 /usr/lib64
    libs=-lnsl -ldb -ldl -lm -lcrypt -lutil -lc
    perllibs=-lnsl -ldl -lm -lcrypt -lutil -lc
    libc=, so=so, useshrplib=false, libperl=libperl.a
    gnulibc_version='2.13'
  Dynamic Linking:
    dlsrc=dl_dlopen.xs, dlext=so, d_dlsymun=undef, ccdlflags='-Wl,-E'
    cccdlflags='-fPIC', lddlflags='-shared -O2 -g -L/usr/local/lib -fstack-protector'


Characteristics of this binary (from libperl): 
  Compile-time options: HAS_TIMES PERLIO_LAYERS PERL_DONT_CREATE_GVSV
                        PERL_MALLOC_WRAP PERL_PRESERVE_IVUV PERL_USE_DEVEL
                        USE_64_BIT_ALL USE_64_BIT_INT USE_LARGE_FILES
                        USE_LOCALE USE_LOCALE_COLLATE USE_LOCALE_CTYPE
                        USE_LOCALE_NUMERIC USE_LONG_DOUBLE USE_PERLIO
                        USE_PERL_ATOF
  Built under linux
  Compiled at Aug  2 2011 23:29:52
  %ENV:
    PERL5LIB="/home/sand/.cpan/build/Mason-2.13-es8PRE/blib/arch:/home/sand/.cpan/build/Mason-2.13-es8PRE/blib/lib:/home/sand/.cpan/build/Lemonldap-NG-Manager-1.1.1-WAoTRl/blib/arch:/home/sand/.cpan/build/Lemonldap-NG-Manager-1.1.1-WAoTRl/blib/lib:/home/sand/.cpan/build/HTTP-Throwable-0.016-UPvpS1/blib/arch:/home/sand/.cpan/build/HTTP-Throwable-0.016-UPvpS1/blib/lib:/home/sand/.cpan/build/HTML-FormHandler-0.35001-uSpj3q/blib/arch:/home/sand/.cpan/build/HTML-FormHandler-0.35001-uSpj3q/blib/lib"
    PERL5OPT=""
    PERL5_CPANPLUS_IS_RUNNING="29859"
    PERL5_CPAN_IS_RUNNING="29859"
  @INC:
    /home/sand/.cpan/build/Mason-2.13-es8PRE/blib/arch
    /home/sand/.cpan/build/Mason-2.13-es8PRE/blib/lib
    /home/sand/.cpan/build/Lemonldap-NG-Manager-1.1.1-WAoTRl/blib/arch
    /home/sand/.cpan/build/Lemonldap-NG-Manager-1.1.1-WAoTRl/blib/lib
    /home/sand/.cpan/build/HTTP-Throwable-0.016-UPvpS1/blib/arch
    /home/sand/.cpan/build/HTTP-Throwable-0.016-UPvpS1/blib/lib
    /home/sand/.cpan/build/HTML-FormHandler-0.35001-uSpj3q/blib/arch
    /home/sand/.cpan/build/HTML-FormHandler-0.35001-uSpj3q/blib/lib
    /home/src/perl/repoperls/installed-perls/perl/v5.15.1-184-gd1558b3/2b65/lib/site_perl/5.15.1/x86_64-linux-ld
    /home/src/perl/repoperls/installed-perls/perl/v5.15.1-184-gd1558b3/2b65/lib/site_perl/5.15.1
    /home/src/perl/repoperls/installed-perls/perl/v5.15.1-184-gd1558b3/2b65/lib/5.15.1/x86_64-linux-ld
    /home/src/perl/repoperls/installed-perls/perl/v5.15.1-184-gd1558b3/2b65/lib/5.15.1
    .