Report for Wiki-Toolkit-0.80

Back
From: metabase:user:58c66572-6c8d-1014-999c-ac003c5145ae
Subject: PASS Wiki-Toolkit-0.80 v5.16.0 
Date: 2013-03-19T09:51:40Z

This distribution has been tested as part of the CPAN Testers
project, supporting the Perl programming language.  See
http://wiki.cpantesters.org/ for more information or email
questions to cpan-testers-discuss@perl.org


--
Dear Dominic Hargreaves,

This is a computer-generated report for Wiki-Toolkit-0.80
on perl 5.16.0, created by CPAN-Reporter-1.2006.

Thank you for uploading your work to CPAN.  Congratulations!
All tests were successful.

Sections of this report:

    * Tester comments
    * Program output
    * Prerequisites
    * Environment and other context

------------------------------
TESTER COMMENTS
------------------------------

Additional comments from tester:

this report is from an automated smoke testing program
and was not reviewed by a human for accuracy

------------------------------
PROGRAM OUTPUT
------------------------------

Output from 'C:\strawberry\c\bin\dmake.exe test':

C:\strawberry\perl\bin\perl.exe "-MExtUtils::Command::MM" "-e" "test_harness(0, 'blib\lib', 'blib\arch')" t/*.t
t/001_load.t ........................... ok
t/002_datastore_setup.t ................ ok
t/003_instantiate.t .................... ok
t/004_write_and_retrieve.t ............. ok
t/005_delete.t ......................... ok
t/006_list_all.t ....................... ok
t/007_search.t ......................... ok
t/008_write_and_rewrite.t .............. ok
t/009_backlinks.t ...................... ok
t/010_metadata.t ....................... ok
t/011_recent_changes.t ................. ok
t/012_blank_data.t ..................... ok
t/013_fuzzy_title_match.t .............. ok
t/014_advanced_metadata.t .............. ok
t/015_dangling_links.t ................. ok
t/016_recent_changes_between.t ......... ok
Asked to delete non existant version 2 of node 5 (Five Node) at C:\strawberry\cpan\build\Wiki-Toolkit-0.80-HUKYrp\blib\lib/Wiki/Toolkit/Store/Database.pm line 1053.
t/017_delete_version.t ................. ok
t/018_rc_multiple_metadata_criteria.t .. ok
t/019_recent_changes_case.t ............ ok
t/020_node_exists_case_insensitive.t ... ok
t/021_moderation.t ..................... ok
t/022_list_unmoderated.t ............... ok
t/025_list_node_all_versions.t ......... ok
t/026_schema_current.t ................. ok
t/027_list_last_version_before.t ....... ok
t/040_rename.t ......................... ok
t/050_mysql_store.t .................... ok
t/051_pg_store.t ....................... ok
t/052_sqlite_store.t ................... ok
t/060_recent_changes_new_only.t ........ ok
t/061_list_metadata_by_type.t .......... ok
t/062_recent_changes_metadata_was.t .... ok
t/100_formatting.t ..................... ok
t/101_default_formatter.t .............. ok
t/102_multiple_formatter.t ............. ok
t/150_plugins.t ........................ ok
t/151_plugin_methods.t ................. ok
t/152_pre_plugin_approval.t ............ ok
t/297_feed_rss_recentchanges.t ......... ok
t/298_feed_rss_node_all_versions.t ..... ok
t/299_feed_rss_gen_node_dist_feed.t .... ok
t/300_feed_atom_setup.t ................ ok
t/301_feed_atom_add_test_data.t ........ ok
t/302_feed_atom_recentchanges.t ........ ok
t/303_feed_atom_node_all_versions.t .... ok
t/304_feed_atom_gen_node_dist_feed.t ... ok
t/400_upgrade.t ........................ ok
t/401_null_change.t .................... ok
t/500_pod.t ............................ ok
All tests successful.
Files=49, Tests=952, 233 wallclock secs ( 0.53 usr +  0.36 sys =  0.89 CPU)
Result: PASS

------------------------------
PREREQUISITES
------------------------------

Prerequisite modules loaded:

requires:

    Module              Need Have   
    ------------------- ---- -------
    DBD::SQLite         0.25 1.35   
    DBI                 0    1.618  
    Digest::MD5         0    2.51   
    HTML::PullParser    0    3.57   
    Test::More          0    0.98   
    Text::WikiFormat    0.78 0.80   
    Time::Piece         0    1.20_01

build_requires:

    Module              Need Have   
    ------------------- ---- -------
    ExtUtils::MakeMaker 0    6.63_02

configure_requires:

    Module              Need Have   
    ------------------- ---- -------
    ExtUtils::MakeMaker 0    6.63_02


------------------------------
ENVIRONMENT AND OTHER CONTEXT
------------------------------

Environment variables:

    AUTOMATED_TESTING = 1
    COMSPEC = C:\Windows\system32\cmd.exe
    NUMBER_OF_PROCESSORS = 4
    PATH = C:\Program Files (x86)\NVIDIA Corporation\PhysX\Common;C:\Program Files (x86)\MiKTeX 2.9\miktex\bin;C:\Windows\system32;C:\Windows;C:\Windows\System32\Wbem;C:\Windows\System32\WindowsPowerShell\v1.0\;c:\Program Files (x86)\Microsoft SQL Server\100\Tools\Binn\;c:\Program Files\Microsoft SQL Server\100\Tools\Binn\;c:\Program Files\Microsoft SQL Server\100\DTS\Binn\;c:\Windows\Microsoft.NET\Framework\v4.0.30319;C:\strawberry\c\bin;C:\strawberry\perl\site\bin;C:\strawberry\perl\bin;C:\Program Files (x86)\Git\cmd;C:\Program Files (x86)\Git\bin
    PERL5LIB = C:\strawberry\cpan\build\Text-WikiFormat-0.80-HmxNvP/blib/arch;C:\strawberry\cpan\build\Text-WikiFormat-0.80-HmxNvP/blib/lib;C:\strawberry\cpan\build\VCS-Lite-0.10-Vbcm5z/blib/arch;C:\strawberry\cpan\build\VCS-Lite-0.10-Vbcm5z/blib/lib;C:\strawberry\cpan\build\Wiki-Toolkit-Plugin-RSS-Reader-1.6-6cMmDQ/blib/arch;C:\strawberry\cpan\build\Wiki-Toolkit-Plugin-RSS-Reader-1.6-6cMmDQ/blib/lib;C:\strawberry\cpan\build\XML-RSS-1.49-ZJQhOU/blib/arch;C:\strawberry\cpan\build\XML-RSS-1.49-ZJQhOU/blib/lib;C:\strawberry\cpan\build\DateTime-Format-W3CDTF-0.06-gqyotV/blib/arch;C:\strawberry\cpan\build\DateTime-Format-W3CDTF-0.06-gqyotV/blib/lib;C:\strawberry\cpan\build\DateTime-Format-Mail-0.3001-RdN2HV/blib/arch;C:\strawberry\cpan\build\DateTime-Format-Mail-0.3001-RdN2HV/blib/lib;C:\strawberry\cpan\build\Template-Plugin-JSON-Escape-0.02-KNQSFi/blib/arch;C:\strawberry\cpan\build\Template-Plugin-JSON-Escape-0.02-KNQSFi/blib/lib
    PERL5OPT = 
    PERL5_CPANPLUS_IS_RUNNING = 4980
    PERL5_CPAN_IS_RUNNING = 4980
    PERL5_CPAN_IS_RUNNING_IN_RECURSION = 1920,4980
    PERL_CR_SMOKER_CURRENT = OpenGuides-0.71
    PERL_EXTUTILS_AUTOINSTALL = --defaultdeps
    PERL_JSON_BACKEND = JSON::XS
    PERL_MM_USE_DEFAULT = 1
    PERL_YAML_BACKEND = YAML
    PROCESSOR_IDENTIFIER = AMD64 Family 16 Model 5 Stepping 3, AuthenticAMD
    TEMP = C:\Users\Jeremy\AppData\Local\Temp
    TERM = dumb

Perl special variables (and OS-specific diagnostics, for MSWin32):

    $^X = C:\strawberry\perl\bin\perl.exe
    $UID/$EUID = 0 / 0
    $GID = 0
    $EGID = 0
    Win32::GetOSName = Win7
    Win32::GetOSVersion = Service Pack 1, 6, 1, 7601, 2, 1, 0, 768, 1
    Win32::FsType = NTFS
    Win32::IsAdminUser = 1

Perl module toolchain versions installed:

    Module              Have    
    ------------------- --------
    CPAN                1.9800  
    CPAN::Meta          2.120921
    Cwd                 3.39_02 
    ExtUtils::CBuilder  0.280206
    ExtUtils::Command   1.17    
    ExtUtils::Install   1.58    
    ExtUtils::MakeMaker 6.63_02 
    ExtUtils::Manifest  1.61    
    ExtUtils::ParseXS   3.16    
    File::Spec          3.39_02 
    JSON                2.53    
    JSON::PP            2.27200 
    Module::Build       0.40    
    Module::Signature   n/a     
    Parse::CPAN::Meta   1.4404  
    Test::Harness       3.23    
    Test::More          0.98    
    YAML                0.81    
    YAML::Syck          1.20    
    version             0.99    


--

Summary of my perl5 (revision 5 version 16 subversion 0) configuration:
   
  Platform:
    osname=MSWin32, osvers=4.0, archname=MSWin32-x64-multi-thread
    uname='Win32 strawberry-perl 5.16.0.1 #1 Tue May 22 13:24:11 2012 x64'
    config_args='undef'
    hint=recommended, useposix=true, d_sigaction=undef
    useithreads=define, usemultiplicity=define
    useperlio=define, d_sfio=undef, uselargefiles=define, usesocks=undef
    use64bitint=define, use64bitall=undef, uselongdouble=undef
    usemymalloc=n, bincompat5005=undef
  Compiler:
    cc='gcc', ccflags =' -s -O2 -DWIN32 -DWIN64 -DCONSERVATIVE  -DPERL_TEXTMODE_SCRIPTS -DPERL_IMPLICIT_CONTEXT -DPERL_IMPLICIT_SYS -fno-strict-aliasing -mms-bitfields',
    optimize='-s -O2',
    cppflags='-DWIN32'
    ccversion='', gccversion='4.6.3', gccosandvers=''
    intsize=4, longsize=4, ptrsize=8, doublesize=8, byteorder=12345678
    d_longlong=define, longlongsize=8, d_longdbl=define, longdblsize=12
    ivtype='long long', ivsize=8, nvtype='double', nvsize=8, Off_t='long long', lseeksize=8
    alignbytes=8, prototype=define
  Linker and Libraries:
    ld='g++', ldflags ='-s -L"C:\strawberry\perl\lib\CORE" -L"C:\strawberry\c\lib"'
    libpth=C:\strawberry\c\lib C:\strawberry\c\x86_64-w64-mingw32\lib
    libs=-lmoldname -lkernel32 -luser32 -lgdi32 -lwinspool -lcomdlg32 -ladvapi32 -lshell32 -lole32 -loleaut32 -lnetapi32 -luuid -lws2_32 -lmpr -lwinmm -lversion -lodbc32 -lodbccp32 -lcomctl32
    perllibs=-lmoldname -lkernel32 -luser32 -lgdi32 -lwinspool -lcomdlg32 -ladvapi32 -lshell32 -lole32 -loleaut32 -lnetapi32 -luuid -lws2_32 -lmpr -lwinmm -lversion -lodbc32 -lodbccp32 -lcomctl32
    libc=, so=dll, useshrplib=true, libperl=libperl516.a
    gnulibc_version=''
  Dynamic Linking:
    dlsrc=dl_win32.xs, dlext=dll, d_dlsymun=undef, ccdlflags=' '
    cccdlflags=' ', lddlflags='-mdll -s -L"C:\strawberry\perl\lib\CORE" -L"C:\strawberry\c\lib"'


Characteristics of this binary (from libperl): 
  Compile-time options: HAS_TIMES HAVE_INTERP_INTERN MULTIPLICITY
                        PERLIO_LAYERS PERL_DONT_CREATE_GVSV
                        PERL_IMPLICIT_CONTEXT PERL_IMPLICIT_SYS
                        PERL_MALLOC_WRAP PERL_PRESERVE_IVUV PL_OP_SLAB_ALLOC
                        USE_64_BIT_INT USE_ITHREADS USE_LARGE_FILES
                        USE_LOCALE USE_LOCALE_COLLATE USE_LOCALE_CTYPE
                        USE_LOCALE_NUMERIC USE_PERLIO USE_PERL_ATOF
  Built under MSWin32
  Compiled at May 22 2012 13:30:50
  %ENV:
    PERL5LIB="C:\strawberry\cpan\build\Text-WikiFormat-0.80-HmxNvP/blib/arch;C:\strawberry\cpan\build\Text-WikiFormat-0.80-HmxNvP/blib/lib;C:\strawberry\cpan\build\VCS-Lite-0.10-Vbcm5z/blib/arch;C:\strawberry\cpan\build\VCS-Lite-0.10-Vbcm5z/blib/lib;C:\strawberry\cpan\build\Wiki-Toolkit-Plugin-RSS-Reader-1.6-6cMmDQ/blib/arch;C:\strawberry\cpan\build\Wiki-Toolkit-Plugin-RSS-Reader-1.6-6cMmDQ/blib/lib;C:\strawberry\cpan\build\XML-RSS-1.49-ZJQhOU/blib/arch;C:\strawberry\cpan\build\XML-RSS-1.49-ZJQhOU/blib/lib;C:\strawberry\cpan\build\DateTime-Format-W3CDTF-0.06-gqyotV/blib/arch;C:\strawberry\cpan\build\DateTime-Format-W3CDTF-0.06-gqyotV/blib/lib;C:\strawberry\cpan\build\DateTime-Format-Mail-0.3001-RdN2HV/blib/arch;C:\strawberry\cpan\build\DateTime-Format-Mail-0.3001-RdN2HV/blib/lib;C:\strawberry\cpan\build\Template-Plugin-JSON-Escape-0.02-KNQSFi/blib/arch;C:\strawberry\cpan\build\Template-Plugin-JSON-Escape-0.02-KNQSFi/blib/lib"
    PERL5_CPANPLUS_IS_RUNNING="4980"
    PERL5_CPAN_IS_RUNNING="4980"
    PERL5_CPAN_IS_RUNNING_IN_RECURSION="1920,4980"
    PERL_CR_SMOKER_CURRENT="OpenGuides-0.71"
    PERL_EXTUTILS_AUTOINSTALL="--defaultdeps"
    PERL_JSON_BACKEND="JSON::XS"
    PERL_MM_USE_DEFAULT="1"
    PERL_YAML_BACKEND="YAML"
  @INC:
    C:\strawberry\cpan\build\Text-WikiFormat-0.80-HmxNvP/blib/arch
    C:\strawberry\cpan\build\Text-WikiFormat-0.80-HmxNvP/blib/lib
    C:\strawberry\cpan\build\VCS-Lite-0.10-Vbcm5z/blib/arch
    C:\strawberry\cpan\build\VCS-Lite-0.10-Vbcm5z/blib/lib
    C:\strawberry\cpan\build\Wiki-Toolkit-Plugin-RSS-Reader-1.6-6cMmDQ/blib/arch
    C:\strawberry\cpan\build\Wiki-Toolkit-Plugin-RSS-Reader-1.6-6cMmDQ/blib/lib
    C:\strawberry\cpan\build\XML-RSS-1.49-ZJQhOU/blib/arch
    C:\strawberry\cpan\build\XML-RSS-1.49-ZJQhOU/blib/lib
    C:\strawberry\cpan\build\DateTime-Format-W3CDTF-0.06-gqyotV/blib/arch
    C:\strawberry\cpan\build\DateTime-Format-W3CDTF-0.06-gqyotV/blib/lib
    C:\strawberry\cpan\build\DateTime-Format-Mail-0.3001-RdN2HV/blib/arch
    C:\strawberry\cpan\build\DateTime-Format-Mail-0.3001-RdN2HV/blib/lib
    C:\strawberry\cpan\build\Template-Plugin-JSON-Escape-0.02-KNQSFi/blib/arch
    C:\strawberry\cpan\build\Template-Plugin-JSON-Escape-0.02-KNQSFi/blib/lib
    C:/strawberry/perl/site/lib
    C:/strawberry/perl/vendor/lib
    C:/strawberry/perl/lib
    .