Test-WWW-Mechanize v1.48 Perl 5 v5.24.3 x86_64-linux
- Status
- Pass
- From
- Slaven Rezić (SREZIC)
- Dist
-
Test-WWW-Mechanize v1.48
- Platform
- Perl 5 v5.24.3 x86_64-linux
- Date
- 2017-10-28 22:24:12
- ID
- b9870b4e-bc2e-11e7-b686-8892b1ea9a90
This distribution has been tested as part of the CPAN Testers
project, supporting the Perl programming language. See
http://wiki.cpantesters.org/ for more information or email
questions to cpan-testers-discuss@perl.org
--
Dear Andy Lester,
This is a computer-generated report for Test-WWW-Mechanize-1.48
on perl 5.24.3, created by CPAN-Reporter-1.2018.
Thank you for uploading your work to CPAN. Congratulations!
All tests were successful.
Sections of this report:
* Tester comments
* Program output
* Prerequisites
* Environment and other context
------------------------------
TESTER COMMENTS
------------------------------
Additional comments from tester:
none provided
------------------------------
PROGRAM OUTPUT
------------------------------
Output from 'make test':
PERL_DL_NONLAZY=1 "/opt/perl-5.24.3/bin/perl" "-MExtUtils::Command::MM" "-MTest::Harness" "-e" "undef *Test::Harness::Switches; test_harness(0, 'blib/lib', 'blib/arch')" t/*.t
# Testing Test::WWW::Mechanize 1.48, with WWW::Mechanize 1.86, LWP 6.27, Test::More 1.302096, Perl 5.024003, /opt/perl-5.24.3/bin/perl
t/00-load.t ................ ok
t/autolint.t ............... skipped: HTML::Lint 2.20 is not installed, cannot test autolint
# Test server http://127.0.0.1:33804 as PID 5910
t/click_ok.t ............... ok
t/content_contains.t ....... ok
t/content_lacks.t .......... ok
# Test server http://127.0.0.1:24906 as PID 5996
t/delete_ok.t .............. ok
t/follow_link_ok.t ......... ok
t/followable_links.t ....... ok
t/get_ok-parms.t ........... ok
t/get_ok.t ................. ok
t/has_tag.t ................ ok
t/head_ok-parms.t .......... ok
t/head_ok.t ................ ok
# Test server http://127.0.0.1:20801 as PID 6547
t/headers.t ................ ok
t/html_lint_ok.t ........... skipped: HTML::Lint is not installed, cannot test autolint
t/lacks_uncapped_inputs.t .. ok
t/link_content.t ........... ok
t/link_status.t ............ ok
t/links_ok.t ............... ok
t/new.t .................... ok
t/page_links_content.t ..... ok
t/page_links_ok.t .......... ok
t/pod-coverage.t ........... ok
t/pod.t .................... ok
# Test server http://127.0.0.1:21794 as PID 6767
t/put_ok.t ................. ok
t/scrape_text_by_id.t ...... ok
t/stuff_inputs.t ........... ok
# Test server http://127.0.0.1:32866 as PID 7017
t/submit_form_ok.t ......... ok
t/text_contains.t .......... ok
t/title_is.t ............... ok
All tests successful.
Files=30, Tests=257, 10 wallclock secs ( 0.10 usr 0.00 sys + 3.81 cusr 0.37 csys = 4.28 CPU)
Result: PASS
------------------------------
PREREQUISITES
------------------------------
Prerequisite modules loaded:
requires:
Module Need Have
------------------------- ----- --------
Carp::Assert::More 0 1.16
HTML::TokeParser 0 3.69
HTML::TreeBuilder 0 5.07
HTTP::Server::Simple 0.42 0.52
HTTP::Server::Simple::CGI 0 0
LWP 6.02 6.27
parent 0 0.234
perl 5.008 5.024003
Test::Builder::Tester 1.09 1.302096
Test::LongString 0.15 0.17
Test::More 0.96 1.302096
URI::file 0 4.21
WWW::Mechanize 1.68 1.86
build_requires:
Module Need Have
------------------------- ----- --------
ExtUtils::MakeMaker 0 7.10_02
configure_requires:
Module Need Have
------------------------- ----- --------
ExtUtils::MakeMaker 0 7.10_02
------------------------------
ENVIRONMENT AND OTHER CONTEXT
------------------------------
Environment variables:
LANG = en_US.UTF-8
PATH = /usr/local/bin:/usr/bin:/bin:/usr/local/sbin:/usr/sbin:/sbin:/home/eserte/bin/linux-gnu:/home/eserte/bin/sh:/home/eserte/bin:/home/eserte/bin/pistachio-perl/bin:/usr/games:/home/eserte/devel:/home/eserte/src/srezic-misc/scripts
PERL5LIB = /home/eserte/.cpan/build/2017102812/Carp-Assert-More-1.16-8k6T1e/blib/arch:/home/eserte/.cpan/build/2017102812/Carp-Assert-More-1.16-8k6T1e/blib/lib:/home/eserte/.cpan/build/2017102812/Carp-Assert-0.21-YXJvJj/blib/arch:/home/eserte/.cpan/build/2017102812/Carp-Assert-0.21-YXJvJj/blib/lib:/home/eserte/.cpan/build/2017102812/Test-HTTP-Server-Simple-0.11-Xxrqbu/blib/arch:/home/eserte/.cpan/build/2017102812/Test-HTTP-Server-Simple-0.11-Xxrqbu/blib/lib:/home/eserte/.cpan/build/2017102812/HTTP-Server-Simple-Static-0.13-iQQFgH/blib/arch:/home/eserte/.cpan/build/2017102812/HTTP-Server-Simple-Static-0.13-iQQFgH/blib/lib:/home/eserte/.cpan/build/2017102812/File-LibMagic-1.16-F_b92N/blib/arch:/home/eserte/.cpan/build/2017102812/File-LibMagic-1.16-F_b92N/blib/lib
PERL5OPT =
PERL5_CPANPLUS_IS_RUNNING = 3593
PERL5_CPAN_IS_RUNNING = 3593
PERL5_CPAN_IS_RUNNING_IN_RECURSION = 22484,3593
PERLDOC = -MPod::Perldoc::ToTextOverstrike
PERL_BATCH = yes
PERL_CANARY_STABILITY_NOPROMPT = 1
PERL_CPAN_REPORTER_CONFIG = /var/tmp/cpansmoker-1000/2017102812/cpanreporter_000_config.ini
PERL_EXTUTILS_AUTOINSTALL = --defaultdeps
SHELL = /bin/zsh
STDPERL = perl
TERM = xterm
TMPDIR = /var/tmp/cpansmoker-1000/2017102812
Perl special variables (and OS-specific diagnostics, for MSWin32):
$^X = /opt/perl-5.24.3/bin/perl
$UID/$EUID = 1000 / 1000
$GID = 1000 4 24 25 27 29 30 44 46 108 111 115 128 134 1000 1024
$EGID = 1000 4 24 25 27 29 30 44 46 108 111 115 128 134 1000 1024
Perl module toolchain versions installed:
Module Have
------------------- ----------
CPAN 2.11_01
CPAN::Meta 2.150005
Cwd 3.63_01
ExtUtils::CBuilder 0.280225
ExtUtils::Command 7.10_02
ExtUtils::Install 2.04
ExtUtils::MakeMaker 7.10_02
ExtUtils::Manifest 1.70
ExtUtils::ParseXS 3.31
File::Spec 3.63_01
JSON 2.94
JSON::PP 2.27300_01
Module::Build 0.4224
Module::Signature 0.81
Parse::CPAN::Meta 1.4417_001
Test::Harness 3.36_01
Test::More 1.302096
YAML 1.23
YAML::Syck 1.30
version 0.9916
--
Summary of my perl5 (revision 5 version 24 subversion 3) configuration:
Platform:
osname=linux, osvers=3.16.0-4-amd64, archname=x86_64-linux
uname='linux cabulja 3.16.0-4-amd64 #1 smp debian 3.16.39-1+deb8u2 (2017-03-07) x86_64 gnulinux '
config_args='-ds -e -Dprefix=/opt/perl-5.24.3 -Dcf_email=srezic@cpan.org'
hint=recommended, useposix=true, d_sigaction=define
useithreads=undef, usemultiplicity=undef
use64bitint=define, use64bitall=define, uselongdouble=undef
usemymalloc=n, bincompat5005=undef
Compiler:
cc='cc', ccflags ='-fwrapv -fno-strict-aliasing -pipe -fstack-protector-strong -I/usr/local/include -D_LARGEFILE_SOURCE -D_FILE_OFFSET_BITS=64 -D_FORTIFY_SOURCE=2',
optimize='-O2',
cppflags='-fwrapv -fno-strict-aliasing -pipe -fstack-protector-strong -I/usr/local/include'
ccversion='', gccversion='4.9.2', gccosandvers=''
intsize=4, longsize=8, ptrsize=8, doublesize=8, byteorder=12345678, doublekind=3
d_longlong=define, longlongsize=8, d_longdbl=define, longdblsize=16, longdblkind=3
ivtype='long', ivsize=8, nvtype='double', nvsize=8, Off_t='off_t', lseeksize=8
alignbytes=8, prototype=define
Linker and Libraries:
ld='cc', ldflags =' -fstack-protector-strong -L/usr/local/lib'
libpth=/usr/local/lib /usr/lib/gcc/x86_64-linux-gnu/4.9/include-fixed /usr/include/x86_64-linux-gnu /usr/lib /lib/x86_64-linux-gnu /lib/../lib /usr/lib/x86_64-linux-gnu /usr/lib/../lib /lib
libs=-lpthread -lnsl -lgdbm -ldb -ldl -lm -lcrypt -lutil -lc -lgdbm_compat
perllibs=-lpthread -lnsl -ldl -lm -lcrypt -lutil -lc
libc=libc-2.19.so, so=so, useshrplib=false, libperl=libperl.a
gnulibc_version='2.19'
Dynamic Linking:
dlsrc=dl_dlopen.xs, dlext=so, d_dlsymun=undef, ccdlflags='-Wl,-E'
cccdlflags='-fPIC', lddlflags='-shared -O2 -L/usr/local/lib -fstack-protector-strong'
Characteristics of this binary (from libperl):
Compile-time options: HAS_TIMES PERLIO_LAYERS PERL_COPY_ON_WRITE
PERL_DONT_CREATE_GVSV
PERL_HASH_FUNC_ONE_AT_A_TIME_HARD PERL_MALLOC_WRAP
PERL_PRESERVE_IVUV USE_64_BIT_ALL USE_64_BIT_INT
USE_LARGE_FILES USE_LOCALE USE_LOCALE_COLLATE
USE_LOCALE_CTYPE USE_LOCALE_NUMERIC USE_LOCALE_TIME
USE_PERLIO USE_PERL_ATOF
Built under linux
Compiled at Sep 23 2017 09:50:16
%ENV:
PERL5LIB="/home/eserte/.cpan/build/2017102812/Carp-Assert-More-1.16-8k6T1e/blib/arch:/home/eserte/.cpan/build/2017102812/Carp-Assert-More-1.16-8k6T1e/blib/lib:/home/eserte/.cpan/build/2017102812/Carp-Assert-0.21-YXJvJj/blib/arch:/home/eserte/.cpan/build/2017102812/Carp-Assert-0.21-YXJvJj/blib/lib:/home/eserte/.cpan/build/2017102812/Test-HTTP-Server-Simple-0.11-Xxrqbu/blib/arch:/home/eserte/.cpan/build/2017102812/Test-HTTP-Server-Simple-0.11-Xxrqbu/blib/lib:/home/eserte/.cpan/build/2017102812/HTTP-Server-Simple-Static-0.13-iQQFgH/blib/arch:/home/eserte/.cpan/build/2017102812/HTTP-Server-Simple-Static-0.13-iQQFgH/blib/lib:/home/eserte/.cpan/build/2017102812/File-LibMagic-1.16-F_b92N/blib/arch:/home/eserte/.cpan/build/2017102812/File-LibMagic-1.16-F_b92N/blib/lib"
PERL5OPT=""
PERL5_CPANPLUS_IS_RUNNING="3593"
PERL5_CPAN_IS_RUNNING="3593"
PERL5_CPAN_IS_RUNNING_IN_RECURSION="22484,3593"
PERLDOC="-MPod::Perldoc::ToTextOverstrike"
PERL_BATCH="yes"
PERL_CANARY_STABILITY_NOPROMPT="1"
PERL_CPAN_REPORTER_CONFIG="/var/tmp/cpansmoker-1000/2017102812/cpanreporter_000_config.ini"
PERL_EXTUTILS_AUTOINSTALL="--defaultdeps"
@INC:
/home/eserte/.cpan/build/2017102812/Carp-Assert-More-1.16-8k6T1e/blib/arch
/home/eserte/.cpan/build/2017102812/Carp-Assert-More-1.16-8k6T1e/blib/lib
/home/eserte/.cpan/build/2017102812/Carp-Assert-0.21-YXJvJj/blib/arch
/home/eserte/.cpan/build/2017102812/Carp-Assert-0.21-YXJvJj/blib/lib
/home/eserte/.cpan/build/2017102812/Test-HTTP-Server-Simple-0.11-Xxrqbu/blib/arch
/home/eserte/.cpan/build/2017102812/Test-HTTP-Server-Simple-0.11-Xxrqbu/blib/lib
/home/eserte/.cpan/build/2017102812/HTTP-Server-Simple-Static-0.13-iQQFgH/blib/arch
/home/eserte/.cpan/build/2017102812/HTTP-Server-Simple-Static-0.13-iQQFgH/blib/lib
/home/eserte/.cpan/build/2017102812/File-LibMagic-1.16-F_b92N/blib/arch
/home/eserte/.cpan/build/2017102812/File-LibMagic-1.16-F_b92N/blib/lib
/opt/perl-5.24.3/lib/site_perl/5.24.3/x86_64-linux
/opt/perl-5.24.3/lib/site_perl/5.24.3
/opt/perl-5.24.3/lib/5.24.3/x86_64-linux
/opt/perl-5.24.3/lib/5.24.3
.