Back
From: metabase:user:ec1e6242-e93a-11e4-ae7d-c673b75ddf45
Subject: PASS Test-Without-Module-0.18 v5.20.2 GNU/Linux
Date: 2015-04-22T22:12:55Z
This distribution has been tested as part of the CPAN Testers
project, supporting the Perl programming language. See
http://wiki.cpantesters.org/ for more information or email
questions to cpan-testers-discuss@perl.org
--
Dear CORION,
This is a computer-generated report for Test-Without-Module-0.18
on perl 5.20.2, created by App::cpanminus::reporter 0.13 (1.7030).
Thank you for uploading your work to CPAN. Congratulations!
All tests were successful.
Sections of this report:
* Tester comments
* Program output
* Prerequisites
* Environment and other context
------------------------------
TESTER COMMENTS
------------------------------
Additional comments from tester:
none provided
------------------------------
PROGRAM OUTPUT
------------------------------
Output from '':
Building and testing Test-Without-Module-0.18
cp lib/Test/Without/Module.pm blib/lib/Test/Without/Module.pm
Manifying blib/man3/Test::Without::Module.3
PERL_DL_NONLAZY=1 /opt/perl-5.20.2/bin/perl "-MExtUtils::Command::MM" "-MTest::Harness" "-e" "undef *Test::Harness::Switches; test_harness(0, 'blib/lib', 'blib/arch')" t/*.t
t/01-api.t ........................ ok
t/02-block-use-module.t ........... ok
t/03-block-require-module.t ....... ok
t/04-import-export.t .............. ok
t/05-redefine.t ................... ok
t/99-manifest.t ................... ok
t/99-pod.t ........................ skipped: Test::Pod required for testing POD
t/99-todo.t ....................... ok
t/99-unix-text.t .................. ok
t/99-versions.t ................... skipped: File::Slurp needed for testing
t/embedded-Test-Without-Module.t .. ok
All tests successful.
Files=11, Tests=26, 2 wallclock secs ( 0.21 usr 0.21 sys + 1.72 cusr 0.45 csys = 2.59 CPU)
Result: PASS
------------------------------
PREREQUISITES
------------------------------
Prerequisite modules loaded:
No requirements found
------------------------------
ENVIRONMENT AND OTHER CONTEXT
------------------------------
Environment variables:
LANG = en_US.UTF-8
PATH = /opt/perl-5.20.2/bin:/usr/local/sbin:/usr/local/bin:/usr/sbin:/usr/bin:/sbin:/bin
SHELL = /bin/bash
TERM = screen
Perl special variables (and OS-specific diagnostics, for MSWin32):
EGID = 0 0
EUID = 0
EXECUTABLE_NAME = /opt/perl-5.20.2/bin/perl
GID = 0 0
UID = 0
Perl module toolchain versions installed:
Module Have
------------------- --------
CPAN 2.05
CPAN::Meta 2.150001
Cwd 3.48_01
ExtUtils::CBuilder 0.280217
ExtUtils::Command 1.18
ExtUtils::Install 1.67
ExtUtils::MakeMaker 7.04
ExtUtils::Manifest 1.65
ExtUtils::ParseXS 3.24
File::Spec 3.48_01
JSON 2.90
JSON::PP 2.27203
Module::Build 0.4211
Module::Signature n/a
Parse::CPAN::Meta 1.4414
Test::Harness 3.30
Test::More 1.001014
YAML n/a
YAML::Syck n/a
version 0.9909
--
Summary of my perl5 (revision 5 version 20 subversion 2) configuration:
Platform:
osname=linux, osvers=3.2.0-4-amd64, archname=x86_64-linux
uname='linux net153 3.2.0-4-amd64 #1 smp debian 3.2.57-3+deb7u1 x86_64 gnulinux '
config_args='-Dprefix=/opt/perl-5.20.2 -de -A'eval:scriptdir=/opt/perl-5.20.2/bin''
hint=recommended, useposix=true, d_sigaction=define
useithreads=undef, usemultiplicity=undef
use64bitint=define, use64bitall=define, uselongdouble=undef
usemymalloc=n, bincompat5005=undef
Compiler:
cc='cc', ccflags ='-fwrapv -fno-strict-aliasing -pipe -fstack-protector -I/usr/local/include -D_LARGEFILE_SOURCE -D_FILE_OFFSET_BITS=64',
optimize='-O2',
cppflags='-fwrapv -fno-strict-aliasing -pipe -fstack-protector -I/usr/local/include'
ccversion='', gccversion='4.7.2', gccosandvers=''
intsize=4, longsize=8, ptrsize=8, doublesize=8, byteorder=12345678
d_longlong=define, longlongsize=8, d_longdbl=define, longdblsize=16
ivtype='long', ivsize=8, nvtype='double', nvsize=8, Off_t='off_t', lseeksize=8
alignbytes=8, prototype=define
Linker and Libraries:
ld='cc', ldflags =' -fstack-protector -L/usr/local/lib'
libpth=/usr/local/lib /usr/lib/gcc/x86_64-linux-gnu/4.7/include-fixed /usr/include/x86_64-linux-gnu /usr/lib /lib/x86_64-linux-gnu /lib/../lib /usr/lib/x86_64-linux-gnu /usr/lib/../lib /lib
libs=-lnsl -ldl -lm -lcrypt -lutil -lc
perllibs=-lnsl -ldl -lm -lcrypt -lutil -lc
libc=libc-2.13.so, so=so, useshrplib=false, libperl=libperl.a
gnulibc_version='2.13'
Dynamic Linking:
dlsrc=dl_dlopen.xs, dlext=so, d_dlsymun=undef, ccdlflags='-Wl,-E'
cccdlflags='-fPIC', lddlflags='-shared -O2 -L/usr/local/lib -fstack-protector'
Characteristics of this binary (from libperl):
Compile-time options: HAS_TIMES PERLIO_LAYERS PERL_DONT_CREATE_GVSV
PERL_HASH_FUNC_ONE_AT_A_TIME_HARD PERL_MALLOC_WRAP
PERL_NEW_COPY_ON_WRITE PERL_PRESERVE_IVUV
USE_64_BIT_ALL USE_64_BIT_INT USE_LARGE_FILES
USE_LOCALE USE_LOCALE_COLLATE USE_LOCALE_CTYPE
USE_LOCALE_NUMERIC USE_PERLIO USE_PERL_ATOF
Locally applied patches:
Devel::PatchPerl 1.30
Built under linux
Compiled at Apr 22 2015 09:22:17
@INC:
/opt/perl-5.20.2/lib/site_perl/5.20.2/x86_64-linux
/opt/perl-5.20.2/lib/site_perl/5.20.2
/opt/perl-5.20.2/lib/5.20.2/x86_64-linux
/opt/perl-5.20.2/lib/5.20.2
.