Back
From: metabase:user:314402c4-2aae-11df-837a-5e0a49663a4f
Subject: PASS Test-EOL-1.6 v5.20.3 FreeBSD
Date: 2015-12-07T13:45:06Z
This distribution has been tested as part of the CPAN Testers
project, supporting the Perl programming language.  See
http://wiki.cpantesters.org/ for more information or email
questions to cpan-testers-discuss@perl.org
--
Dear Arthur Axel 'fREW' Schmidt,
This is a computer-generated report for Test-EOL-1.6
on perl 5.20.3, created by CPAN-Reporter-1.2015.
Thank you for uploading your work to CPAN.  Congratulations!
All tests were successful.
Sections of this report:
    * Tester comments
    * Program output
    * Prerequisites
    * Environment and other context
------------------------------
TESTER COMMENTS
------------------------------
Additional comments from tester:
none provided
------------------------------
PROGRAM OUTPUT
------------------------------
Output from '/usr/bin/make test':
PERL_DL_NONLAZY=1 "/usr/perl5.20.3p/bin/perl5.20.3" "-MExtUtils::Command::MM" "-MTest::Harness" "-e" "undef *Test::Harness::Switches; test_harness(0, 'blib/lib', 'blib/arch')" t/*.t
t/00-compile.t ............ ok
t/10-use-self.t ........... ok
t/11-all.t ................ ok
t/12-fail.t ............... ok
t/13-latin1.t ............. ok
t/author-eol.t ............ skipped: these tests are for testing by the author
t/author-no-tabs.t ........ skipped: these tests are for testing by the author
t/release-pod-coverage.t .. skipped: these tests are for release candidate testing
t/release-pod-syntax.t .... skipped: these tests are for release candidate testing
All tests successful.
Files=9, Tests=23,  1 wallclock secs ( 0.09 usr  0.04 sys +  1.12 cusr  0.42 csys =  1.67 CPU)
Result: PASS
------------------------------
PREREQUISITES
------------------------------
Prerequisite modules loaded:
requires:
    Module              Need  Have    
    ------------------- ----- --------
    Cwd                 0     3.48_01 
    File::Find          0     1.27    
    File::Spec          0     3.48_01 
    perl                5.006 5.020003
    strict              0     1.08    
    Test::Builder       0     1.001014
    vars                0     1.03    
    warnings            0     1.23    
build_requires:
    Module              Need  Have    
    ------------------- ----- --------
    ExtUtils::MakeMaker 0     7.10    
    File::Spec          0     3.48_01 
    File::Temp          0     0.2304  
    FindBin             0     1.51    
    IO::Handle          0     1.35    
    IPC::Open3          0     1.16    
    Test::More          0     1.001014
configure_requires:
    Module              Need  Have    
    ------------------- ----- --------
    ExtUtils::MakeMaker 0     7.10    
------------------------------
ENVIRONMENT AND OTHER CONTEXT
------------------------------
Environment variables:
    PATH = /usr/local/bin:/usr/bin:/bin:/usr/local/sbin:/usr/sbin:/sbin:/home/e/eserte/bin/freebsd9.1:/home/e/eserte/bin/sh:/home/e/eserte/bin:/usr/games:/home/e/eserte/devel:/home/e/eserte/src/srezic-misc/scripts
    PERL5LIB = /usr/local/src/CPAN/build/2015120712/Test-CPAN-Meta-0.25-e3IMIW/blib/arch:/usr/local/src/CPAN/build/2015120712/Test-CPAN-Meta-0.25-e3IMIW/blib/lib:/usr/local/src/CPAN/build/2015120712/DateTime-Format-Natural-1.03-xWRM41/blib/arch:/usr/local/src/CPAN/build/2015120712/DateTime-Format-Natural-1.03-xWRM41/blib/lib:/usr/local/src/CPAN/build/2015120712/Module-Util-1.09-WTKMcj/blib/arch:/usr/local/src/CPAN/build/2015120712/Module-Util-1.09-WTKMcj/blib/lib:/usr/local/src/CPAN/build/2015120712/boolean-0.45-dVDsuf/blib/arch:/usr/local/src/CPAN/build/2015120712/boolean-0.45-dVDsuf/blib/lib
    PERL5OPT = 
    PERL5_CPANPLUS_IS_RUNNING = 39132
    PERL5_CPAN_IS_RUNNING = 39132
    PERL5_CPAN_IS_RUNNING_IN_RECURSION = 18818,39132
    PERLDOC = -MPod::Perldoc::ToTextOverstrike
    PERL_BATCH = yes
    PERL_CANARY_STABILITY_NOPROMPT = 1
    PERL_CPAN_REPORTER_CONFIG = /var/tmp/cpansmoker-1000/2015120706/cpanreporter_000_config.ini
    PERL_EXTUTILS_AUTOINSTALL = --defaultdeps
    SHELL = /usr/local/bin/zsh
    TERM = screen
    TMPDIR = /var/tmp/cpansmoker-1000/2015120706
Perl special variables (and OS-specific diagnostics, for MSWin32):
    $^X = /usr/perl5.20.3p/bin/perl5.20.3
    $UID/$EUID = 1000 / 1000
    $GID = 1000 1000 0 5 1023 1024
    $EGID = 1000 1000 0 5 1023 1024
Perl module toolchain versions installed:
    Module              Have    
    ------------------- --------
    CPAN                2.05    
    CPAN::Meta          2.150005
    Cwd                 3.48_01 
    ExtUtils::CBuilder  0.280217
    ExtUtils::Command   7.10    
    ExtUtils::Install   1.67    
    ExtUtils::MakeMaker 7.10    
    ExtUtils::Manifest  1.70    
    ExtUtils::ParseXS   3.24    
    File::Spec          3.48_01 
    JSON                2.90    
    JSON::PP            2.27203 
    Module::Build       0.4214  
    Module::Signature   n/a     
    Parse::CPAN::Meta   1.4414  
    Test::Harness       3.30    
    Test::More          1.001014
    YAML                1.15    
    YAML::Syck          1.29    
    version             0.9909  
--
Summary of my perl5 (revision 5 version 20 subversion 3) configuration:
   
  Platform:
    osname=freebsd, osvers=9.2-release, archname=amd64-freebsd
    uname='freebsd cvrsnica.herceg.de 9.2-release freebsd 9.2-release #0 r255898: thu sep 26 22:50:31 utc 2013 root@bake.isc.freebsd.org:usrobjusrsrcsysgeneric amd64 '
    config_args='-ds -e -Dprefix=/usr/perl5.20.3p -Dcf_email=srezic@cpan.org'
    hint=recommended, useposix=true, d_sigaction=define
    useithreads=undef, usemultiplicity=undef
    use64bitint=define, use64bitall=define, uselongdouble=undef
    usemymalloc=n, bincompat5005=undef
  Compiler:
    cc='cc', ccflags ='-DHAS_FPSETMASK -DHAS_FLOATINGPOINT_H -fno-strict-aliasing -pipe -fstack-protector -I/usr/local/include',
    optimize='-O',
    cppflags='-DHAS_FPSETMASK -DHAS_FLOATINGPOINT_H -fno-strict-aliasing -pipe -fstack-protector -I/usr/local/include'
    ccversion='', gccversion='4.2.1 20070831 patched [FreeBSD]', gccosandvers=''
    intsize=4, longsize=8, ptrsize=8, doublesize=8, byteorder=12345678
    d_longlong=define, longlongsize=8, d_longdbl=define, longdblsize=16
    ivtype='long', ivsize=8, nvtype='double', nvsize=8, Off_t='off_t', lseeksize=8
    alignbytes=8, prototype=define
  Linker and Libraries:
    ld='cc', ldflags ='-pthread -Wl,-E  -fstack-protector -L/usr/local/lib'
    libpth=/usr/lib /usr/local/lib /usr/include/gcc/4.2 /usr/lib
    libs=-lpthread -lgdbm -lm -lcrypt -lutil -lc
    perllibs=-lpthread -lm -lcrypt -lutil -lc
    libc=, so=so, useshrplib=false, libperl=libperl.a
    gnulibc_version=''
  Dynamic Linking:
    dlsrc=dl_dlopen.xs, dlext=so, d_dlsymun=undef, ccdlflags=' '
    cccdlflags='-DPIC -fPIC', lddlflags='-shared  -L/usr/local/lib -fstack-protector'
Characteristics of this binary (from libperl): 
  Compile-time options: HAS_TIMES PERLIO_LAYERS PERL_DONT_CREATE_GVSV
                        PERL_HASH_FUNC_ONE_AT_A_TIME_HARD PERL_MALLOC_WRAP
                        PERL_NEW_COPY_ON_WRITE PERL_PRESERVE_IVUV
                        USE_64_BIT_ALL USE_64_BIT_INT USE_LARGE_FILES
                        USE_LOCALE USE_LOCALE_COLLATE USE_LOCALE_CTYPE
                        USE_LOCALE_NUMERIC USE_PERLIO USE_PERL_ATOF
  Built under freebsd
  Compiled at Sep 12 2015 22:39:29
  %ENV:
    PERL5LIB="/usr/local/src/CPAN/build/2015120712/Test-CPAN-Meta-0.25-e3IMIW/blib/arch:/usr/local/src/CPAN/build/2015120712/Test-CPAN-Meta-0.25-e3IMIW/blib/lib:/usr/local/src/CPAN/build/2015120712/DateTime-Format-Natural-1.03-xWRM41/blib/arch:/usr/local/src/CPAN/build/2015120712/DateTime-Format-Natural-1.03-xWRM41/blib/lib:/usr/local/src/CPAN/build/2015120712/Module-Util-1.09-WTKMcj/blib/arch:/usr/local/src/CPAN/build/2015120712/Module-Util-1.09-WTKMcj/blib/lib:/usr/local/src/CPAN/build/2015120712/boolean-0.45-dVDsuf/blib/arch:/usr/local/src/CPAN/build/2015120712/boolean-0.45-dVDsuf/blib/lib"
    PERL5OPT=""
    PERL5_CPANPLUS_IS_RUNNING="39132"
    PERL5_CPAN_IS_RUNNING="39132"
    PERL5_CPAN_IS_RUNNING_IN_RECURSION="18818,39132"
    PERLDOC="-MPod::Perldoc::ToTextOverstrike"
    PERL_BATCH="yes"
    PERL_CANARY_STABILITY_NOPROMPT="1"
    PERL_CPAN_REPORTER_CONFIG="/var/tmp/cpansmoker-1000/2015120706/cpanreporter_000_config.ini"
    PERL_EXTUTILS_AUTOINSTALL="--defaultdeps"
  @INC:
    /usr/local/src/CPAN/build/2015120712/Test-CPAN-Meta-0.25-e3IMIW/blib/arch
    /usr/local/src/CPAN/build/2015120712/Test-CPAN-Meta-0.25-e3IMIW/blib/lib
    /usr/local/src/CPAN/build/2015120712/DateTime-Format-Natural-1.03-xWRM41/blib/arch
    /usr/local/src/CPAN/build/2015120712/DateTime-Format-Natural-1.03-xWRM41/blib/lib
    /usr/local/src/CPAN/build/2015120712/Module-Util-1.09-WTKMcj/blib/arch
    /usr/local/src/CPAN/build/2015120712/Module-Util-1.09-WTKMcj/blib/lib
    /usr/local/src/CPAN/build/2015120712/boolean-0.45-dVDsuf/blib/arch
    /usr/local/src/CPAN/build/2015120712/boolean-0.45-dVDsuf/blib/lib
    /usr/perl5.20.3p/lib/site_perl/5.20.3/amd64-freebsd
    /usr/perl5.20.3p/lib/site_perl/5.20.3
    /usr/perl5.20.3p/lib/5.20.3/amd64-freebsd
    /usr/perl5.20.3p/lib/5.20.3
    .