autodie v2.29 Perl 5 v5.22.3 cygwin-thread-multi

Status
Pass
From
Jean-Damien Durand
Dist
autodie v2.29
Platform
Perl 5 v5.22.3 cygwin-thread-multi
Date
2017-08-16 00:03:19
ID
b9f31c57-6c03-1014-9f72-325b90cfa1b2
This distribution has been tested as part of the CPAN Testers
project, supporting the Perl programming language.  See
http://wiki.cpantesters.org/ for more information or email
questions to cpan-testers-discuss@perl.org


--
Dear Paul Jamieson Fenwick,

This is a computer-generated report for autodie-2.29
on perl 5.22.3, created by CPAN-Reporter-1.2018.

Thank you for uploading your work to CPAN.  Congratulations!
All tests were successful.

Sections of this report:

    * Tester comments
    * Program output
    * Prerequisites
    * Environment and other context

------------------------------
TESTER COMMENTS
------------------------------

Additional comments from tester:

this report is from an automated smoke testing program
and was not reviewed by a human for accuracy

------------------------------
PROGRAM OUTPUT
------------------------------

Output from '/usr/bin/make test':

PERL_DL_NONLAZY=1 "/usr/bin/perl.exe" "-MExtUtils::Command::MM" "-MTest::Harness" "-e" "undef *Test::Harness::Switches; test_harness(0, 'blib/lib', 'blib/arch')" t/*.t
t/00-load.t ...................... ok
t/args.t ......................... ok
t/author-critic.t ................ skipped: these tests are for testing by the author
t/autodie.t ...................... ok
t/backcompat.t ................... ok
t/basic_exceptions.t ............. ok
t/binmode.t ...................... ok
t/blog_hints.t ................... ok
t/caller.t ....................... ok
t/chmod.t ........................ ok
t/chown.t ........................ ok
t/context.t ...................... ok
t/context_lexical.t .............. ok
t/core-trampoline-slurp.t ........ ok
t/crickey.t ...................... ok
t/critic.t ....................... skipped: Author test.  Set $ENV{AUTHOR_TESTING} to true to run.
t/dbmopen.t ...................... ok
t/eval_error.t ................... ok
t/exception_class.t .............. ok
t/exceptions.t ................... ok
t/exec.t ......................... ok
t/Fatal.t ........................ ok
t/filehandles.t .................. ok
t/fileno.t ....................... ok
t/flock.t ........................ ok
t/fork.t ......................... skipped: BSD::Resource required to test fork()
t/format-clobber.t ............... ok
# Sub::Identify is loaded
t/hints.t ........................ ok
t/hints_insist.t ................. ok
t/hints_pod_examples.t ........... ok
t/hints_provider_does.t .......... ok
t/hints_provider_easy_does_it.t .. ok
t/hints_provider_isa.t ........... ok
t/import-into.t .................. skipped: Test needs Import::Into >= 1.002004
t/internal-backcompat.t .......... ok
t/internal.t ..................... ok
t/kill.t ......................... ok
t/kwalitee.t ..................... skipped: Author test.  Set $ENV{RELEASE_TESTING} to true to run.
t/lethal.t ....................... ok
t/lex58.t ........................ ok
t/mkdir.t ........................ ok
t/no_carp.t ...................... ok
t/open.t ......................... ok
t/pod-coverage.t ................. skipped: Author test.  Set $ENV{AUTHOR_TESTING} to true to run.
t/pod.t .......................... skipped: Author test.  Set $ENV{AUTHOR_TESTING} to true to run.
t/read.t ......................... ok
t/recv.t ......................... ok
t/release-pod-coverage.t ......... skipped: these tests are for release candidate testing
t/release-pod-syntax.t ........... skipped: these tests are for release candidate testing
t/repeat.t ....................... ok
t/rt-74246.t ..................... ok
t/scope_leak.t ................... ok
t/skip.t ......................... ok
t/socket.t ....................... skipped: Author test.  Set $ENV{AUTHOR_TESTING} to true to run.
t/string-eval-basic.t ............ ok
t/string-eval-leak.t ............. ok
t/sysopen.t ...................... ok
t/system.t ....................... ok
t/truncate.t ..................... ok
t/unlink.t ....................... ok
t/user-context.t ................. ok
t/usersub.t ...................... ok
t/utf8_open.t .................... ok
t/utime.t ........................ ok
t/version.t ...................... skipped: Release test.  Set $ENV{RELEASE_TESTING} to true to run.
t/version_tag.t .................. ok
All tests successful.
Files=66, Tests=509, 30 wallclock secs ( 0.01 usr  0.11 sys +  6.67 cusr 20.83 csys = 27.62 CPU)
Result: PASS

------------------------------
PREREQUISITES
------------------------------

Prerequisite modules loaded:

requires:

    Module                  Need     Have    
    ----------------------- -------- --------
    B                       0        1.58    
    Carp                    0        1.38    
    constant                0        1.33    
    Exporter                5.57     5.72    
    Fcntl                   0        1.13    
    overload                0        1.26    
    parent                  0        0.232   
    perl                    5.008004 5.022003
    POSIX                   0        1.53_01 
    Scalar::Util            0        1.48    
    strict                  0        1.09    
    Tie::RefHash            0        1.39    
    warnings                0        1.34    

build_requires:

    Module                  Need     Have    
    ----------------------- -------- --------
    ExtUtils::MakeMaker     0        7.24    
    File::Copy              0        2.30    
    File::Spec              0        3.62    
    File::Temp              0        0.2304  
    FindBin                 0        1.51    
    if                      0        0.0604  
    IO::Handle              0        1.35    
    lib                     0        0.63    
    Socket                  0        2.024   
    Test::More              0        1.302085

configure_requires:

    Module                  Need     Have    
    ----------------------- -------- --------
    ExtUtils::MakeMaker     0        7.24    

opt_requires:

    Module                  Need     Have    
    ----------------------- -------- --------
    IPC::System::Simple     0.12     1.25    
    perl                    5.010    5.022003
    Sub::Identify           0        0.14    

opt_build_requires:

    Module                  Need     Have    
    ----------------------- -------- --------
  ! BSD::Resource           0        n/a     
  ! Import::Into            1.002004 n/a     
    perl                    5.010    5.022003
    Pod::Coverage::TrustPod 0        0.100003
    Test::Kwalitee          0        1.25    
    Test::Perl::Critic      0        1.03    


------------------------------
ENVIRONMENT AND OTHER CONTEXT
------------------------------

Environment variables:

    AUTOMATED_TESTING = 1
    COMSPEC = C:\WINDOWS\system32\cmd.exe
    LANG = fr_FR.UTF-8
    NUMBER_OF_PROCESSORS = 4
    PATH = /home/Jean-Damien/perl5/bin:/usr/local/bin:/usr/bin:/cygdrive/c/Program Files (x86)/Lenovo/FusionEngine:/cygdrive/c/Program Files (x86)/Intel/iCLS Client:/cygdrive/c/Program Files/Intel/iCLS Client:/cygdrive/c/Program Files (x86)/NVIDIA Corporation/PhysX/Common:/cygdrive/c/WINDOWS/system32:/cygdrive/c/WINDOWS:/cygdrive/c/WINDOWS/System32/Wbem:/cygdrive/c/WINDOWS/System32/WindowsPowerShell/v1.0:/cygdrive/c/Program Files/Intel/Intel(R) Management Engine Components/DAL:/cygdrive/c/Program Files/Intel/Intel(R) Management Engine Components/IPT:/cygdrive/c/Program Files (x86)/Intel/Intel(R) Management Engine Components/DAL:/cygdrive/c/Program Files (x86)/Intel/Intel(R) Management Engine Components/IPT:/cygdrive/c/Program Files (x86)/Common Files/lenovo/easyplussdk/bin:/cygdrive/c/Strawberry/perl-5.22.0.1-32bits/c/bin:/cygdrive/c/Strawberry/perl-5.22.0.1-32bits/perl/site/bin:/cygdrive/c/Strawberry/perl-5.22.0.1-32bits/perl/bin:/cygdrive/c/Program Files/CMake/bin:/cygdrive/c/Program Files (x86)/Windows Kits/8.1/Windows Performance Toolkit:/cygdrive/c/Program Files (x86)/Lenovo/FusionEngine:/cygdrive/c/Program Files (x86)/Intel/iCLS Client:/cygdrive/c/Program Files/Intel/iCLS Client:/cygdrive/c/Program Files (x86)/NVIDIA Corporation/PhysX/Common:/cygdrive/c/WINDOWS/system32:/cygdrive/c/WINDOWS:/cygdrive/c/WINDOWS/System32/Wbem:/cygdrive/c/WINDOWS/System32/WindowsPowerShell/v1.0:/cygdrive/c/Program Files/Intel/Intel(R) Management Engine Components/DAL:/cygdrive/c/Program Files/Intel/Intel(R) Management Engine Components/IPT:/cygdrive/c/Program Files (x86)/Intel/Intel(R) Management Engine Components/DAL:/cygdrive/c/Program Files (x86)/Intel/Intel(R) Management Engine Components/IPT:/cygdrive/c/Program Files (x86)/Common Files/lenovo/easyplussdk/bin:/cygdrive/c/Strawberry/perl-5.22.0.1-32bits/c/bin:/cygdrive/c/Strawberry/perl-5.22.0.1-32bits/perl/site/bin:/cygdrive/c/Strawberry/perl-5.22.0.1-32bits/perl/bin:/cygdrive/c/Program Files/CMake/bin:/cygdrive/c/Program Files (x86)/Windows Kits/8.1/Windows Performance Toolkit:/cygdrive/c/Users/Jean-Damien/AppData/Local/GitHub/PortableGit_c2ba306e536fdf878271f7fe636a147ff37326ad/bin:/cygdrive/c/Users/Jean-Damien/AppData/Local/Microsoft/WindowsApps
    PERL5LIB = /home/Jean-Damien/.cpan/build/Term-ANSIColor-4.06-bhbCZ_/blib/arch:/home/Jean-Damien/.cpan/build/Term-ANSIColor-4.06-bhbCZ_/blib/lib:/home/Jean-Damien/.cpan/build/Sys-SigAction-0.23-bfKD_H/blib/arch:/home/Jean-Damien/.cpan/build/Sys-SigAction-0.23-bfKD_H/blib/lib:/home/Jean-Damien/.cpan/build/MooseX-Clone-0.06-hu1FLu/blib/arch:/home/Jean-Damien/.cpan/build/MooseX-Clone-0.06-hu1FLu/blib/lib:/home/Jean-Damien/.cpan/build/Hash-Util-FieldHash-Compat-0.11-KBmDw3/blib/arch:/home/Jean-Damien/.cpan/build/Hash-Util-FieldHash-Compat-0.11-KBmDw3/blib/lib:/home/Jean-Damien/.cpan/build/Tie-ToObject-0.03-5YGiLe/blib/arch:/home/Jean-Damien/.cpan/build/Tie-ToObject-0.03-5YGiLe/blib/lib:/home/Jean-Damien/perl5/lib/perl5
    PERL5OPT = 
    PERL5_CPANPLUS_IS_RUNNING = 9624
    PERL5_CPAN_IS_RUNNING = 9624
    PERL5_CPAN_IS_RUNNING_IN_RECURSION = 5568,9624
    PERL_CR_SMOKER_CURRENT = JCM-Boilerplate-1.014
    PERL_EXTUTILS_AUTOINSTALL = --defaultdeps
    PERL_LOCAL_LIB_ROOT = /home/Jean-Damien/perl5
    PERL_MB_OPT = --install_base "/home/Jean-Damien/perl5"
    PERL_MM_OPT = INSTALL_BASE=/home/Jean-Damien/perl5
    PERL_MM_USE_DEFAULT = 1
    PROCESSOR_IDENTIFIER = Intel64 Family 6 Model 69 Stepping 1, GenuineIntel
    SHELL = /bin/bash
    TEMP = /tmp
    TERM = xterm

Perl special variables (and OS-specific diagnostics, for MSWin32):

    $^X = /usr/bin/perl
    $UID/$EUID = 197610 / 197610
    $GID = 197121 197121 197611 559 545 4 66049 11 15 113 66048 262154 401408
    $EGID = 197121 197121 197611 559 545 4 66049 11 15 113 66048 262154 401408

Perl module toolchain versions installed:

    Module              Have    
    ------------------- --------
    CPAN                2.11_01 
    CPAN::Meta          2.150010
    Cwd                 3.62    
    ExtUtils::CBuilder  0.280224
    ExtUtils::Command   7.24    
    ExtUtils::Install   2.04    
    ExtUtils::MakeMaker 7.24    
    ExtUtils::Manifest  1.70    
    ExtUtils::ParseXS   3.28    
    File::Spec          3.62    
    JSON                2.90    
    JSON::PP            2.27400 
    Module::Build       0.4222  
    Module::Signature   0.81    
    Parse::CPAN::Meta   2.150010
    Test::Harness       3.39    
    Test::More          1.302085
    YAML                1.23    
    YAML::Syck          n/a     
    version             0.9909  


--

Summary of my perl5 (revision 5 version 22 subversion 3) configuration:
   
  Platform:
    osname=cygwin, osvers=2.6.1(0.30553), archname=cygwin-thread-multi
    uname='cygwin_nt-6.3 cygwin 2.6.1(0.30553) 2016-12-16 11:55 x86_64 cygwin '
    config_args='-des -Dprefix=/usr -Dmksymlinks -Darchname=x86_64-cygwin-threads -Dlibperl=cygperl5_22.dll -Dcc=gcc -Dld=g++ -Accflags=-ggdb -O2 -pipe -Wimplicit-function-declaration -fdebug-prefix-map=/mnt/share/maint/perl.x86_64/build=/usr/src/debug/perl-5.22.3-1 -fdebug-prefix-map=/mnt/share/maint/perl.x86_64/src/perl-5.22.3=/usr/src/debug/perl-5.22.3-1 -fwrapv'
    hint=recommended, useposix=true, d_sigaction=define
    useithreads=define, usemultiplicity=define
    use64bitint=define, use64bitall=define, uselongdouble=undef
    usemymalloc=n, bincompat5005=undef
  Compiler:
    cc='gcc', ccflags ='-DPERL_USE_SAFE_PUTENV -D_GNU_SOURCE -U__STRICT_ANSI__ -ggdb -O2 -pipe -Wimplicit-function-declaration -fdebug-prefix-map=/mnt/share/maint/perl.x86_64/build=/usr/src/debug/perl-5.22.3-1 -fdebug-prefix-map=/mnt/share/maint/perl.x86_64/src/perl-5.22.3=/usr/src/debug/perl-5.22.3-1 -fwrapv -fno-strict-aliasing -fstack-protector-strong -D_FORTIFY_SOURCE=2',
    optimize='-O3',
    cppflags='-DPERL_USE_SAFE_PUTENV -D_GNU_SOURCE -U__STRICT_ANSI__ -ggdb -O2 -pipe -Wimplicit-function-declaration -fdebug-prefix-map=/mnt/share/maint/perl.x86_64/build=/usr/src/debug/perl-5.22.3-1 -fdebug-prefix-map=/mnt/share/maint/perl.x86_64/src/perl-5.22.3=/usr/src/debug/perl-5.22.3-1 -fwrapv -fno-strict-aliasing -fstack-protector-strong'
    ccversion='', gccversion='5.4.0', gccosandvers=''
    intsize=4, longsize=8, ptrsize=8, doublesize=8, byteorder=12345678, doublekind=3
    d_longlong=define, longlongsize=8, d_longdbl=define, longdblsize=16, longdblkind=3
    ivtype='long', ivsize=8, nvtype='double', nvsize=8, Off_t='off_t', lseeksize=8
    alignbytes=8, prototype=define
  Linker and Libraries:
    ld='g++', ldflags =' -Wl,--enable-auto-import -Wl,--export-all-symbols -Wl,--enable-auto-image-base -fstack-protector-strong'
    libpth=/usr/lib
    libs=-lpthread -lgdbm -ldb -ldl -lcrypt -lgdbm_compat
    perllibs=-lpthread -ldl -lcrypt
    libc=/usr/lib/libcygwin.a, so=dll, useshrplib=true, libperl=cygperl5_22.dll
    gnulibc_version=''
  Dynamic Linking:
    dlsrc=dl_dlopen.xs, dlext=dll, d_dlsymun=undef, ccdlflags=' '
    cccdlflags=' ', lddlflags=' --shared  -Wl,--enable-auto-import -Wl,--export-all-symbols -Wl,--enable-auto-image-base -fstack-protector-strong'


Characteristics of this binary (from libperl): 
  Compile-time options: HAS_TIMES MULTIPLICITY PERLIO_LAYERS
                        PERL_DONT_CREATE_GVSV
                        PERL_HASH_FUNC_ONE_AT_A_TIME_HARD
                        PERL_IMPLICIT_CONTEXT PERL_NEW_COPY_ON_WRITE
                        PERL_PRESERVE_IVUV PERL_USE_SAFE_PUTENV
                        USE_64_BIT_ALL USE_64_BIT_INT USE_ITHREADS
                        USE_LARGE_FILES USE_LOCALE USE_LOCALE_COLLATE
                        USE_LOCALE_CTYPE USE_LOCALE_NUMERIC USE_LOCALE_TIME
                        USE_PERLIO USE_PERL_ATOF USE_REENTRANT_API
  Built under cygwin
  Compiled at Jan 15 2017 13:11:06
  %ENV:
    PERL5LIB="/home/Jean-Damien/.cpan/build/Term-ANSIColor-4.06-bhbCZ_/blib/arch:/home/Jean-Damien/.cpan/build/Term-ANSIColor-4.06-bhbCZ_/blib/lib:/home/Jean-Damien/.cpan/build/Sys-SigAction-0.23-bfKD_H/blib/arch:/home/Jean-Damien/.cpan/build/Sys-SigAction-0.23-bfKD_H/blib/lib:/home/Jean-Damien/.cpan/build/MooseX-Clone-0.06-hu1FLu/blib/arch:/home/Jean-Damien/.cpan/build/MooseX-Clone-0.06-hu1FLu/blib/lib:/home/Jean-Damien/.cpan/build/Hash-Util-FieldHash-Compat-0.11-KBmDw3/blib/arch:/home/Jean-Damien/.cpan/build/Hash-Util-FieldHash-Compat-0.11-KBmDw3/blib/lib:/home/Jean-Damien/.cpan/build/Tie-ToObject-0.03-5YGiLe/blib/arch:/home/Jean-Damien/.cpan/build/Tie-ToObject-0.03-5YGiLe/blib/lib:/home/Jean-Damien/perl5/lib/perl5"
    PERL5OPT=""
    PERL5_CPANPLUS_IS_RUNNING="9624"
    PERL5_CPAN_IS_RUNNING="9624"
    PERL5_CPAN_IS_RUNNING_IN_RECURSION="5568,9624"
    PERL_CR_SMOKER_CURRENT="JCM-Boilerplate-1.014"
    PERL_EXTUTILS_AUTOINSTALL="--defaultdeps"
    PERL_LOCAL_LIB_ROOT="/home/Jean-Damien/perl5"
    PERL_MB_OPT="--install_base "/home/Jean-Damien/perl5""
    PERL_MM_OPT="INSTALL_BASE=/home/Jean-Damien/perl5"
    PERL_MM_USE_DEFAULT="1"
  @INC:
    /home/Jean-Damien/.cpan/build/Term-ANSIColor-4.06-bhbCZ_/blib/arch
    /home/Jean-Damien/.cpan/build/Term-ANSIColor-4.06-bhbCZ_/blib/lib
    /home/Jean-Damien/.cpan/build/Sys-SigAction-0.23-bfKD_H/blib/arch
    /home/Jean-Damien/.cpan/build/Sys-SigAction-0.23-bfKD_H/blib/lib
    /home/Jean-Damien/.cpan/build/MooseX-Clone-0.06-hu1FLu/blib/arch
    /home/Jean-Damien/.cpan/build/MooseX-Clone-0.06-hu1FLu/blib/lib
    /home/Jean-Damien/.cpan/build/Hash-Util-FieldHash-Compat-0.11-KBmDw3/blib/arch
    /home/Jean-Damien/.cpan/build/Hash-Util-FieldHash-Compat-0.11-KBmDw3/blib/lib
    /home/Jean-Damien/.cpan/build/Tie-ToObject-0.03-5YGiLe/blib/arch
    /home/Jean-Damien/.cpan/build/Tie-ToObject-0.03-5YGiLe/blib/lib
    /home/Jean-Damien/perl5/lib/perl5/5.22.3/cygwin-thread-multi
    /home/Jean-Damien/perl5/lib/perl5/5.22.3
    /home/Jean-Damien/perl5/lib/perl5/cygwin-thread-multi
    /home/Jean-Damien/perl5/lib/perl5
    /usr/lib/perl5/site_perl/5.22/x86_64-cygwin-threads
    /usr/lib/perl5/site_perl/5.22
    /usr/lib/perl5/vendor_perl/5.22/x86_64-cygwin-threads
    /usr/lib/perl5/vendor_perl/5.22
    /usr/lib/perl5/5.22/x86_64-cygwin-threads
    /usr/lib/perl5/5.22
    .