Back
From: metabase:user:fb19509c-17e3-11e3-a14d-fdb79081a995
Subject: PASS Dist-Zilla-Plugin-Test-EOL-0.19 v5.8.9 Mac OS X
Date: 2017-05-23T19:48:00Z
This distribution has been tested as part of the CPAN Testers
project, supporting the Perl programming language. See
http://wiki.cpantesters.org/ for more information or email
questions to cpan-testers-discuss@perl.org
--
Dear ETHER,
This is a computer-generated report for Dist-Zilla-Plugin-Test-EOL-0.19
on perl 5.8.9, created by App::cpanminus::reporter 0.12 (1.7042).
Thank you for uploading your work to CPAN. Congratulations!
All tests were successful.
Sections of this report:
* Tester comments
* Program output
* Prerequisites
* Environment and other context
------------------------------
TESTER COMMENTS
------------------------------
Additional comments from tester:
none provided
------------------------------
PROGRAM OUTPUT
------------------------------
Output from '':
Building and testing Dist-Zilla-Plugin-Test-EOL-0.19
#
# Versions for all modules listed in MYMETA.json (including optional ones):
#
# === Configure Requires ===
#
# Module Want Have
# ------------------- ----- -----
# Module::Build::Tiny 0.034 0.039
#
# === Test Requires ===
#
# Module Want Have
# ---------------- ----- --------
# File::Spec any 3.62
# File::pushd any 1.014
# FindBin any 1.49
# Module::Metadata any 1.000033
# Test::DZil any 5.047
# Test::Deep any 1.127
# Test::EOL any 2.00
# Test::More 0.88 1.302056
# Test::Warnings 0.009 0.026
# if any 0.0601
#
# === Test Recommends ===
#
# Module Want Have
# ---------- -------- --------
# CPAN::Meta 2.120900 2.150010
#
# === Runtime Requires ===
#
# Module Want Have
# --------------------------------- ----- --------
# Data::Section 0.004 0.200006
# Dist::Zilla::File::InMemory any 5.047
# Dist::Zilla::Role::FileFinderUser any 5.047
# Dist::Zilla::Role::FileGatherer any 5.047
# Dist::Zilla::Role::FileMunger any 5.047
# Dist::Zilla::Role::PrereqSource any 5.047
# Dist::Zilla::Role::TextTemplate any 5.047
# Moose any 2.2005
# Moose::Util::TypeConstraints any 2.2005
# Path::Tiny any 0.103
# Sub::Exporter::ForMethods any 0.100052
# namespace::autoclean any 0.28
# strict any 1.03
# warnings any 1.05_01
#
# === Other Modules ===
#
# Module Have
# --------------------- --------
# CPAN::Meta::Validator 2.150010
# Pod::Coverage 0.23
#
t/00-report-prereqs.t .. ok
t/eol.t ................ ok
t/prereqs.t ............ ok
t/01-basic.t ........... ok
t/04-filename.t ........ ok
t/03-finder.t .......... ok
t/02-eoltests.t ........ ok
# Conflicts detected for Moose:
# Moose::Autobox is version 0.15, but must be greater than version 0.15
t/zzz-check-breaks.t ... ok
All tests successful.
Files=8, Tests=66, 5 wallclock secs ( 0.05 usr 0.02 sys + 13.33 cusr 0.48 csys = 13.88 CPU)
Result: PASS
------------------------------
PREREQUISITES
------------------------------
Prerequisite modules loaded:
No requirements found
------------------------------
ENVIRONMENT AND OTHER CONTEXT
------------------------------
Environment variables:
LANG = en_CA.UTF-8
PATH = /Users/ether/.perlbrew/libs/8.9@std/bin:/Users/ether/perl5/perlbrew/bin:/Users/ether/perl5/perlbrew/perls/8.9/bin:/Users/ether/bin:/Users/ether/git/misc/install/bourbon/bin:/Users/ether/git/misc/install/generic/bin:/opt/local/bin:/opt/local/sbin:/Users/ether/git/git-hub/lib:/Users/ether/src/CE/devtools:/Users/ether/git/CE/devtools:/Users/ether/src/CE/bin:/Users/ether/git/CE/bin:/usr/bin:/bin:/usr/sbin:/sbin:/usr/local/bin:/opt/local/share/git-core/contrib/workdir
PERL5LIB = /Users/ether/.perlbrew/libs/8.9@std/lib/perl5
PERLBREW_BASHRC_VERSION = 0.78
PERLBREW_HOME = /Users/ether/.perlbrew
PERLBREW_LIB = std
PERLBREW_MANPATH = /Users/ether/.perlbrew/libs/8.9@std/man:/Users/ether/perl5/perlbrew/perls/8.9/man
PERLBREW_PATH = /Users/ether/.perlbrew/libs/8.9@std/bin:/Users/ether/perl5/perlbrew/bin:/Users/ether/perl5/perlbrew/perls/8.9/bin
PERLBREW_PERL = 8.9
PERLBREW_ROOT = /Users/ether/perl5/perlbrew
PERLBREW_VERSION = 0.78
PERLDOC_PAGER = less -sicMr
PERL_AUTOINSTALL_PREFER_CPAN = 1
PERL_INSTALL_QUIET = 1
PERL_LOCAL_LIB_ROOT = /Users/ether/.perlbrew/libs/8.9@std
PERL_MB_OPT = --install_base /Users/ether/.perlbrew/libs/8.9@std
PERL_MM_OPT = INSTALL_BASE=/Users/ether/.perlbrew/libs/8.9@std
PERL_USE_UNSAFE_INC = 0
SHELL = /bin/bash
TERM = xterm-color
TMPDIR = /var/folders/kx/9dgyhhpn2yb7v2mggnr385fr0000gn/T/
Perl special variables (and OS-specific diagnostics, for MSWin32):
EGID = 20 20 402 401 12 33 61 79 80 81 98 100 204
EUID = 501
EXECUTABLE_NAME = /Users/ether/perl5/perlbrew/perls/8.9/bin/perl
GID = 20 20 402 401 12 33 61 79 80 81 98 100 204
UID = 501
Perl module toolchain versions installed:
Module Have
------------------- --------
CPAN 2.13
CPAN::Meta 2.150010
Cwd 3.62
ExtUtils::CBuilder 0.280224
ExtUtils::Command 7.24
ExtUtils::Install 2.04
ExtUtils::MakeMaker 7.24
ExtUtils::Manifest 1.70
ExtUtils::ParseXS 3.24
File::Spec 3.62
JSON 2.90
JSON::PP 2.27400
Module::Build 0.4222
Module::Signature n/a
Parse::CPAN::Meta 2.150010
Test::Harness 3.39
Test::More 1.302056
YAML 1.15
YAML::Syck 1.27
version 0.9917
--
Summary of my perl5 (revision 5 version 8 subversion 9) configuration:
Platform:
osname=darwin, osvers=12.5.0, archname=darwin-2level
uname='darwin bourbon 12.5.0 darwin kernel version 12.5.0: sun sep 29 13:33:47 pdt 2013; root:xnu-2050.48.12~1release_x86_64 x86_64 '
config_args='-de -Dprefix=/Users/ether/perl5/perlbrew/perls/8.9 -Dman1dir=none -Dman3dir=none -Aeval:scriptdir=/Users/ether/perl5/perlbrew/perls/8.9/bin'
hint=recommended, useposix=true, d_sigaction=define
usethreads=undef use5005threads=undef useithreads=undef usemultiplicity=undef
useperlio=define d_sfio=undef uselargefiles=define usesocks=undef
use64bitint=define use64bitall=define uselongdouble=undef
usemymalloc=n, bincompat5005=undef
Compiler:
cc='cc', ccflags ='-fno-common -DPERL_DARWIN -fno-strict-aliasing -pipe -I/opt/local/include',
optimize='-O3',
cppflags='-fno-common -DPERL_DARWIN -fno-strict-aliasing -pipe -I/opt/local/include'
ccversion='', gccversion='4.2.1 Compatible Apple LLVM 4.2 (clang-425.0.28)', gccosandvers=''
intsize=4, longsize=8, ptrsize=8, doublesize=8, byteorder=12345678
d_longlong=define, longlongsize=8, d_longdbl=define, longdblsize=16
ivtype='long', ivsize=8, nvtype='double', nvsize=8, Off_t='off_t', lseeksize=8
alignbytes=8, prototype=define
Linker and Libraries:
ld='env MACOSX_DEPLOYMENT_TARGET=10.3 cc', ldflags =' -L/opt/local/lib'
libpth=/opt/local/lib /usr/lib
libs=-lgdbm -ldbm -ldl -lm -lutil -lc
perllibs=-ldl -lm -lutil -lc
libc=, so=dylib, useshrplib=false, libperl=libperl.a
gnulibc_version=''
Dynamic Linking:
dlsrc=dl_dlopen.xs, dlext=bundle, d_dlsymun=undef, ccdlflags=' '
cccdlflags=' ', lddlflags=' -bundle -undefined dynamic_lookup -L/opt/local/lib'
Characteristics of this binary (from libperl):
Compile-time options: PERL_MALLOC_WRAP USE_64_BIT_ALL USE_64_BIT_INT
USE_FAST_STDIO USE_LARGE_FILES USE_PERLIO
Built under darwin
Compiled at May 5 2014 14:13:45
%ENV:
PERL5LIB="/Users/ether/.perlbrew/libs/8.9@std/lib/perl5"
PERLBREW_BASHRC_VERSION="0.78"
PERLBREW_HOME="/Users/ether/.perlbrew"
PERLBREW_LIB="std"
PERLBREW_MANPATH="/Users/ether/.perlbrew/libs/8.9@std/man:/Users/ether/perl5/perlbrew/perls/8.9/man"
PERLBREW_PATH="/Users/ether/.perlbrew/libs/8.9@std/bin:/Users/ether/perl5/perlbrew/bin:/Users/ether/perl5/perlbrew/perls/8.9/bin"
PERLBREW_PERL="8.9"
PERLBREW_ROOT="/Users/ether/perl5/perlbrew"
PERLBREW_VERSION="0.78"
PERLDOC_PAGER="less -sicMr"
PERL_AUTOINSTALL_PREFER_CPAN="1"
PERL_INSTALL_QUIET="1"
PERL_LOCAL_LIB_ROOT="/Users/ether/.perlbrew/libs/8.9@std"
PERL_MB_OPT="--install_base /Users/ether/.perlbrew/libs/8.9@std"
PERL_MM_OPT="INSTALL_BASE=/Users/ether/.perlbrew/libs/8.9@std"
PERL_USE_UNSAFE_INC="0"
@INC:
/Users/ether/.perlbrew/libs/8.9@std/lib/perl5/darwin-2level
/Users/ether/.perlbrew/libs/8.9@std/lib/perl5
/Users/ether/perl5/perlbrew/perls/8.9/lib/5.8.9/darwin-2level
/Users/ether/perl5/perlbrew/perls/8.9/lib/5.8.9
/Users/ether/perl5/perlbrew/perls/8.9/lib/site_perl/5.8.9/darwin-2level
/Users/ether/perl5/perlbrew/perls/8.9/lib/site_perl/5.8.9
.