Smartcat-Client v0.0.3 Perl 5 v5.36.3 x86_64-linux

Status
Pass
From
Slaven Rezić
Dist
Smartcat-Client v0.0.3
Platform
Perl 5 v5.36.3 x86_64-linux
Date
2023-12-29 17:07:20
ID
b9f833d0-a66c-11ee-a62a-6fe86d8775ea
This distribution has been tested as part of the CPAN Testers
project, supporting the Perl programming language.  See
http://wiki.cpantesters.org/ for more information or email
questions to cpan-testers-discuss@perl.org


--
Dear Taras Semenenko,

This is a computer-generated report for Smartcat-Client-0.0.3
on perl 5.36.3, created by CPAN-Reporter-1.2019.

Thank you for uploading your work to CPAN.  Congratulations!
All tests were successful.

Sections of this report:

    * Tester comments
    * Program output
    * Prerequisites
    * Environment and other context

------------------------------
TESTER COMMENTS
------------------------------

Additional comments from tester:

none provided

------------------------------
PROGRAM OUTPUT
------------------------------

Output from './Build test':

t/AccountApiTest.t .............................................. ok
t/AccountModelTest.t ............................................ ok
t/AdditionalHeaderModelTest.t ................................... ok
t/AssignExecutivesRequestModelTest.t ............................ ok
t/AssignMyTeamExecutivesRequestModelTest.t ...................... ok
t/AssignedExecutiveModelTest.t .................................. ok
t/BilingualFileImportSetingsModelTest.t ......................... ok
t/CallbackApiTest.t ............................................. ok
t/CallbackErrorModelTest.t ...................................... ok
t/CallbackPropertyModelTest.t ................................... ok
t/CancelInvoiceModelTest.t ...................................... ok
t/ClientApiTest.t ............................................... ok
t/ClientModelTest.t ............................................. ok
t/CreateDocumentPropertyModelTest.t ............................. ok
t/CreateInvoiceModelTest.t ...................................... ok
t/CreateProjectModelTest.t ...................................... ok
t/CreateTranslationMemoryModelTest.t ............................ ok
t/DirectoriesApiTest.t .......................................... ok
t/DirectoryItemModelTest.t ...................................... ok
t/DirectoryModelTest.t .......................................... ok
t/DocumentApiTest.t ............................................. ok
t/DocumentExportApiTest.t ....................................... ok
t/DocumentModelTest.t ........................................... ok
t/DocumentStatisticsModelTest.t ................................. ok
t/DocumentTargetIdTest.t ........................................ ok
t/DocumentWorkflowStageModelTest.t .............................. ok
t/ExecutiveModelTest.t .......................................... ok
t/ExecutiveStatisticsModelTest.t ................................ ok
t/ExecutiveTest.t ............................................... ok
t/ExportDocumentTaskModelTest.t ................................. ok
t/FileFormatModelTest.t ......................................... ok
t/GlossaryApiTest.t ............................................. ok
t/GlossaryModelTest.t ........................................... ok
t/ImportJobModelTest.t .......................................... ok
t/InhouseTranslatorCreationModelTest.t .......................... ok
t/InvoiceApiTest.t .............................................. ok
t/LspServiceModelTest.t ......................................... ok
t/MTEngineModelTest.t ........................................... ok
t/ModelWithFilesCreateProjectModelTest.t ........................ ok
t/ModelWithFilesIReadOnlyListCreateDocumentPropertyModelTest.t .. ok
t/ModelWithFilesUploadDocumentPropertiesModelTest.t ............. ok
t/MyTeamMemberModelTest.t ....................................... ok
t/MyTeamSearchRequestModelTest.t ................................ ok
t/NetRateModelTest.t ............................................ ok
t/ObjectTest.t .................................................. ok
t/PlaceholderFormatApiApiTest.t ................................. ok
t/PlaceholderFormatModelTest.t .................................. ok
t/ProjectApiTest.t .............................................. ok
t/ProjectChangesModelTest.t ..................................... ok
t/ProjectModelTest.t ............................................ ok
t/ProjectStatisticsModelTest.t .................................. ok
t/ProjectStatisticsObsoleteModelTest.t .......................... ok
t/ProjectTranslationMemoryModelTest.t ........................... ok
t/ProjectWorkflowStageModelTest.t ............................... ok
t/SegmentModelTest.t ............................................ ok
t/SegmentTagModelTest.t ......................................... ok
t/SegmentWithMatchesModelTest.t ................................. ok
t/ServiceModelTest.t ............................................ ok
t/StatisticsRowModelTest.t ...................................... ok
t/TMImportTaskModelTest.t ....................................... ok
t/TMMatchesRequestTest.t ........................................ ok
t/TMRangeRateModelTest.t ........................................ ok
t/TagsFromUnitTest.t ............................................ ok
t/TranslationMemoriesApiTest.t .................................. ok
t/TranslationMemoriesForLanguageModelTest.t ..................... ok
t/TranslationMemoryForProjectModelTest.t ........................ ok
t/TranslationMemoryModelTest.t .................................. ok
t/UploadDocumentPropertiesModelTest.t ........................... ok
t/UploadedFileTest.t ............................................ ok
t/author-pod-syntax.t ........................................... skipped: these tests are for testing by the author
All tests successful.
Files=70, Tests=138, 27 wallclock secs ( 0.15 usr  0.11 sys + 11.80 cusr  2.50 csys = 14.56 CPU)
Result: PASS

------------------------------
PREREQUISITES
------------------------------

Prerequisite modules loaded:

requires:

    Module                   Need   Have    
    ------------------------ ------ --------
    base                     0      2.27    
    Carp                     0      1.52    
    Class::Accessor          0      0.51    
    Class::Data::Inheritable 0      0.09    
    Class::Inspector         0      1.36    
    constant                 0      1.33    
    Data::Dumper             0      2.184   
    Date::Parse              0      2.33    
    DateTime                 0      1.65    
    Exporter                 0      5.77    
    HTTP::Headers            0      6.45    
    HTTP::Request::Common    0      6.45    
    HTTP::Response           0      6.45    
    HTTP::Status             0      6.45    
    JSON                     0      4.10    
    List::MoreUtils          0      0.430   
    Log::Any                 0      1.717   
    LWP::UserAgent           0      6.72    
    MIME::Base64             0      3.16    
    Module::Find             0      0.16    
    Module::Runtime          0      0.016   
    Moose::Role              0      2.2206  
    namespace::autoclean     0      0.29    
    perl                     v5.6.0 5.036003
    Scalar::Util             0      1.62    
    strict                   0      1.12    
    URI::Escape              0      5.21    
    URI::Query               0      0.16    
    utf8                     0      1.24    
    warnings                 0      1.58    

build_requires:

    Module                   Need   Have    
    ------------------------ ------ --------
    File::Spec               0      3.84    
    IO::Handle               0      1.48    
    IPC::Open3               0      1.22    
    lib                      0      0.65    
    Test::Exception          0      0.43    
    Test::More               0      1.302190

configure_requires:

    Module                   Need   Have    
    ------------------------ ------ --------
    ExtUtils::MakeMaker      0      7.64    
    Module::Build::Tiny      0.034  0.047   


------------------------------
ENVIRONMENT AND OTHER CONTEXT
------------------------------

Environment variables:

    LANG = en_US.UTF-8
    PATH = /usr/local/bin:/usr/bin:/bin:/usr/local/sbin:/usr/sbin:/sbin:/home/cpansand/bin/linux-gnu:/home/cpansand/bin/sh:/home/cpansand/bin:/usr/games:/home/cpansand/devel:/home/eserte/src/srezic-misc/scripts
    PERL5LIB = /home/cpansand/.cpan/build/2023122915/Log-Any-Adapter-Log4perl-0.09-3/blib/arch:/home/cpansand/.cpan/build/2023122915/Log-Any-Adapter-Log4perl-0.09-3/blib/lib:/home/cpansand/.cpan/build/2023122915/File-Remove-1.61-3/blib/arch:/home/cpansand/.cpan/build/2023122915/File-Remove-1.61-3/blib/lib
    PERL5OPT = 
    PERL5_CPANPLUS_IS_RUNNING = 2148787
    PERL5_CPAN_IS_RUNNING = 2148787
    PERL5_CPAN_IS_RUNNING_IN_RECURSION = 2130636,2148787
    PERLDOC = -MPod::Perldoc::ToTextOverstrike
    PERL_BATCH = yes
    PERL_CANARY_STABILITY_NOPROMPT = 1
    PERL_CPAN_REPORTER_CONFIG = /var/tmp/cpansmoker-1023/2023122915/cpanreporter_001_config.ini
    PERL_EXTUTILS_AUTOINSTALL = --defaultdeps
    PERL_USE_UNSAFE_INC = 1
    SHELL = /usr/bin/zsh
    TERM = screen
    TMPDIR = /var/tmp/cpansmoker-1023/2023122915

Perl special variables (and OS-specific diagnostics, for MSWin32):

    $^X = /opt/perl-5.36.3/bin/perl
    $UID/$EUID = 1023 / 1023
    $GID = 1023 1023
    $EGID = 1023 1023

Perl module toolchain versions installed:

    Module              Have    
    ------------------- --------
    CPAN                2.33    
    CPAN::Meta          2.150010
    Cwd                 3.84    
    ExtUtils::CBuilder  0.280236
    ExtUtils::Command   7.64    
    ExtUtils::Install   2.20    
    ExtUtils::MakeMaker 7.64    
    ExtUtils::Manifest  1.73    
    ExtUtils::ParseXS   3.45    
    File::Spec          3.84    
    JSON                4.10    
    JSON::PP            4.16    
    Module::Build       0.4234  
    Module::Signature   0.88    
    Parse::CPAN::Meta   2.150010
    Test2               1.302190
    Test::Harness       3.44    
    Test::More          1.302190
    YAML                1.31    
    YAML::Syck          1.34    
    version             0.9929  


--

Summary of my perl5 (revision 5 version 36 subversion 3) configuration:
   
  Platform:
    osname=linux
    osvers=6.6.8-100.fc38.x86_64
    archname=x86_64-linux
    uname='linux fedora39-2gb-hil 6.6.8-100.fc38.x86_64 #1 smp preempt_dynamic thu dec 21 04:01:45 utc 2023 x86_64 gnulinux '
    config_args='-ds -e -Dprefix=/opt/perl-5.36.3 -Dcf_email=srezic@cpan.org'
    hint=recommended
    useposix=true
    d_sigaction=define
    useithreads=undef
    usemultiplicity=undef
    use64bitint=define
    use64bitall=define
    uselongdouble=undef
    usemymalloc=n
    default_inc_excludes_dot=define
  Compiler:
    cc='cc'
    ccflags ='-fwrapv -fno-strict-aliasing -pipe -fstack-protector-strong -I/usr/local/include -D_LARGEFILE_SOURCE -D_FILE_OFFSET_BITS=64 -D_FORTIFY_SOURCE=2'
    optimize='-O2'
    cppflags='-fwrapv -fno-strict-aliasing -pipe -fstack-protector-strong -I/usr/local/include'
    ccversion=''
    gccversion='13.2.1 20231205 (Red Hat 13.2.1-6)'
    gccosandvers=''
    intsize=4
    longsize=8
    ptrsize=8
    doublesize=8
    byteorder=12345678
    doublekind=3
    d_longlong=define
    longlongsize=8
    d_longdbl=define
    longdblsize=16
    longdblkind=3
    ivtype='long'
    ivsize=8
    nvtype='double'
    nvsize=8
    Off_t='off_t'
    lseeksize=8
    alignbytes=8
    prototype=define
  Linker and Libraries:
    ld='cc'
    ldflags =' -fstack-protector-strong -L/usr/local/lib'
    libpth=/usr/local/lib /usr/lib /usr/lib64 /usr/local/lib64
    libs=-lpthread -ldb -ldl -lm -lcrypt -lutil -lc
    perllibs=-lpthread -ldl -lm -lcrypt -lutil -lc
    libc=/lib/../lib64/libc.so.6
    so=so
    useshrplib=false
    libperl=libperl.a
    gnulibc_version='2.38'
  Dynamic Linking:
    dlsrc=dl_dlopen.xs
    dlext=so
    d_dlsymun=undef
    ccdlflags='-Wl,-E'
    cccdlflags='-fPIC'
    lddlflags='-shared -O2 -L/usr/local/lib -fstack-protector-strong'


Characteristics of this binary (from libperl): 
  Compile-time options:
    HAS_TIMES
    PERLIO_LAYERS
    PERL_COPY_ON_WRITE
    PERL_DONT_CREATE_GVSV
    PERL_MALLOC_WRAP
    PERL_OP_PARENT
    PERL_PRESERVE_IVUV
    USE_64_BIT_ALL
    USE_64_BIT_INT
    USE_LARGE_FILES
    USE_LOCALE
    USE_LOCALE_COLLATE
    USE_LOCALE_CTYPE
    USE_LOCALE_NUMERIC
    USE_LOCALE_TIME
    USE_PERLIO
    USE_PERL_ATOF
  Built under linux
  Compiled at Dec 26 2023 08:08:23
  %ENV:
    PERL5LIB="/home/cpansand/.cpan/build/2023122915/Log-Any-Adapter-Log4perl-0.09-3/blib/arch:/home/cpansand/.cpan/build/2023122915/Log-Any-Adapter-Log4perl-0.09-3/blib/lib:/home/cpansand/.cpan/build/2023122915/File-Remove-1.61-3/blib/arch:/home/cpansand/.cpan/build/2023122915/File-Remove-1.61-3/blib/lib"
    PERL5OPT=""
    PERL5_CPANPLUS_IS_RUNNING="2148787"
    PERL5_CPAN_IS_RUNNING="2148787"
    PERL5_CPAN_IS_RUNNING_IN_RECURSION="2130636,2148787"
    PERLDOC="-MPod::Perldoc::ToTextOverstrike"
    PERL_BATCH="yes"
    PERL_CANARY_STABILITY_NOPROMPT="1"
    PERL_CPAN_REPORTER_CONFIG="/var/tmp/cpansmoker-1023/2023122915/cpanreporter_001_config.ini"
    PERL_EXTUTILS_AUTOINSTALL="--defaultdeps"
    PERL_USE_UNSAFE_INC="1"
  @INC:
    /home/cpansand/.cpan/build/2023122915/Log-Any-Adapter-Log4perl-0.09-3/blib/arch
    /home/cpansand/.cpan/build/2023122915/Log-Any-Adapter-Log4perl-0.09-3/blib/lib
    /home/cpansand/.cpan/build/2023122915/File-Remove-1.61-3/blib/arch
    /home/cpansand/.cpan/build/2023122915/File-Remove-1.61-3/blib/lib
    /opt/perl-5.36.3/lib/site_perl/5.36.3/x86_64-linux
    /opt/perl-5.36.3/lib/site_perl/5.36.3
    /opt/perl-5.36.3/lib/5.36.3/x86_64-linux
    /opt/perl-5.36.3/lib/5.36.3
    .