Module-Metadata v1.000038 Perl 5 v5.38.0 RC1 x86_64-linux

Status
Pass
From
John SJ Anderson
Dist
Module-Metadata v1.000038
Platform
Perl 5 v5.38.0 RC1 x86_64-linux
Date
2023-06-19 01:15:06
ID
ba0fe17c-0e3e-11ee-a4c6-93a1dcffe3e0
This distribution has been tested as part of the CPAN Testers
project, supporting the Perl programming language.  See
http://wiki.cpantesters.org/ for more information or email
questions to cpan-testers-discuss@perl.org


--
Dear ETHER,

This is a computer-generated report for Module-Metadata-1.000038
on perl 5.38.0, created by App::cpanminus::reporter 0.20 (1.7046).

Thank you for uploading your work to CPAN.  Congratulations!
All tests were successful.

Sections of this report:

    * Tester comments
    * Program output
    * Prerequisites
    * Environment and other context

------------------------------
TESTER COMMENTS
------------------------------

Additional comments from tester:

none provided

------------------------------
PROGRAM OUTPUT
------------------------------

Output from '':

Building and testing Module-Metadata-1.000038
cp lib/Module/Metadata.pm blib/lib/Module/Metadata.pm
Manifying 1 pod document
PERL_DL_NONLAZY=1 "/opt/plenv/versions/5.38.0-RC1/bin/perl5.38.0" "-MExtUtils::Command::MM" "-MTest::Harness" "-e" "undef *Test::Harness::Switches; test_harness(0, 'blib/lib', 'blib/arch')" t/*.t
# 
# Versions for all modules listed in MYMETA.json (including optional ones):
# 
# === Configure Requires ===
# 
#     Module               Want     Have
#     ------------------- ----- --------
#     ExtUtils::MakeMaker   any     7.70
#     perl                5.006 5.038000
# 
# === Build Requires ===
# 
#     Module              Want Have
#     ------------------- ---- ----
#     ExtUtils::MakeMaker  any 7.70
# 
# === Test Requires ===
# 
#     Module               Want     Have
#     ------------------- ----- --------
#     Cwd                   any     3.89
#     ExtUtils::MakeMaker   any     7.70
#     File::Basename        any     2.86
#     File::Path            any     2.18
#     File::Spec            any     3.88
#     File::Temp            any   0.2311
#     IO::File              any     1.52
#     Test::More           0.88 1.302194
#     lib                   any     0.65
#     perl                5.006 5.038000
# 
# === Test Recommends ===
# 
#     Module         Want     Have
#     ---------- -------- --------
#     CPAN::Meta 2.120900 2.150010
# 
# === Runtime Requires ===
# 
#     Module      Want     Have
#     ---------- ----- --------
#     Carp         any     1.54
#     Encode       any     3.19
#     Fcntl        any     1.15
#     File::Find   any     1.43
#     File::Spec   any     3.88
#     perl       5.006 5.038000
#     strict       any     1.12
#     version     0.87   0.9929
#     warnings     any     1.65
# 
# === Other Modules ===
# 
#     Module            Have
#     --------------- ------
#     Encode            3.19
#     File::Temp      0.2311
#     JSON::PP          4.16
#     Module::Runtime  0.016
#     Pod::Coverage     0.23
#     Sub::Name         0.27
#     YAML              1.30
#     autodie           2.36
# 
t/00-report-prereqs.t .. ok
t/contains_pod.t ....... ok
t/encoding.t ........... ok
t/endpod.t ............. ok
t/extract-package.t .... ok
t/extract-version.t .... ok
t/metadata.t ........... ok
t/taint.t .............. ok
t/version.t ............ ok
All tests successful.
Files=9, Tests=385,  2 wallclock secs ( 0.08 usr  0.03 sys +  1.12 cusr  0.11 csys =  1.34 CPU)
Result: PASS

------------------------------
PREREQUISITES
------------------------------

Prerequisite modules loaded:

runtime:

    Module              Need  Have    
    ------------------- ----- --------
    Carp                0     1.54    
    Encode              0     3.19    
    Fcntl               0     1.15    
    File::Find          0     1.43    
    File::Spec          0     3.88    
    perl                5.006 5.038000
    strict              0     1.12    
    version             0.87  0.9929  
    warnings            0     1.65    

build:

    Module              Need  Have    
    ------------------- ----- --------
    ExtUtils::MakeMaker 0     7.70    

configure:

    Module              Need  Have    
    ------------------- ----- --------
    ExtUtils::MakeMaker 0     7.70    


------------------------------
ENVIRONMENT AND OTHER CONTEXT
------------------------------

Environment variables:

    LANG = en_US.UTF-8
    LC_ALL = en_US.UTF-8
    LC_TERMINAL = iTerm2
    LC_TERMINAL_VERSION = 3.4.19
    PATH = /opt/plenv/versions/5.38.0-RC1/bin:/opt/plenv/libexec:/opt/plenv/plugins/perl-build/bin:/opt/plenv/shims:/home/genehack/bin:/opt/miniconda3/condabin:/opt/plenv/shims:/opt/plenv/bin:/opt/go/bin:/opt/git/bin:/opt/emacs/bin:/opt/local/bin:/usr/local/bin:/usr/bin:/bin:/usr/games
    PERL_CPANM_OPT = --skip-installed --prompt
    SHELL = /bin/zsh
    TERM = screen-256color

Perl special variables (and OS-specific diagnostics, for MSWin32):

    EGID = 1001 1001
    EUID = 1001
    EXECUTABLE_NAME = /opt/plenv/versions/5.38.0-RC1/bin/perl5.38.0
    GID = 1001 1001
    UID = 1001

Perl module toolchain versions installed:

    Module              Have    
    ------------------- --------
    CPAN                2.36    
    CPAN::Meta          2.150010
    Cwd                 3.89    
    ExtUtils::CBuilder  0.280238
    ExtUtils::Command   7.70    
    ExtUtils::Install   2.22    
    ExtUtils::MakeMaker 7.70    
    ExtUtils::Manifest  1.75    
    ExtUtils::ParseXS   3.51    
    File::Spec          3.88    
    JSON                4.10    
    JSON::PP            4.16    
    Module::Build       0.4234  
    Module::Signature   n/a     
    Parse::CPAN::Meta   2.150010
    Test::Harness       3.44    
    Test::More          1.302195
    YAML                1.30    
    YAML::Syck          n/a     
    version             0.9929  


--

Summary of my perl5 (revision 5 version 38 subversion 0) configuration:
   
  Platform:
    osname=linux
    osvers=5.10.0-20-amd64
    archname=x86_64-linux
    uname='linux doof 5.10.0-20-amd64 #1 smp debian 5.10.158-2 (2022-12-13) x86_64 gnulinux '
    config_args='-Dprefix=/opt/plenv/versions/5.38.0-RC1 -de -Dversiononly -Dusedevel -A'eval:scriptdir=/opt/plenv/versions/5.38.0-RC1/bin''
    hint=recommended
    useposix=true
    d_sigaction=define
    useithreads=undef
    usemultiplicity=undef
    use64bitint=define
    use64bitall=define
    uselongdouble=undef
    usemymalloc=n
    default_inc_excludes_dot=define
  Compiler:
    cc='cc'
    ccflags ='-fwrapv -fno-strict-aliasing -pipe -fstack-protector-strong -I/usr/local/include -D_LARGEFILE_SOURCE -D_FILE_OFFSET_BITS=64 -D_FORTIFY_SOURCE=2'
    optimize='-O2'
    cppflags='-fwrapv -fno-strict-aliasing -pipe -fstack-protector-strong -I/usr/local/include'
    ccversion=''
    gccversion='12.2.0'
    gccosandvers=''
    intsize=4
    longsize=8
    ptrsize=8
    doublesize=8
    byteorder=12345678
    doublekind=3
    d_longlong=define
    longlongsize=8
    d_longdbl=define
    longdblsize=16
    longdblkind=3
    ivtype='long'
    ivsize=8
    nvtype='double'
    nvsize=8
    Off_t='off_t'
    lseeksize=8
    alignbytes=8
    prototype=define
  Linker and Libraries:
    ld='cc'
    ldflags =' -fstack-protector-strong -L/usr/local/lib'
    libpth=/usr/local/lib /usr/lib/x86_64-linux-gnu /usr/lib /usr/lib64
    libs=-lpthread -lgdbm -ldl -lm -lcrypt -lutil -lc
    perllibs=-lpthread -ldl -lm -lcrypt -lutil -lc
    libc=/lib/x86_64-linux-gnu/libc.so.6
    so=so
    useshrplib=false
    libperl=libperl.a
    gnulibc_version='2.36'
  Dynamic Linking:
    dlsrc=dl_dlopen.xs
    dlext=so
    d_dlsymun=undef
    ccdlflags='-Wl,-E'
    cccdlflags='-fPIC'
    lddlflags='-shared -O2 -L/usr/local/lib -fstack-protector-strong'


Characteristics of this binary (from libperl): 
  Compile-time options:
    HAS_LONG_DOUBLE
    HAS_STRTOLD
    HAS_TIMES
    PERLIO_LAYERS
    PERL_COPY_ON_WRITE
    PERL_DONT_CREATE_GVSV
    PERL_HASH_FUNC_SIPHASH13
    PERL_HASH_USE_SBOX32
    PERL_MALLOC_WRAP
    PERL_OP_PARENT
    PERL_PRESERVE_IVUV
    PERL_USE_DEVEL
    PERL_USE_SAFE_PUTENV
    USE_64_BIT_ALL
    USE_64_BIT_INT
    USE_LARGE_FILES
    USE_LOCALE
    USE_LOCALE_COLLATE
    USE_LOCALE_CTYPE
    USE_LOCALE_NUMERIC
    USE_LOCALE_TIME
    USE_PERLIO
    USE_PERL_ATOF
  Locally applied patches:
    RC1
  Built under linux
  Compiled at Jun 16 2023 19:14:41
  %ENV:
    PERL_CPANM_OPT="--skip-installed --prompt"
  @INC:
    /opt/plenv/versions/5.38.0-RC1/lib/perl5/site_perl/5.38.0/x86_64-linux
    /opt/plenv/versions/5.38.0-RC1/lib/perl5/site_perl/5.38.0
    /opt/plenv/versions/5.38.0-RC1/lib/perl5/5.38.0/x86_64-linux
    /opt/plenv/versions/5.38.0-RC1/lib/perl5/5.38.0