SMS-Send-Mocean v0.03 Perl 5 v5.8.9 i386-freebsd-thread-multi-64int

Status
Pass
From
Chris Williams (BINGOS)
Dist
SMS-Send-Mocean v0.03
Platform
Perl 5 v5.8.9 i386-freebsd-thread-multi-64int
Date
2019-05-27 08:52:15
ID
ba13362a-805c-11e9-9ccb-b1ae95f66eb9
This distribution has been tested as part of the CPAN Testers
project, supporting the Perl programming language.  See
http://wiki.cpantesters.org/ for more information or email
questions to cpan-testers-discuss@perl.org


--

Dear KIANMENG,

This is a computer-generated error report created automatically by
CPANPLUS, version 0.9176. Testers personal comments may appear
at the end of this report.


Thank you for uploading your work to CPAN.  Congratulations!
All tests were successful.

TEST RESULTS:

Below is the error stack from stage 'make test':

t/00-compile.t ............... ok
# Testing with Perl 5.008009, /usr/home/cpan/pit/rel/perl-5.8.9/bin/perl
#     Carp::Always version is 0.16
#     File::Spec version is 3.75
#     HTTP::Request::Common version is 6.18
#     IO::Handle version is 1.27
#     IPC::Open3 version is 1.03
#     JSON version is 4.02
#     LWP::UserAgent version is 6.39
#     Module::Build::Tiny version is 0.039
#     Pod::Coverage::TrustPod version is 0.100005
#     SMS::Send::Driver version is 0.06
#     Test::CPAN::Meta version is 0.25
#     Test::DistManifest version is 1.014
#     Test::Exception version is 0.43
#     Test::HasVersion version is 0.014
#     Test::More version is 1.302164
#     Test::Perl::Critic version is 1.04
#     Test::UseAllModules version is 0.17
#     Test::Warn version is 0.36
#     URL::Encode version is 0.03
#     XML::Hash::LX version is 0.0603
t/000-report-versions.t ...... ok
t/00_load.t .................. ok
t/01_instantiation.t ......... ok
t/02_required.t .............. ok
t/03_to_mocean_field_name.t .. ok
t/04_send_sms_success.t ...... skipped: $ENV for MOCEAN_XXX not set, skipping live tests
t/05_send_sms_errors.t ....... skipped: $ENV for MOCEAN_XXX not set, skipping live tests
t/author-critic.t ............ skipped: these tests are for testing by the author
t/author-eol.t ............... skipped: these tests are for testing by the author
t/author-minimum-version.t ... skipped: these tests are for testing by the author
t/author-pod-coverage.t ...... skipped: these tests are for testing by the author
t/author-pod-syntax.t ........ skipped: these tests are for testing by the author
t/release-distmeta.t ......... skipped: these tests are for release candidate testing
t/release-has-version.t ...... skipped: these tests are for release candidate testing
t/release-kwalitee.t ......... skipped: these tests are for release candidate testing
t/release-unused-vars.t ...... skipped: these tests are for release candidate testing
All tests successful.
Files=17, Tests=30,  2 wallclock secs ( 0.07 usr  0.02 sys +  1.73 cusr  0.31 csys =  2.13 CPU)
Result: PASS


PREREQUISITES:

Here is a list of prerequisites you specified and versions we
managed to load:

	  Module Name                        Have     Want
	  Carp::Always                       0.16        0
	  File::Spec                         3.75        0
	  HTTP::Request::Common              6.18        0
	  IO::Handle                         1.27        0
	  IPC::Open3                         1.03        0
	  JSON                               4.02        0
	  LWP::UserAgent                     6.39        0
	  Pod::Coverage::TrustPod        0.100005        0
	  SMS::Send::Driver                  0.06        0
	  Test::CPAN::Meta                   0.25        0
	  Test::DistManifest                1.014        0
	  Test::Exception                    0.43        0
	  Test::HasVersion                  0.014        0
	  Test::Kwalitee                     1.28        0
	  Test::More                     1.302164        0
	  Test::Perl::Critic                 1.04        0
	  Test::Pod::Coverage                1.10        0
	  Test::UseAllModules                0.17        0
	  Test::Warn                         0.36        0
	  URL::Encode                        0.03        0
	  XML::Hash::LX                    0.0603        0

Perl module toolchain versions installed:
	Module Name                        Have
	CPANPLUS                         0.9176
	CPANPLUS::Dist::Build              0.90
	Cwd                                3.75
	ExtUtils::CBuilder             0.280231
	ExtUtils::Command                  7.36
	ExtUtils::Install                  2.14
	ExtUtils::MakeMaker                7.36
	ExtUtils::Manifest                 1.72
	ExtUtils::ParseXS                  3.35
	File::Spec                         3.75
	Module::Build                    0.4229
	Pod::Parser                        1.35
	Pod::Simple                        3.35
	Test2                          1.302164
	Test::Harness                      3.42
	Test::More                     1.302164
	version                          0.9924

******************************** NOTE ********************************
The comments above are created mechanically, possibly without manual
checking by the sender.  As there are many people performing automatic
tests on each upload to CPAN, it is likely that you will receive
identical messages about the same problem.

If you believe that the message is mistaken, please reply to the first
one with correction and/or additional informations, and do not take
it personally.  We appreciate your patience. :)
**********************************************************************

Additional comments:


This report was machine-generated by CPANPLUS::Dist::YACSmoke 1.08.
Powered by minismokebox version 0.68

CPANPLUS is prefering Build.PL

------------------------------
ENVIRONMENT AND OTHER CONTEXT
------------------------------

Environment variables:

    AUTOMATED_TESTING = 1
    NONINTERACTIVE_TESTING = 1
    PATH = /sbin:/bin:/usr/sbin:/usr/bin:/usr/local/sbin:/usr/local/bin:/home/cpan/bin
    PERL5LIB = /usr/home/cpan/pit/jail/zo2We3rhBS/lib/perl5:/usr/home/cpan/pit/rel/conf/perl-5.8.9/.cpanplus/5.8.9/build/sxPNEV7Mwk/SMS-Send-Mocean-0.03/blib/lib:/usr/home/cpan/pit/rel/conf/perl-5.8.9/.cpanplus/5.8.9/build/sxPNEV7Mwk/SMS-Send-Mocean-0.03/blib/arch
    PERL5_CPANPLUS_IS_RUNNING = 56218
    PERL5_CPANPLUS_IS_VERSION = 0.9176
    PERL5_MINISMOKEBOX = 0.68
    PERL5_YACSMOKE_BASE = /usr/home/cpan/pit/rel/conf/perl-5.8.9
    PERL_EXTUTILS_AUTOINSTALL = --defaultdeps
    PERL_LOCAL_LIB_ROOT = /usr/home/cpan/pit/jail/zo2We3rhBS
    PERL_MB_OPT = --install_base "/usr/home/cpan/pit/jail/zo2We3rhBS"
    PERL_MM_OPT = INSTALL_BASE=/usr/home/cpan/pit/jail/zo2We3rhBS
    PERL_MM_USE_DEFAULT = 1
    SHELL = /usr/local/bin/bash
    TERM = screen

Perl special variables (and OS-specific diagnostics, for MSWin32):

    Perl: $^X = /usr/home/cpan/pit/rel/perl-5.8.9/bin/perl
    UID:  $<  = 1002
    EUID: $>  = 1002
    GID:  $(  = 1002 1002
    EGID: $)  = 1002 1002


-------------------------------


--

Summary of my perl5 (revision 5 version 8 subversion 9) configuration:
  Platform:
    osname=freebsd, osvers=11.2-release-p8, archname=i386-freebsd-thread-multi-64int
    uname='freebsd froggle 11.2-release-p8 freebsd 11.2-release-p8 #0: tue jan 8 21:31:23 utc 2019 root@amd64-builder.daemonology.net:usrobjusrsrcsysgeneric i386 '
    config_args='-des -Dprefix=/usr/home/cpan/pit/rel/perl-5.8.9 -Dusethreads -Duse64bitint'
    hint=recommended, useposix=true, d_sigaction=define
    usethreads=define use5005threads=undef useithreads=define usemultiplicity=define
    useperlio=define d_sfio=undef uselargefiles=define usesocks=undef
    use64bitint=define use64bitall=undef uselongdouble=undef
    usemymalloc=n, bincompat5005=undef
  Compiler:
    cc='cc', ccflags ='-DHAS_FPSETMASK -DHAS_FLOATINGPOINT_H -fno-strict-aliasing -pipe -I/usr/local/include',
    optimize='-O2',
    cppflags='-DHAS_FPSETMASK -DHAS_FLOATINGPOINT_H -fno-strict-aliasing -pipe -I/usr/local/include'
    ccversion='', gccversion='4.2.1 Compatible FreeBSD Clang 6.0.0 (tags/RELEASE_600/final 326565)', gccosandvers=''
    intsize=4, longsize=4, ptrsize=4, doublesize=8, byteorder=12345678
    d_longlong=define, longlongsize=8, d_longdbl=define, longdblsize=12
    ivtype='long long', ivsize=8, nvtype='double', nvsize=8, Off_t='off_t', lseeksize=8
    alignbytes=4, prototype=define
  Linker and Libraries:
    ld='cc', ldflags ='-pthread -Wl,-E  -L/usr/local/lib'
    libpth=/usr/lib /usr/local/lib
    libs=-lgdbm -ldl -lm -lcrypt -lutil
    perllibs=-ldl -lm -lcrypt -lutil
    libc=, so=so, useshrplib=false, libperl=libperl.a
    gnulibc_version=''
  Dynamic Linking:
    dlsrc=dl_dlopen.xs, dlext=so, d_dlsymun=undef, ccdlflags=' '
    cccdlflags='-DPIC -fPIC', lddlflags='-shared  -L/usr/local/lib'


Characteristics of this binary (from libperl): 
  Compile-time options: MULTIPLICITY PERL_IMPLICIT_CONTEXT PERL_MALLOC_WRAP
                        USE_64_BIT_INT USE_FAST_STDIO USE_ITHREADS
                        USE_LARGE_FILES USE_PERLIO USE_REENTRANT_API
  Locally applied patches:
	Devel::PatchPerl 1.52
  Built under freebsd
  Compiled at Jan 16 2019 09:50:24
  %ENV:
    PERL5LIB="/usr/home/cpan/pit/jail/zo2We3rhBS/lib/perl5:/usr/home/cpan/pit/rel/conf/perl-5.8.9/.cpanplus/5.8.9/build/sxPNEV7Mwk/SMS-Send-Mocean-0.03/blib/lib:/usr/home/cpan/pit/rel/conf/perl-5.8.9/.cpanplus/5.8.9/build/sxPNEV7Mwk/SMS-Send-Mocean-0.03/blib/arch"
    PERL5_CPANPLUS_IS_RUNNING="56218"
    PERL5_CPANPLUS_IS_VERSION="0.9176"
    PERL5_MINISMOKEBOX="0.68"
    PERL5_YACSMOKE_BASE="/usr/home/cpan/pit/rel/conf/perl-5.8.9"
    PERL_EXTUTILS_AUTOINSTALL="--defaultdeps"
    PERL_LOCAL_LIB_ROOT="/usr/home/cpan/pit/jail/zo2We3rhBS"
    PERL_MB_OPT="--install_base "/usr/home/cpan/pit/jail/zo2We3rhBS""
    PERL_MM_OPT="INSTALL_BASE=/usr/home/cpan/pit/jail/zo2We3rhBS"
    PERL_MM_USE_DEFAULT="1"
  @INC:
    /usr/home/cpan/pit/jail/zo2We3rhBS/lib/perl5/5.8.9/i386-freebsd-thread-multi-64int
    /usr/home/cpan/pit/jail/zo2We3rhBS/lib/perl5/5.8.9
    /usr/home/cpan/pit/jail/zo2We3rhBS/lib/perl5/i386-freebsd-thread-multi-64int
    /usr/home/cpan/pit/jail/zo2We3rhBS/lib/perl5
    /usr/home/cpan/pit/rel/conf/perl-5.8.9/.cpanplus/5.8.9/build/sxPNEV7Mwk/SMS-Send-Mocean-0.03/blib/lib
    /usr/home/cpan/pit/rel/conf/perl-5.8.9/.cpanplus/5.8.9/build/sxPNEV7Mwk/SMS-Send-Mocean-0.03/blib/arch
    /usr/home/cpan/pit/rel/perl-5.8.9/lib/5.8.9/i386-freebsd-thread-multi-64int
    /usr/home/cpan/pit/rel/perl-5.8.9/lib/5.8.9
    /usr/home/cpan/pit/rel/perl-5.8.9/lib/site_perl/5.8.9/i386-freebsd-thread-multi-64int
    /usr/home/cpan/pit/rel/perl-5.8.9/lib/site_perl/5.8.9
    .