DBIx-Class-Schema-PopulateMore v0.19 Perl 5 v5.16.3 x86_64-linux
- Status
- Pass
- From
- David Cantrell (DCANTRELL)
- Dist
-
DBIx-Class-Schema-PopulateMore v0.19
- Platform
- Perl 5 v5.16.3 x86_64-linux
- Date
- 2023-07-11 03:19:20
- ID
- ba31f55c-1f99-11ee-bf40-9081d014c7e6
This distribution has been tested as part of the CPAN Testers
project, supporting the Perl programming language. See
http://wiki.cpantesters.org/ for more information or email
questions to cpan-testers-discuss@perl.org
--
Dear John Napiorkowski,
This is a computer-generated report for DBIx-Class-Schema-PopulateMore-0.19
on perl 5.16.3, created by CPAN-Reporter-1.2019.
Thank you for uploading your work to CPAN. Congratulations!
All tests were successful.
Sections of this report:
* Tester comments
* Program output
* Prerequisites
* Environment and other context
------------------------------
TESTER COMMENTS
------------------------------
Additional comments from tester:
this report is from an automated smoke testing program
and was not reviewed by a human for accuracy
------------------------------
PROGRAM OUTPUT
------------------------------
Output from '/usr/bin/make test':
PERL_DL_NONLAZY=1 "/home/david/cpantesting/perl-5.16.3/bin/perl" "-MExtUtils::Command::MM" "-MTest::Harness" "-e" "undef *Test::Harness::Switches; test_harness(0, 'inc', 'blib/lib', 'blib/arch')" t/*.t
# Testing DBIx::Class::Schema::PopulateMore 0.19, Perl 5.016003, /home/david/cpantesting/perl-5.16.3/bin/perl
t/00-load.t .......... ok
# Created Datebase with dbi:SQLite:dbname=:memory:
DBIx::Class::Storage::DBI::insert(): Missing value for primary key column 'gender_id' on Gender - perhaps you forgot to set its 'is_auto_increment' attribute during add_columns()? Treating 'gender_id' implicitly as an autoinc, and attempting value retrieval at t/01-schema.t line 84
DBIx::Class::Storage::DBI::insert(): Missing value for primary key column 'person_id' on Person - perhaps you forgot to set its 'is_auto_increment' attribute during add_columns()? Treating 'person_id' implicitly as an autoinc, and attempting value retrieval at t/01-schema.t line 84
DBIx::Class::Storage::DBI::insert(): Missing value for primary key column 'company_id' on Company - perhaps you forgot to set its 'is_auto_increment' attribute during add_columns()? Treating 'company_id' implicitly as an autoinc, and attempting value retrieval at t/01-schema.t line 84
DBIx::Class::Storage::DBI::insert(): Missing value for primary key column 'employment_history_id' on EmploymentHistory - perhaps you forgot to set its 'is_auto_increment' attribute during add_columns()? Treating 'employment_history_id' implicitly as an autoinc, and attempting value retrieval at t/01-schema.t line 84
DBIx::Class::Storage::DBI::insert(): Missing value for primary key column 'person_id' on Person - perhaps you forgot to set its 'is_auto_increment' attribute during add_columns()? Treating 'person_id' implicitly as an autoinc, and attempting value retrieval at t/01-schema.t line 197
DBIx::Class::Storage::DBI::insert(): Missing value for primary key column 'person_id' on Person - perhaps you forgot to set its 'is_auto_increment' attribute during add_columns()? Treating 'person_id' implicitly as an autoinc, and attempting value retrieval at t/01-schema.t line 207
DBIx::Class::Storage::DBI::insert(): Missing value for primary key column 'gender_id' on Gender - perhaps you forgot to set its 'is_auto_increment' attribute during add_columns()? Treating 'gender_id' implicitly as an autoinc, and attempting value retrieval at t/01-schema.t line 213
DBIx::Class::Storage::DBI::insert(): Missing value for primary key column 'person_id' on Person - perhaps you forgot to set its 'is_auto_increment' attribute during add_columns()? Treating 'person_id' implicitly as an autoinc, and attempting value retrieval at t/01-schema.t line 213
t/01-schema.t ........ ok
# Created Datebase with dbi:SQLite:dbname=:memory:
DBIx::Class::Storage::DBI::insert(): Missing value for primary key column 'gender_id' on Gender - perhaps you forgot to set its 'is_auto_increment' attribute during add_columns()? Treating 'gender_id' implicitly as an autoinc, and attempting value retrieval at t/02-yaml_example.t line 34
DBIx::Class::Storage::DBI::insert(): Missing value for primary key column 'person_id' on Person - perhaps you forgot to set its 'is_auto_increment' attribute during add_columns()? Treating 'person_id' implicitly as an autoinc, and attempting value retrieval at t/02-yaml_example.t line 34
DBIx::Class::Storage::DBI::insert(): Missing value for primary key column 'company_id' on Company - perhaps you forgot to set its 'is_auto_increment' attribute during add_columns()? Treating 'company_id' implicitly as an autoinc, and attempting value retrieval at t/02-yaml_example.t line 34
DBIx::Class::Storage::DBI::insert(): Missing value for primary key column 'employment_history_id' on EmploymentHistory - perhaps you forgot to set its 'is_auto_increment' attribute during add_columns()? Treating 'employment_history_id' implicitly as an autoinc, and attempting value retrieval at t/02-yaml_example.t line 34
t/02-yaml_example.t .. ok
All tests successful.
Files=3, Tests=90, 13 wallclock secs ( 0.03 usr 0.02 sys + 2.98 cusr 0.26 csys = 3.29 CPU)
Result: PASS
------------------------------
PREREQUISITES
------------------------------
Prerequisite modules loaded:
requires:
Module Need Have
------------------------ -------- --------
DateTimeX::Easy 0.089 0.091
List::MoreUtils 0.30 0.430
Module::Pluggable 3.9 5.2
Moo 1.004006 2.005005
MooX::HandlesVia 0.001005 0.001009
parent 0.224 0.241
perl 5.008005 5.016003
Scalar::Util 1.35 1.63
Type::Tiny 0.042 2.004000
build_requires:
Module Need Have
------------------------ -------- --------
DateTime::Format::SQLite 0.11 0.11
DBIx::Class 0.08127 0.082843
ExtUtils::MakeMaker 6.59 7.70
File::Find 0 1.20
Path::Class 0.23 0.37
SQL::Translator 0.11020 1.63
Test::More 0.98 1.302195
YAML::Tiny 1.48 1.74
configure_requires:
Module Need Have
------------------------ -------- --------
ExtUtils::MakeMaker 6.59 7.70
------------------------------
ENVIRONMENT AND OTHER CONTEXT
------------------------------
Environment variables:
AUTOMATED_TESTING = 1
LANG = en_GB.UTF-8
LANGUAGE = en_GB:en
LC_TERMINAL = iTerm2
LC_TERMINAL_VERSION = 3.4.19
NONINTERACTIVE_TESTING = 1
PATH = /home/david/.nvm/versions/node/v18.16.1/bin:/home/david/.cargo/bin:/home/david/perl5/perlbrew/bin:/home/david/perl5/perlbrew/perls/perl-5.30.2/bin:/home/david/bin:/usr/local/bin:/usr/bin:/bin:/usr/local/games:/usr/games
PERL = 5.16.3
PERL5LIB =
PERL5OPT =
PERL5_CPANPLUS_IS_RUNNING = 2401978
PERL5_CPAN_IS_RUNNING = 2401978
PERLBREW_HOME = /home/david/.perlbrew
PERLBREW_MANPATH = /home/david/perl5/perlbrew/perls/perl-5.30.2/man
PERLBREW_PATH = /home/david/perl5/perlbrew/bin:/home/david/perl5/perlbrew/perls/perl-5.30.2/bin
PERLBREW_PERL = perl-5.30.2
PERLBREW_ROOT = /home/david/perl5/perlbrew
PERLBREW_SHELLRC_VERSION = 0.89
PERLBREW_VERSION = 0.89
PERLVER = 5.16.3
PERL_INLINE_DIRECTORY = /home/david/.Inline-5.16.3
PERL_MM_USE_DEFAULT = 1
PERL_USE_UNSAFE_INC = 0
SHELL = /bin/bash
TERM = screen
Perl special variables (and OS-specific diagnostics, for MSWin32):
$^X = /home/david/cpantesting/perl-5.16.3/bin/perl
$UID/$EUID = 1000 / 1000
$GID = 1000 24 25 27 29 30 44 46 109 1000
$EGID = 1000 24 25 27 29 30 44 46 109 1000
Perl module toolchain versions installed:
Module Have
------------------- --------
CPAN 1.9800
CPAN::Meta 2.150010
Cwd 3.75
ExtUtils::CBuilder 0.280236
ExtUtils::Command 7.70
ExtUtils::Install 2.22
ExtUtils::MakeMaker 7.70
ExtUtils::Manifest 1.75
ExtUtils::ParseXS 3.44
File::Spec 3.75
JSON 4.10
JSON::PP 4.16
Module::Build 0.4234
Module::Signature n/a
Parse::CPAN::Meta 2.150010
Test2 1.302195
Test::Harness 3.44
Test::More 1.302195
YAML 1.30
YAML::Syck n/a
version 0.9929
--
Summary of my perl5 (revision 5 version 16 subversion 3) configuration:
Platform:
osname=linux, osvers=5.10.0-11-amd64, archname=x86_64-linux
uname='linux cpantesting-linux 5.10.0-11-amd64 #1 smp debian 5.10.92-1 (2022-01-18) x86_64 gnulinux '
config_args='-de -Dprefix=/home/david/cpantesting/perl-5.16.3'
hint=recommended, useposix=true, d_sigaction=define
useithreads=undef, usemultiplicity=undef
useperlio=define, d_sfio=undef, uselargefiles=define, usesocks=undef
use64bitint=define, use64bitall=define, uselongdouble=undef
usemymalloc=n, bincompat5005=undef
Compiler:
cc='cc', ccflags ='-fwrapv -fno-strict-aliasing -pipe -fstack-protector -I/usr/local/include -D_LARGEFILE_SOURCE -D_FILE_OFFSET_BITS=64',
optimize='-O2',
cppflags='-fwrapv -fno-strict-aliasing -pipe -fstack-protector -I/usr/local/include'
ccversion='', gccversion='10.2.1 20210110', gccosandvers=''
intsize=4, longsize=8, ptrsize=8, doublesize=8, byteorder=12345678
d_longlong=define, longlongsize=8, d_longdbl=define, longdblsize=16
ivtype='long', ivsize=8, nvtype='double', nvsize=8, Off_t='off_t', lseeksize=8
alignbytes=8, prototype=define
Linker and Libraries:
ld='cc', ldflags =' -fstack-protector -L/usr/local/lib'
libpth=/usr/local/lib /lib/x86_64-linux-gnu /lib/../lib /usr/lib/x86_64-linux-gnu /usr/lib/../lib /lib /usr/lib /lib64 /usr/lib64
libs=-lnsl -ldl -lm -lcrypt -lutil -lc
perllibs=-lnsl -ldl -lm -lcrypt -lutil -lc
libc=libc-2.31.so, so=so, useshrplib=false, libperl=libperl.a
gnulibc_version='2.31'
Dynamic Linking:
dlsrc=dl_dlopen.xs, dlext=so, d_dlsymun=undef, ccdlflags='-Wl,-E'
cccdlflags='-fPIC', lddlflags='-shared -O2 -L/usr/local/lib -fstack-protector'
Characteristics of this binary (from libperl):
Compile-time options: HAS_TIMES PERLIO_LAYERS PERL_DONT_CREATE_GVSV
PERL_MALLOC_WRAP PERL_PRESERVE_IVUV USE_64_BIT_ALL
USE_64_BIT_INT USE_LARGE_FILES USE_LOCALE
USE_LOCALE_COLLATE USE_LOCALE_CTYPE
USE_LOCALE_NUMERIC USE_PERLIO USE_PERL_ATOF
Locally applied patches:
Devel::PatchPerl 2.08
Built under linux
Compiled at Jul 5 2023 22:37:37
%ENV:
PERL="5.16.3"
PERL5LIB=""
PERL5OPT=""
PERL5_CPANPLUS_IS_RUNNING="2401978"
PERL5_CPAN_IS_RUNNING="2401978"
PERLBREW_HOME="/home/david/.perlbrew"
PERLBREW_MANPATH="/home/david/perl5/perlbrew/perls/perl-5.30.2/man"
PERLBREW_PATH="/home/david/perl5/perlbrew/bin:/home/david/perl5/perlbrew/perls/perl-5.30.2/bin"
PERLBREW_PERL="perl-5.30.2"
PERLBREW_ROOT="/home/david/perl5/perlbrew"
PERLBREW_SHELLRC_VERSION="0.89"
PERLBREW_VERSION="0.89"
PERLVER="5.16.3"
PERL_INLINE_DIRECTORY="/home/david/.Inline-5.16.3"
PERL_MM_USE_DEFAULT="1"
PERL_USE_UNSAFE_INC="0"
@INC:
/home/david/cpantesting/perl-5.16.3/lib/site_perl/5.16.3/x86_64-linux
/home/david/cpantesting/perl-5.16.3/lib/site_perl/5.16.3
/home/david/cpantesting/perl-5.16.3/lib/5.16.3/x86_64-linux
/home/david/cpantesting/perl-5.16.3/lib/5.16.3
.