Bread-Board v0.37 Perl 5 v5.30.3 sparc64-openbsd

Status
Pass
From
Dist
Bread-Board v0.37
Platform
Perl 5 v5.30.3 sparc64-openbsd
Date
2021-01-02 13:52:18
ID
ba5642e4-4d01-11eb-916c-c0e3a9a6e05f
This distribution has been tested as part of the CPAN Testers
project, supporting the Perl programming language.  See
http://wiki.cpantesters.org/ for more information or email
questions to cpan-testers-discuss@perl.org


--
Dear Yanick Champoux,

This is a computer-generated report for Bread-Board-0.37
on perl 5.30.3, created by CPAN-Reporter-1.2018.

Thank you for uploading your work to CPAN.  Congratulations!
All tests were successful.

Sections of this report:

    * Tester comments
    * Program output
    * Prerequisites
    * Environment and other context

------------------------------
TESTER COMMENTS
------------------------------

Additional comments from tester:

this report is from an automated smoke testing program
and was not reviewed by a human for accuracy

------------------------------
PROGRAM OUTPUT
------------------------------

Output from '/usr/bin/make test':

PERL_DL_NONLAZY=1 "/usr/bin/perl" "-MExtUtils::Command::MM" "-MTest::Harness" "-e" "undef *Test::Harness::Switches; test_harness(0, 'blib/lib', 'blib/arch')" t/*.t
t/00-compile.t ............................ ok
# 
# Versions for all modules listed in MYMETA.json (including optional ones):
# 
# === Configure Requires ===
# 
#     Module              Want Have
#     ------------------- ---- ----
#     ExtUtils::MakeMaker  any 7.58
# 
# === Build Requires ===
# 
#     Module              Want Have
#     ------------------- ---- ----
#     ExtUtils::MakeMaker  any 7.58
# 
# === Test Requires ===
# 
#     Module              Want     Have
#     ------------------- ---- --------
#     ExtUtils::MakeMaker  any     7.58
#     File::Spec           any     3.78
#     FindBin              any     1.52
#     IO::Handle           any     1.40
#     IPC::Open3           any     1.20
#     Test::Fatal          any    0.016
#     Test::Moose          any   2.2013
#     Test::More           any 1.302183
#     Test::Requires       any     0.11
# 
# === Test Recommends ===
# 
#     Module         Want     Have
#     ---------- -------- --------
#     CPAN::Meta 2.120900 2.150010
# 
# === Runtime Requires ===
# 
#     Module                         Want   Have
#     ---------------------------- ------ ------
#     Carp                            any   1.50
#     Module::Runtime                 any  0.016
#     Moose                           any 2.2013
#     Moose::Exporter              2.1200 2.2013
#     Moose::Role                     any 2.2013
#     Moose::Util                     any 2.2013
#     Moose::Util::TypeConstraints    any 2.2013
#     MooseX::Clone                  0.05   0.06
#     MooseX::Params::Validate       0.14   0.21
#     Scalar::Util                    any   1.55
#     Try::Tiny                       any   0.30
#     overload                        any   1.30
#     strict                          any   1.11
#     warnings                        any   1.44
# 
t/00-report-prereqs.t ..................... ok
t/001_constructor_injection.t ............. ok
t/002_setter_injection.t .................. ok
t/003_block_injection.t ................... ok
t/004_block_injection_w_out_class.t ....... ok
t/005_alias.t ............................. ok
t/010_container.t ......................... ok
t/011_container_path.t .................... ok
t/012_container_with_shared_deps.t ........ ok
t/020_sugar.t ............................. ok
t/021_sugar.t ............................. ok
t/022_sugar.t ............................. ok
t/023_sugar.t ............................. ok
t/024_sugar.t ............................. ok
t/025_sugar_w_absolute_path.t ............. ok
t/026_sugar_remove.t ...................... ok
t/027_sugar_w_include.t ................... ok
t/028_sugar_w_recursive_inc.t ............. ok
t/029_sugar_auto_wire_names.t ............. ok
t/030_lifecycle_singleton.t ............... ok
t/031_custom_lifecycles.t ................. ok
t/032_singleton_cycle.t ................... ok
t/040_circular_dependencies.t ............. ok
t/041_parameter_cache_handling.t .......... ok
t/042_parameter_cache_with_singleton.t .... ok
t/043_parameter_leaks.t ................... ok
t/044_deferred_parameters.t ............... ok
t/045_parameters_in_dependency.t .......... ok
t/046_custom_parameter_service.t .......... ok
t/047_dependencies_override_parameters.t .. ok
t/048_array_deps.t ........................ ok
t/050_parameterized_containers.t .......... ok
t/051_more_parameterized_containers.t ..... ok
t/052_parameterized_in_hierarchy.t ........ ok
t/053_parameterized_clone.t ............... ok
t/054_parameterized_backref.t ............. ok
t/060_extend_w_sugar.t .................... ok
t/061_extends_w_sugar_and_inheritance.t ... ok
t/062_service_class_w_sugar.t ............. ok
t/070_with_basic_typemap.t ................ ok
t/071_typemap_with_basic_infer.t .......... ok
t/072_typemap_with_more_infer.t ........... ok
t/073_typemap_with_role_infer.t ........... ok
t/074_typemap_w_recursive_infer.t ......... ok
t/075_complex_typemap_example.t ........... ok
t/076_more_complex_typemap.t .............. ok
t/077_more_complex_typemap_w_roles.t ...... ok
t/078_complex_typemap_w_error.t ........... ok
t/079_depending_on_type.t ................. ok
t/080_infer_subclasses.t .................. ok
t/100_clone_w_constructor_injection.t ..... ok
t/101_clone_w_setter_injection.t .......... ok
t/102_clone_w_block_injection.t ........... ok
t/110_clone_w_singleton.t ................. ok
t/150_deferred_parameters_fail.t .......... ok
t/151_sugar_no_container.t ................ ok
t/152_sugar_service_inheritance.t ......... ok
t/153_sugar_container_inheritance.t ....... ok
t/200_example_code.t ...................... ok
t/201_log_dispatch_example.t .............. ok
t/202_form_sensible_example.t ............. skipped: Form::Sensible is broken at the moment
t/300_no_new.t ............................ ok
t/301_sugar.t ............................. ok
t/302_path_traversal_deprecation.t ........ ok
t/310_literal_keyword.t ................... ok
t/500-gh61.t .............................. ok
All tests successful.
Files=67, Tests=755, 212 wallclock secs ( 0.93 usr  1.30 sys + 185.11 cusr 21.19 csys = 208.53 CPU)
Result: PASS

------------------------------
PREREQUISITES
------------------------------

Prerequisite modules loaded:

requires:

    Module                       Need     Have    
    ---------------------------- -------- --------
    Carp                         0        1.50    
    Module::Runtime              0        0.016   
    Moose                        0        2.2013  
    Moose::Exporter              2.1200   2.2013  
    Moose::Role                  0        2.2013  
    Moose::Util                  0        2.2013  
    Moose::Util::TypeConstraints 0        2.2013  
    MooseX::Clone                0.05     0.06    
    MooseX::Params::Validate     0.14     0.21    
    overload                     0        1.30    
    perl                         5.006    5.030003
    Scalar::Util                 0        1.55    
    strict                       0        1.11    
    Try::Tiny                    0        0.30    
    warnings                     0        1.44    

build_requires:

    Module                       Need     Have    
    ---------------------------- -------- --------
    ExtUtils::MakeMaker          0        7.58    
    File::Spec                   0        3.78    
    FindBin                      0        1.52    
    IO::Handle                   0        1.40    
    IPC::Open3                   0        1.20    
    Test::Fatal                  0        0.016   
    Test::Moose                  0        2.2013  
    Test::More                   0        1.302183
    Test::Requires               0        0.11    

configure_requires:

    Module                       Need     Have    
    ---------------------------- -------- --------
    ExtUtils::MakeMaker          0        7.58    

opt_build_requires:

    Module                       Need     Have    
    ---------------------------- -------- --------
    CPAN::Meta                   2.120900 2.150010


------------------------------
ENVIRONMENT AND OTHER CONTEXT
------------------------------

Environment variables:

    AUTOMATED_TESTING = 1
    NONINTERACTIVE_TESTING = 1
    PATH = /home/smoker/perl/system/bin:/home/smoker/.plenv/libexec:/home/smoker/.plenv/plugins/perl-build/bin:/home/smoker/.plenv/plugins/plenv-contrib/bin:/home/smoker/.plenv/shims:/home/smoker/.plenv/bin:/home/smoker/bin:/bin:/sbin:/usr/bin:/usr/sbin:/usr/X11R6/bin:/usr/local/bin:/usr/local/sbin:/usr/games
    PERL5LIB = /home/smoker/perl/system/lib/perl5
    PERL5OPT = 
    PERL5_CPANPLUS_IS_RUNNING = 60849
    PERL5_CPAN_IS_RUNNING = 60849
    PERL5_CPAN_IS_RUNNING_IN_RECURSION = 379,60849
    PERL_CARTON_PATH = /home/afresh1/cpan-smoker-setup/local/system
    PERL_CR_SMOKER_CURRENT = Bread-Runner-0.903
    PERL_EXTUTILS_AUTOINSTALL = --defaultdeps
    PERL_LOCAL_LIB_ROOT = /home/smoker/perl/system
    PERL_MB_OPT = --install_base '/home/smoker/perl/system'
    PERL_MM_OPT = INSTALL_BASE=/home/smoker/perl/system
    PERL_MM_USE_DEFAULT = 1
    PERL_USE_UNSAFE_INC = 1
    SHELL = /bin/ksh
    TERM = screen

Perl special variables (and OS-specific diagnostics, for MSWin32):

    $^X = /usr/bin/perl
    $UID/$EUID = 900 / 900
    $GID = 900 900
    $EGID = 900 900

Perl module toolchain versions installed:

    Module              Have    
    ------------------- --------
    CPAN                2.22    
    CPAN::Meta          2.150010
    Cwd                 3.78    
    ExtUtils::CBuilder  0.280231
    ExtUtils::Command   7.58    
    ExtUtils::Install   2.20    
    ExtUtils::MakeMaker 7.58    
    ExtUtils::Manifest  1.72    
    ExtUtils::ParseXS   3.40    
    File::Spec          3.78    
    JSON                4.02    
    JSON::PP            4.05    
    Module::Build       0.4231  
    Module::Signature   0.87    
    Parse::CPAN::Meta   2.150010
    Test::Harness       3.42    
    Test::More          1.302183
    YAML                1.26    
    YAML::Syck          1.34    
    version             0.9924  


--

Summary of my perl5 (revision 5 version 30 subversion 3) configuration:
   
  Platform:
    osname=openbsd
    osvers=6.8
    archname=sparc64-openbsd
    uname='openbsd'
    config_args='-dse -Dopenbsd_distribution=defined -Dmksymlinks'
    hint=recommended
    useposix=true
    d_sigaction=define
    useithreads=undef
    usemultiplicity=undef
    use64bitint=define
    use64bitall=define
    uselongdouble=undef
    usemymalloc=n
    default_inc_excludes_dot=define
    bincompat5005=undef
  Compiler:
    cc='cc'
    ccflags ='-DNO_LOCALE_NUMERIC -DNO_LOCALE_COLLATE -fno-strict-aliasing -fno-delete-null-pointer-checks -pipe -fstack-protector-strong -D_FORTIFY_SOURCE=2 -I/usr/local/include'
    optimize='-O2'
    cppflags='-DBIG_TIME -DNO_LOCALE_NUMERIC -DNO_LOCALE_COLLATE -fno-strict-aliasing -fno-delete-null-pointer-checks -pipe -fstack-protector-strong -I/usr/local/include'
    ccversion=''
    gccversion='4.2.1 20070719 '
    gccosandvers='openbsd6.8'
    intsize=4
    longsize=8
    ptrsize=8
    doublesize=8
    byteorder=87654321
    doublekind=4
    d_longlong=define
    longlongsize=8
    d_longdbl=define
    longdblsize=16
    longdblkind=2
    ivtype='long'
    ivsize=8
    nvtype='double'
    nvsize=8
    Off_t='off_t'
    lseeksize=8
    alignbytes=8
    prototype=define
  Linker and Libraries:
    ld='cc'
    ldflags ='-Wl,-E  -fstack-protector-strong -L/usr/local/lib'
    libpth=/usr/lib /usr/lib
    libs=-lm -lc
    perllibs=-lm -lc
    libc=/usr/lib/libc.so.96.0
    so=so
    useshrplib=true
    libperl=libperl.so.20.0
    gnulibc_version=''
  Dynamic Linking:
    dlsrc=dl_dlopen.xs
    dlext=so
    d_dlsymun=undef
    ccdlflags='-Wl,-R/usr/libdata/perl5/sparc64-openbsd/CORE'
    cccdlflags='-DPIC -fPIC '
    lddlflags='-shared -fPIC  -fstack-protector-strong -L/usr/local/lib'


Characteristics of this binary (from libperl): 
  Compile-time options:
    HAS_TIMES
    PERLIO_LAYERS
    PERL_COPY_ON_WRITE
    PERL_DONT_CREATE_GVSV
    PERL_MALLOC_WRAP
    PERL_OP_PARENT
    PERL_PRESERVE_IVUV
    USE_64_BIT_ALL
    USE_64_BIT_INT
    USE_LARGE_FILES
    USE_LOCALE
    USE_LOCALE_CTYPE
    USE_LOCALE_TIME
    USE_PERLIO
    USE_PERL_ATOF
  Built under openbsd
  %ENV:
    PERL5LIB="/home/smoker/perl/system/lib/perl5"
    PERL5OPT=""
    PERL5_CPANPLUS_IS_RUNNING="60849"
    PERL5_CPAN_IS_RUNNING="60849"
    PERL5_CPAN_IS_RUNNING_IN_RECURSION="379,60849"
    PERL_CARTON_PATH="/home/afresh1/cpan-smoker-setup/local/system"
    PERL_CR_SMOKER_CURRENT="Bread-Runner-0.903"
    PERL_EXTUTILS_AUTOINSTALL="--defaultdeps"
    PERL_LOCAL_LIB_ROOT="/home/smoker/perl/system"
    PERL_MB_OPT="--install_base '/home/smoker/perl/system'"
    PERL_MM_OPT="INSTALL_BASE=/home/smoker/perl/system"
    PERL_MM_USE_DEFAULT="1"
    PERL_USE_UNSAFE_INC="1"
  @INC:
    /home/smoker/perl/system/lib/perl5/sparc64-openbsd
    /home/smoker/perl/system/lib/perl5
    /usr/local/libdata/perl5/site_perl/sparc64-openbsd
    /usr/local/libdata/perl5/site_perl
    /usr/libdata/perl5/sparc64-openbsd
    /usr/libdata/perl5
    .