Report for Git-DescribeVersion-1.015

Back
From: metabase:user:320bfe00-2aae-11df-837a-5e0a49663a4f
Subject: PASS Git-DescribeVersion-1.015 v5.21.6 GNU/Linux
Date: 2014-10-24T19:05:32Z

This distribution has been tested as part of the CPAN Testers
project, supporting the Perl programming language.  See
http://wiki.cpantesters.org/ for more information or email
questions to cpan-testers-discuss@perl.org


--
Dear Randy Stauner,

This is a computer-generated report for Git-DescribeVersion-1.015
on perl 5.21.6, created by CPAN-Reporter-1.2011.

Thank you for uploading your work to CPAN.  Congratulations!
All tests were successful.

Sections of this report:

    * Tester comments
    * Program output
    * Prerequisites
    * Environment and other context

------------------------------
TESTER COMMENTS
------------------------------

Additional comments from tester:

this report is from an automated smoke testing program
and was not reviewed by a human for accuracy

------------------------------
PROGRAM OUTPUT
------------------------------

Output from '/usr/bin/make test':

PERL_DL_NONLAZY=1 "/tmp/basesmoker-reloperl-uHBF/bin/perl" "-MExtUtils::Command::MM" "-MTest::Harness" "-e" "undef *Test::Harness::Switches; test_harness(0, 'blib/lib', 'blib/arch')" t/*.t
t/00-compile.t ......... ok
# git version 2.1.0
t/00-git-version.t ..... ok
# Prerequisite Report:
#      Version Module                   
#   ---------- -------------------------
#         1.34 Carp                     
#         3.51 Cwd                      
#         5.71 Exporter                 
#         7.00 ExtUtils::MakeMaker      
#         1.29 File::Find               
#         3.51 File::Spec::Functions    
#       0.2304 File::Temp               
#         2.42 Getopt::Long             
#        1.312 Git::Repository          
#         1.41 List::Util               
#   1.20140408 Test::MockObject         
#   1.20140408 Test::MockObject::Extends
#     1.001008 Test::More               
#         1.03 Test::Output             
#         1.08 strict                   
#       0.9909 version                  
#         1.28 warnings                 
t/00-report-prereqs.t .. ok
t/app-args.t ........... ok
t/app.t ................ ok
t/count-objects.t ...... ok
t/describe.t ........... ok
t/format_version.t ..... ok
t/git-repo.t ........... ok
t/parse_version.t ...... ok
t/wrappers.t ........... ok
All tests successful.
Files=11, Tests=2423,  3 wallclock secs ( 0.28 usr  0.03 sys +  1.98 cusr  0.12 csys =  2.41 CPU)
Result: PASS

------------------------------
PREREQUISITES
------------------------------

Prerequisite modules loaded:

requires:

    Module                    Need Have      
    ------------------------- ---- ----------
    Carp                      0    1.34      
    Getopt::Long              0    2.42      
    strict                    0    1.08      
    version                   0.82 0.9909    
    warnings                  0    1.28      

build_requires:

    Module                    Need Have      
    ------------------------- ---- ----------
    Cwd                       0    3.51      
    Exporter                  0    5.71      
    ExtUtils::MakeMaker       0    7.00      
    File::Find                0    1.29      
    File::Spec::Functions     0    3.51      
    File::Temp                0    0.2304    
    List::Util                0    1.41      
    Test::MockObject          1.09 1.20140408
    Test::MockObject::Extends 1.09 1.20140408
    Test::More                0.96 1.001008  

configure_requires:

    Module                    Need Have      
    ------------------------- ---- ----------
    ExtUtils::MakeMaker       6.30 7.00      


------------------------------
ENVIRONMENT AND OTHER CONTEXT
------------------------------

Environment variables:

    AUTOMATED_TESTING = 1
    LANG = en_US.UTF-8
    LANGUAGE = en_US:en
    PATH = /home/sand/bin:/usr/local/bin:/usr/bin:/bin:/usr/games:/usr/local/perl/bin:/usr/X11/bin:/sbin:/usr/sbin
    PERL5LIB = /tmp/loop_over_bdir-21930-1_lggp/FusionInventory-Agent-2.3.12-2cFloj/blib/arch:/tmp/loop_over_bdir-21930-1_lggp/FusionInventory-Agent-2.3.12-2cFloj/blib/lib
    PERL5OPT = 
    PERL5_CPANPLUS_IS_RUNNING = 18748
    PERL5_CPAN_IS_RUNNING = 18748
    PERL_MM_USE_DEFAULT = 1
    SHELL = /usr/bin/zsh
    TERM = screen

Perl special variables (and OS-specific diagnostics, for MSWin32):

    $^X = /tmp/basesmoker-reloperl-uHBF/bin/perl
    $UID/$EUID = 1005 / 1005
    $GID = 1005 1005
    $EGID = 1005 1005

Perl module toolchain versions installed:

    Module              Have    
    ------------------- --------
    CPAN                2.05    
    CPAN::Meta          2.142690
    Cwd                 3.51    
    ExtUtils::CBuilder  0.280220
    ExtUtils::Command   1.18    
    ExtUtils::Install   2.04    
    ExtUtils::MakeMaker 7.00    
    ExtUtils::Manifest  1.68    
    ExtUtils::ParseXS   3.26    
    File::Spec          3.51    
    JSON                2.90    
    JSON::PP            2.27300 
    Module::Build       0.4210  
    Module::Signature   0.73    
    Parse::CPAN::Meta   1.4414  
    Test::Harness       3.33    
    Test::More          1.001008
    YAML                1.13    
    YAML::Syck          1.27    
    version             0.9909  


--

Summary of my perl5 (revision 5 version 21 subversion 6) configuration:
  Commit id: 51a82aa9fb28c58b85d2a2e89872685010ffa91c
  Platform:
    osname=linux, osvers=3.16-2-amd64, archname=x86_64-linux-thread-multi-ld
    uname='linux k83 3.16-2-amd64 #1 smp debian 3.16.3-2 (2014-09-20) x86_64 gnulinux '
    config_args='-Dprefix=/home/sand/src/perl/repoperls/installed-perls/perl/v5.21.5-77-g51a82aa/a2da -Dmyhostname=k83 -Dinstallusrbinperl=n -Uversiononly -Dusedevel -des -Ui_db -Duseithreads -Duselongdouble -DDEBUGGING=-g'
    hint=recommended, useposix=true, d_sigaction=define
    useithreads=define, usemultiplicity=define
    use64bitint=define, use64bitall=define, uselongdouble=define
    usemymalloc=n, bincompat5005=undef
  Compiler:
    cc='cc', ccflags ='-D_REENTRANT -D_GNU_SOURCE -fwrapv -fno-strict-aliasing -pipe -fstack-protector-strong -I/usr/local/include -D_LARGEFILE_SOURCE -D_FILE_OFFSET_BITS=64 -D_FORTIFY_SOURCE=2',
    optimize='-O2 -g',
    cppflags='-D_REENTRANT -D_GNU_SOURCE -fwrapv -fno-strict-aliasing -pipe -fstack-protector-strong -I/usr/local/include'
    ccversion='', gccversion='4.9.1', gccosandvers=''
    intsize=4, longsize=8, ptrsize=8, doublesize=8, byteorder=12345678
    d_longlong=define, longlongsize=8, d_longdbl=define, longdblsize=16, longdblkind=3
    ivtype='long', ivsize=8, nvtype='long double', nvsize=16, Off_t='off_t', lseeksize=8
    alignbytes=16, prototype=define
  Linker and Libraries:
    ld='cc', ldflags =' -fstack-protector-strong -L/usr/local/lib'
    libpth=/usr/local/lib /usr/lib/gcc/x86_64-linux-gnu/4.9/include-fixed /usr/include/x86_64-linux-gnu /usr/lib /lib/x86_64-linux-gnu /lib/../lib /usr/lib/x86_64-linux-gnu /usr/lib/../lib /lib
    libs=-lnsl -lgdbm -ldb -ldl -lm -lcrypt -lutil -lpthread -lc -lgdbm_compat
    perllibs=-lnsl -ldl -lm -lcrypt -lutil -lpthread -lc
    libc=libc-2.19.so, so=so, useshrplib=false, libperl=libperl.a
    gnulibc_version='2.19'
  Dynamic Linking:
    dlsrc=dl_dlopen.xs, dlext=so, d_dlsymun=undef, ccdlflags='-Wl,-E'
    cccdlflags='-fPIC', lddlflags='-shared -O2 -g -L/usr/local/lib -fstack-protector-strong'


Characteristics of this binary (from libperl): 
  Compile-time options: HAS_TIMES MULTIPLICITY PERLIO_LAYERS
                        PERL_DONT_CREATE_GVSV
                        PERL_HASH_FUNC_ONE_AT_A_TIME_HARD
                        PERL_IMPLICIT_CONTEXT PERL_MALLOC_WRAP
                        PERL_NEW_COPY_ON_WRITE PERL_PRESERVE_IVUV
                        PERL_USE_DEVEL USE_64_BIT_ALL USE_64_BIT_INT
                        USE_ITHREADS USE_LARGE_FILES USE_LOCALE
                        USE_LOCALE_COLLATE USE_LOCALE_CTYPE
                        USE_LOCALE_NUMERIC USE_LOCALE_TIME USE_LONG_DOUBLE
                        USE_PERLIO USE_PERL_ATOF USE_REENTRANT_API
  Built under linux
  Compiled at Oct 23 2014 06:05:20
  %ENV:
    PERL5LIB="/tmp/loop_over_bdir-21930-1_lggp/FusionInventory-Agent-2.3.12-2cFloj/blib/arch:/tmp/loop_over_bdir-21930-1_lggp/FusionInventory-Agent-2.3.12-2cFloj/blib/lib"
    PERL5OPT=""
    PERL5_CPANPLUS_IS_RUNNING="18748"
    PERL5_CPAN_IS_RUNNING="18748"
    PERL_MM_USE_DEFAULT="1"
  @INC:
    /tmp/loop_over_bdir-21930-1_lggp/FusionInventory-Agent-2.3.12-2cFloj/blib/arch
    /tmp/loop_over_bdir-21930-1_lggp/FusionInventory-Agent-2.3.12-2cFloj/blib/lib
    /home/sand/src/perl/repoperls/installed-perls/perl/v5.21.5-77-g51a82aa/a2da/lib/site_perl/5.21.6/x86_64-linux-thread-multi-ld
    /home/sand/src/perl/repoperls/installed-perls/perl/v5.21.5-77-g51a82aa/a2da/lib/site_perl/5.21.6
    /home/sand/src/perl/repoperls/installed-perls/perl/v5.21.5-77-g51a82aa/a2da/lib/5.21.6/x86_64-linux-thread-multi-ld
    /home/sand/src/perl/repoperls/installed-perls/perl/v5.21.5-77-g51a82aa/a2da/lib/5.21.6
    .