Report for Pinto-0.11

Back
From: metabase:user:320bfe00-2aae-11df-837a-5e0a49663a4f
Subject: PASS Pinto-0.11 v5.22.1 GNU/Linux
Date: 2016-01-12T08:59:03Z

This distribution has been tested as part of the CPAN Testers
project, supporting the Perl programming language.  See
http://wiki.cpantesters.org/ for more information or email
questions to cpan-testers-discuss@perl.org


--
Dear Jeffrey Ryan Thalhammer,

This is a computer-generated report for Pinto-0.11
on perl 5.22.1, created by CPAN-Reporter-1.2015.

Thank you for uploading your work to CPAN.  Congratulations!
All tests were successful.

Sections of this report:

    * Tester comments
    * Program output
    * Prerequisites
    * Environment and other context

------------------------------
TESTER COMMENTS
------------------------------

Additional comments from tester:

this report is from an automated smoke testing program
and was not reviewed by a human for accuracy

------------------------------
PROGRAM OUTPUT
------------------------------

Output from './Build test':

t/00-compile.t ........................ ok
# 
# Versions for all modules listed in MYMETA.json (including optional ones):
# 
# === Configure Requires ===
# 
#     Module                        Want   Have
#     --------------------------- ------ ------
#     Module::Build               0.4005 0.4214
#     Module::Build::CleanInstall   0.05   0.05
# 
# === Build Requires ===
# 
#     Module                        Want   Have
#     --------------------------- ------ ------
#     Module::Build               0.4005 0.4214
#     Module::Build::CleanInstall   0.05   0.05
# 
# === Test Requires ===
# 
#     Module                 Want         Have
#     --------------------- ----- ------------
#     Apache::Htpasswd        any          1.9
#     Capture::Tiny           any         0.30
#     ExtUtils::MakeMaker     any         7.10
#     File::Spec              any         3.60
#     File::Temp              any       0.2304
#     FindBin                 any         1.51
#     HTTP::Body              any         1.22
#     HTTP::Response          any         6.11
#     HTTP::Server::PSGI      any        undef
#     IO::Handle              any         1.35
#     IPC::Open3              any         1.18
#     Module::Faker::Dist   0.014        0.017
#     Plack::Test             any        undef
#     Test::Builder::Module   any 1.302013_009
#     Test::Exception         any         0.43
#     Test::File              any         1.44
#     Test::LWP::UserAgent  0.018        0.030
#     Test::More             0.96 1.302013_009
#     Test::TCP               any         2.14
#     lib                     any         0.63
# 
# === Test Recommends ===
# 
#     Module         Want     Have
#     ---------- -------- --------
#     CPAN::Meta 2.120900 2.150005
# 
# === Runtime Requires ===
# 
#     Module                                Want       Have
#     ------------------------------- ---------- ----------
#     App::Cmd                             0.323      0.330
#     App::Cmd::Command::help                any      0.330
#     App::Cmd::Setup                        any      0.330
#     Archive::Extract                      0.68       0.76
#     Archive::Tar                           any       2.04
#     Authen::Simple::Passwd                 any        0.6
#     CPAN::Checksums                        any       2.10
#     CPAN::DistnameInfo                     any       0.12
#     CPAN::Meta                             any   2.150005
#     CPAN::Meta::Requirements               any      2.132
#     Carp                                   any       1.36
#     Class::Load                            any       0.23
#     Cwd                                    any       3.60
#     Cwd::Guard                             any       0.04
#     DBD::SQLite                           1.33       1.48
#     DBIx::Class                        0.08200   0.082820
#     DBIx::Class::Core                      any      undef
#     DBIx::Class::ResultSet                 any      undef
#     DBIx::Class::Schema                    any      undef
#     DateTime                               any       1.21
#     DateTime::TimeZone                     any       1.94
#     DateTime::TimeZone::Local::Unix        any       1.94
#     DateTime::TimeZone::OffsetOnly         any       1.94
#     Devel::StackTrace                      any       2.00
#     Digest::MD5                            any       2.54
#     Digest::SHA                            any       5.95
#     Dist::Metadata                       0.926      0.926
#     Encode                                 any       2.72
#     Exporter                               any       5.72
#     File::Copy                             any       2.30
#     File::Find                             any       1.29
#     File::HomeDir                          any       1.00
#     File::NFSLock                          any       1.27
#     File::Spec                             any       3.60
#     File::Temp                             any     0.2304
#     File::Which                            any       1.19
#     Getopt::Long                           any       2.45
#     HTTP::Date                             any       6.02
#     HTTP::Request::Common                  any       6.11
#     HTTP::Status                           any       6.11
#     IO::File                               any       1.16
#     IO::Handle                             any       1.35
#     IO::Interactive                        any      0.0.6
#     IO::Pipe                               any       1.15
#     IO::Prompt                             any   0.997003
#     IO::Select                             any       1.22
#     IO::String                             any       1.08
#     IO::Zlib                               any       1.10
#     JSON                                   any       2.90
#     JSON::PP                           2.27103    2.27300
#     LWP::UserAgent                         any       6.15
#     List::MoreUtils                        any      0.413
#     List::Util                             any       1.41
#     Module::CoreList                5.20150520 5.20151213
#     Moose                                  any     2.1604
#     Moose::Role                            any     2.1604
#     MooseX::Aliases                        any       0.11
#     MooseX::ClassAttribute                0.27       0.27
#     MooseX::Configuration                  any       0.02
#     MooseX::MarkAsMethods                  any       0.15
#     MooseX::NonMoose                       any       0.26
#     MooseX::SetOnce                        any   0.200002
#     MooseX::StrictConstructor              any       0.19
#     MooseX::Types                          any       0.46
#     MooseX::Types::Moose                   any       0.46
#     Path::Class                            any       0.35
#     Path::Class::Dir                       any       0.35
#     Path::Class::File                      any       0.35
#     Plack                               1.0028     1.0039
#     Plack::MIME                            any      undef
#     Plack::Middleware::Auth::Basic         any      undef
#     Plack::Request                         any     1.0039
#     Plack::Response                        any     1.0039
#     Plack::Runner                          any      undef
#     Pod::Usage                             any       1.68
#     Proc::Fork                             any      0.804
#     Proc::Terminator                       any       0.05
#     Readonly                               any       2.00
#     Router::Simple                         any       0.17
#     Scalar::Util                           any       1.41
#     Starman                             0.3014     0.4014
#     String::Format                         any       1.17
#     Term::ANSIColor                       2.02       4.03
#     Term::EditorEdit                       any     0.0016
#     Throwable::Error                  0.200005   0.200013
#     Try::Tiny                              any       0.24
#     URI                                    any       1.69
#     URI::Escape                           3.31       3.31
#     URI::file                              any       4.21
#     UUID::Tiny                             any       1.04
#     Variable::Magic                       0.57       0.59
#     base                                   any       2.22
#     overload                               any       1.26
#     strict                                 any       1.09
#     utf8                                   any       1.17
#     version                                any     0.9912
#     warnings                               any       1.34
# 
# === Other Modules ===
# 
#     Module          Have
#     ----------- --------
#     DBD::SQLite     1.48
#     DBIx::Class 0.082820
# 
t/00-report-prereqs.t ................. ok
t/01-common/01-types.t ................ ok
t/01-common/02-target-package.t ....... ok
t/01-common/03-target-distribution.t .. ok
t/01-common/04-util.t ................. ok
t/01-common/05-pauseconfig.t .......... ok
t/02-bowels/01-config.t ............... ok
t/02-bowels/02-chrome.t ............... ok
t/02-bowels/03-package.t .............. ok
t/02-bowels/04-distribution.t ......... ok
t/02-bowels/05-compare.t .............. ok
t/02-bowels/10-init.t ................. ok
t/02-bowels/11-tester.t ............... ok
t/02-bowels/12-locator.t .............. ok
t/02-bowels/19-basic.t ................ ok
t/02-bowels/20-add.t .................. ok
t/02-bowels/21-add-no-index.t ......... ok
t/02-bowels/21-pull-vreq.t ............ ok
t/02-bowels/21-pull.t ................. ok
t/02-bowels/22-add-deep.t ............. ok
t/02-bowels/23-pull-multi.t ........... ok
t/02-bowels/24-skip-prereqs.t ......... ok
t/02-bowels/31-pin.t .................. ok
t/02-bowels/32-pin-rjbs.t ............. ok
t/02-bowels/35-delete.t ............... ok
t/02-bowels/40-list.t ................. ok
t/02-bowels/41-log.t .................. ok
t/02-bowels/42-install.t .............. skipped: Need cpanm 1.6920 or newer
t/02-bowels/43-install-and-pull.t ..... skipped: Need cpanm 1.6920 or newer
t/02-bowels/50-diff.t ................. ok
t/02-bowels/51-diff-more.t ............ ok
t/02-bowels/52-intermingle.t .......... ok
t/02-bowels/53-roots.t ................ ok
t/02-bowels/54-revert.t ............... ok
t/02-bowels/60-dryrun.t ............... ok
t/02-bowels/61-nofail.t ............... ok
t/02-bowels/62-commit.t ............... ok
t/02-bowels/63-prereq-circular.t ...... ok
t/02-bowels/63-prereq-core.t .......... ok
t/02-bowels/64-metadata.t ............. ok
t/02-bowels/70-stack-copy.t ........... ok
t/02-bowels/71-stack-kill.t ........... ok
t/02-bowels/72-stack-rename.t ......... ok
t/02-bowels/73-stack-lock.t ........... ok
t/02-bowels/74-stack-default.t ........ ok
t/02-bowels/75-stack-props.t .......... ok
PINTO_STALE_LOCKFILE_TIMEOUT > 0, may steal lock !!
t/02-bowels/80-repo-lock.t ............ ok
t/03-remote/01-requests.t ............. ok
t/03-remote/02-responses.t ............ ok
t/03-remote/03-install.t .............. skipped: Need cpanm 1.6920 or newer
t/03-remote/04-install-with-auth.t .... skipped: Need cpanm 1.6920 or newer
t/03-remote/05-timezone.t ............. ok
t/04-server/01-functional.t ........... ok
t/04-server/02-authentication.t ....... ok
t/04-server/03-security.t ............. ok
All tests successful.
Files=56, Tests=642, 382 wallclock secs ( 0.41 usr  0.51 sys + 231.01 cusr 50.82 csys = 282.75 CPU)
Result: PASS

------------------------------
PREREQUISITES
------------------------------

Prerequisite modules loaded:

requires:

    Module                          Need       Have        
    ------------------------------- ---------- ------------
    App::Cmd                        0.323      0.330       
    App::Cmd::Command::help         0          0.330       
    App::Cmd::Setup                 0          0.330       
    Archive::Extract                0.68       0.76        
    Archive::Tar                    0          2.04        
    Authen::Simple::Passwd          0          0.6         
    base                            0          2.22        
    Carp                            0          1.36        
    Class::Load                     0          0.23        
    CPAN::Checksums                 0          2.10        
    CPAN::DistnameInfo              0          0.12        
    CPAN::Meta                      0          2.150005    
    CPAN::Meta::Requirements        0          2.132       
    Cwd                             0          3.60        
    Cwd::Guard                      0          0.04        
    DateTime                        0          1.21        
    DateTime::TimeZone              0          1.94        
    DateTime::TimeZone::Local::Unix 0          1.94        
    DateTime::TimeZone::OffsetOnly  0          1.94        
    DBD::SQLite                     1.33       1.48        
    DBIx::Class                     0.08200    0.082820    
    DBIx::Class::Core               0          0           
    DBIx::Class::ResultSet          0          0           
    DBIx::Class::Schema             0          0           
    Devel::StackTrace               0          2.00        
    Digest::MD5                     0          2.54        
    Digest::SHA                     0          5.95        
    Dist::Metadata                  0.926      0.926       
    Encode                          0          2.72        
    Exporter                        0          5.72        
    File::Copy                      0          2.30        
    File::Find                      0          1.29        
    File::HomeDir                   0          1.00        
    File::NFSLock                   0          1.27        
    File::Spec                      0          3.60        
    File::Temp                      0          0.2304      
    File::Which                     0          1.19        
    Getopt::Long                    0          2.45        
    HTTP::Date                      0          6.02        
    HTTP::Request::Common           0          6.11        
    HTTP::Status                    0          6.11        
    IO::File                        0          1.16        
    IO::Handle                      0          1.35        
    IO::Interactive                 0          0.0.6       
    IO::Pipe                        0          1.15        
    IO::Prompt                      0          0.997003    
    IO::Select                      0          1.22        
    IO::String                      0          1.08        
    IO::Zlib                        0          1.10        
    JSON                            0          2.90        
    JSON::PP                        2.27103    2.27300     
    List::MoreUtils                 0          0.413       
    List::Util                      0          1.41        
    LWP::UserAgent                  0          6.15        
    Module::CoreList                5.20150520 5.20151213  
    Moose                           0          2.1604      
    Moose::Role                     0          2.1604      
    MooseX::Aliases                 0          0.11        
    MooseX::ClassAttribute          0.27       0.27        
    MooseX::Configuration           0          0.02        
    MooseX::MarkAsMethods           0          0.15        
    MooseX::NonMoose                0          0.26        
    MooseX::SetOnce                 0          0.200002    
    MooseX::StrictConstructor       0          0.19        
    MooseX::Types                   0          0.46        
    MooseX::Types::Moose            0          0.46        
    overload                        0          1.26        
    Path::Class                     0          0.35        
    Path::Class::Dir                0          0.35        
    Path::Class::File               0          0.35        
    perl                            5.008      5.022001    
    Plack                           1.0028     1.0039      
    Plack::Middleware::Auth::Basic  0          0           
    Plack::MIME                     0          0           
    Plack::Request                  0          1.0039      
    Plack::Response                 0          1.0039      
    Plack::Runner                   0          0           
    Pod::Usage                      0          1.68        
    Proc::Fork                      0          0.804       
    Proc::Terminator                0          0.05        
    Readonly                        0          2.00        
    Router::Simple                  0          0.17        
    Scalar::Util                    0          1.41        
    Starman                         0.3014     0.4014      
    strict                          0          1.09        
    String::Format                  0          1.17        
    Term::ANSIColor                 2.02       4.03        
    Term::EditorEdit                0          0.0016      
    Throwable::Error                0.200005   0.200013    
    Try::Tiny                       0          0.24        
    URI                             0          1.69        
    URI::Escape                     3.31       3.31        
    URI::file                       0          4.21        
    utf8                            0          1.17        
    UUID::Tiny                      0          1.04        
    Variable::Magic                 0.57       0.59        
    version                         0          0.9912      
    warnings                        0          1.34        

build_requires:

    Module                          Need       Have        
    ------------------------------- ---------- ------------
    Apache::Htpasswd                0          1.9         
    Capture::Tiny                   0          0.30        
    ExtUtils::MakeMaker             0          7.10        
    File::Spec                      0          3.60        
    File::Temp                      0          0.2304      
    FindBin                         0          1.51        
    HTTP::Body                      0          1.22        
    HTTP::Response                  0          6.11        
    HTTP::Server::PSGI              0          0           
    IO::Handle                      0          1.35        
    IPC::Open3                      0          1.18        
    lib                             0          0.63        
    Module::Build                   0.4005     0.4214      
    Module::Build::CleanInstall     0.05       0.05        
    Module::Faker::Dist             0.014      0.017       
    perl                            5.008      5.022001    
    Plack::Test                     0          0           
    Test::Builder::Module           0          1.302013_009
    Test::Exception                 0          0.43        
    Test::File                      0          1.44        
    Test::LWP::UserAgent            0.018      0.030       
    Test::More                      0.96       1.302013_009
    Test::TCP                       0          2.14        

configure_requires:

    Module                          Need       Have        
    ------------------------------- ---------- ------------
    Module::Build                   0.4005     0.4214      
    Module::Build::CleanInstall     0.05       0.05        
    perl                            5.006      5.022001    


------------------------------
ENVIRONMENT AND OTHER CONTEXT
------------------------------

Environment variables:

    AUTOMATED_TESTING = 1
    LANG = en_US.UTF-8
    LANGUAGE = en_US:en
    PATH = /home/sand/bin:/usr/local/bin:/usr/bin:/bin:/usr/games:/usr/local/perl/bin:/usr/X11/bin:/sbin:/usr/sbin
    PERL5LIB = 
    PERL5OPT = 
    PERL5_CPANPLUS_IS_RUNNING = 32171
    PERL5_CPAN_IS_RUNNING = 32171
    PERL_MM_USE_DEFAULT = 1
    SHELL = /usr/bin/zsh
    TERM = screen

Perl special variables (and OS-specific diagnostics, for MSWin32):

    $^X = /home/sand/src/perl/repoperls/installed-perls/perl/v5.22.1/109d/bin/perl
    $UID/$EUID = 1005 / 1005
    $GID = 1005 1005
    $EGID = 1005 1005

Perl module toolchain versions installed:

    Module              Have        
    ------------------- ------------
    CPAN                2.11        
    CPAN::Meta          2.150005    
    Cwd                 3.60        
    ExtUtils::CBuilder  0.280224    
    ExtUtils::Command   7.10        
    ExtUtils::Install   2.04        
    ExtUtils::MakeMaker 7.10        
    ExtUtils::Manifest  1.70        
    ExtUtils::ParseXS   3.28        
    File::Spec          3.60        
    JSON                2.90        
    JSON::PP            2.27300     
    Module::Build       0.4214      
    Module::Signature   0.79        
    Parse::CPAN::Meta   1.4417      
    Test::Harness       3.36        
    Test::More          1.302013_009
    YAML                1.15        
    YAML::Syck          1.29        
    version             0.9912      


--

Summary of my perl5 (revision 5 version 22 subversion 1) configuration:
  Derived from: 0ab152a1d10861997fe3e1b985cc92f142f4cec7
  Platform:
    osname=linux, osvers=4.3.0-1-amd64, archname=x86_64-linux-thread-multi-ld
    uname='linux k83 4.3.0-1-amd64 #1 smp debian 4.3.3-2 (2015-12-17) x86_64 gnulinux '
    config_args='-Dprefix=/home/sand/src/perl/repoperls/installed-perls/perl/v5.22.1/109d -Dmyhostname=k83 -Dinstallusrbinperl=n -Uversiononly -Dusedevel -des -Ui_db -Dlibswanted=cl pthread socket inet nsl gdbm dbm malloc dl ld sun m crypt sec util c cposix posix ucb BSD gdbm_compat -Duseithreads -Duselongdouble -DDEBUGGING=-g'
    hint=recommended, useposix=true, d_sigaction=define
    useithreads=define, usemultiplicity=define
    use64bitint=define, use64bitall=define, uselongdouble=define
    usemymalloc=n, bincompat5005=undef
  Compiler:
    cc='cc', ccflags ='-D_REENTRANT -D_GNU_SOURCE -fwrapv -fno-strict-aliasing -pipe -fstack-protector-strong -I/usr/local/include -D_LARGEFILE_SOURCE -D_FILE_OFFSET_BITS=64',
    optimize='-O2 -g',
    cppflags='-D_REENTRANT -D_GNU_SOURCE -fwrapv -fno-strict-aliasing -pipe -fstack-protector-strong -I/usr/local/include'
    ccversion='', gccversion='5.3.1 20160101', gccosandvers=''
    intsize=4, longsize=8, ptrsize=8, doublesize=8, byteorder=12345678, doublekind=3
    d_longlong=define, longlongsize=8, d_longdbl=define, longdblsize=16, longdblkind=3
    ivtype='long', ivsize=8, nvtype='long double', nvsize=16, Off_t='off_t', lseeksize=8
    alignbytes=16, prototype=define
  Linker and Libraries:
    ld='cc', ldflags =' -fstack-protector-strong -L/usr/local/lib'
    libpth=/usr/local/lib /usr/lib/gcc/x86_64-linux-gnu/5/include-fixed /usr/include/x86_64-linux-gnu /usr/lib /lib/x86_64-linux-gnu /lib/../lib /usr/lib/x86_64-linux-gnu /usr/lib/../lib /lib
    libs=-lpthread -lnsl -lgdbm -ldl -lm -lcrypt -lutil -lc -lgdbm_compat
    perllibs=-lpthread -lnsl -ldl -lm -lcrypt -lutil -lc
    libc=libc-2.21.so, so=so, useshrplib=false, libperl=libperl.a
    gnulibc_version='2.21'
  Dynamic Linking:
    dlsrc=dl_dlopen.xs, dlext=so, d_dlsymun=undef, ccdlflags='-Wl,-E'
    cccdlflags='-fPIC', lddlflags='-shared -O2 -g -L/usr/local/lib -fstack-protector-strong'


Characteristics of this binary (from libperl): 
  Compile-time options: HAS_TIMES MULTIPLICITY PERLIO_LAYERS
                        PERL_DONT_CREATE_GVSV
                        PERL_HASH_FUNC_ONE_AT_A_TIME_HARD
                        PERL_IMPLICIT_CONTEXT PERL_MALLOC_WRAP
                        PERL_NEW_COPY_ON_WRITE PERL_PRESERVE_IVUV
                        PERL_USE_DEVEL USE_64_BIT_ALL USE_64_BIT_INT
                        USE_ITHREADS USE_LARGE_FILES USE_LOCALE
                        USE_LOCALE_COLLATE USE_LOCALE_CTYPE
                        USE_LOCALE_NUMERIC USE_LOCALE_TIME USE_LONG_DOUBLE
                        USE_PERLIO USE_PERL_ATOF USE_REENTRANT_API
  Locally applied patches:
	uncommitted-changes
	Devel::PatchPerl 1.38
  Built under linux
  Compiled at Jan  2 2016 21:52:40
  %ENV:
    PERL5LIB=""
    PERL5OPT=""
    PERL5_CPANPLUS_IS_RUNNING="32171"
    PERL5_CPAN_IS_RUNNING="32171"
    PERL_MM_USE_DEFAULT="1"
  @INC:
    /home/sand/src/perl/repoperls/installed-perls/perl/v5.22.1/109d/lib/site_perl/5.22.1/x86_64-linux-thread-multi-ld
    /home/sand/src/perl/repoperls/installed-perls/perl/v5.22.1/109d/lib/site_perl/5.22.1
    /home/sand/src/perl/repoperls/installed-perls/perl/v5.22.1/109d/lib/5.22.1/x86_64-linux-thread-multi-ld
    /home/sand/src/perl/repoperls/installed-perls/perl/v5.22.1/109d/lib/5.22.1
    .