Paws v0.45 Perl 5 v5.12.5 x86_64-linux-ld

Status
Pass
From
Andreas J. König (ANDK)
Dist
Paws v0.45
Platform
Perl 5 v5.12.5 x86_64-linux-ld
Date
2022-06-04 06:58:24
ID
ba686248-e3d3-11ec-b999-f0e8a6c5ac02
This distribution has been tested as part of the CPAN Testers
project, supporting the Perl programming language.  See
http://wiki.cpantesters.org/ for more information or email
questions to cpan-testers-discuss@perl.org


--
Dear Jose Luis Martinez Torres,

This is a computer-generated report for Paws-0.45
on perl 5.12.5, created by CPAN-Reporter-1.2018.

Thank you for uploading your work to CPAN.  Congratulations!
All tests were successful.

Sections of this report:

    * Tester comments
    * Program output
    * Prerequisites
    * Environment and other context

------------------------------
TESTER COMMENTS
------------------------------

Additional comments from tester:

this report is from an automated smoke testing program
and was not reviewed by a human for accuracy

------------------------------
PROGRAM OUTPUT
------------------------------

Output from './Build test':

Paws::CloudFront is not stable / supported / entirely developed at /tmp/loop_over_bdir-1332029-LRIXJK/Paws-0.45-0/blib/lib/Paws/CloudFront.pm line 2.
Paws::Route53 is not stable / supported / entirely developed at /tmp/loop_over_bdir-1332029-LRIXJK/Paws-0.45-0/blib/lib/Paws/Route53.pm line 2.
Paws::S3 is not stable / supported / entirely developed at /tmp/loop_over_bdir-1332029-LRIXJK/Paws-0.45-0/blib/lib/Paws/S3.pm line 2.
Paws::S3Control is not stable / supported / entirely developed at /tmp/loop_over_bdir-1332029-LRIXJK/Paws-0.45-0/blib/lib/Paws/S3Control.pm line 2.
t/01_load.t ............................. ok
t/02_aws_object.t ....................... ok
t/03_aws_default_object.t ............... ok
t/04_credentials.t ...................... ok
Paws::S3 is not stable / supported / entirely developed at /tmp/loop_over_bdir-1332029-LRIXJK/Paws-0.45-0/blib/lib/Paws/S3.pm line 2.
Paws::CloudFront is not stable / supported / entirely developed at /tmp/loop_over_bdir-1332029-LRIXJK/Paws-0.45-0/blib/lib/Paws/CloudFront.pm line 2.
Paws::Route53 is not stable / supported / entirely developed at /tmp/loop_over_bdir-1332029-LRIXJK/Paws-0.45-0/blib/lib/Paws/Route53.pm line 2.
t/05_service_calls.t .................... ok
t/06_endpoint_override.t ................ ok
Paws::CloudFront is not stable / supported / entirely developed at /tmp/loop_over_bdir-1332029-LRIXJK/Paws-0.45-0/blib/lib/Paws/CloudFront.pm line 2.
Use of uninitialized value in string eq at t/lib/TestFromYaml.pm line 22.
Use of uninitialized value $got in string eq at (eval in cmp_ok) t/10_responses.t line 136.
Use of uninitialized value $got in string eq at (eval in cmp_ok) t/10_responses.t line 136.
Use of uninitialized value $got in string eq at (eval in cmp_ok) t/10_responses.t line 136.
Use of uninitialized value $got in string eq at (eval in cmp_ok) t/10_responses.t line 136.
Paws::Route53 is not stable / supported / entirely developed at /tmp/loop_over_bdir-1332029-LRIXJK/Paws-0.45-0/blib/lib/Paws/Route53.pm line 2.
Paws::S3 is not stable / supported / entirely developed at /tmp/loop_over_bdir-1332029-LRIXJK/Paws-0.45-0/blib/lib/Paws/S3.pm line 2.
t/10_responses.t ........................ ok
# Skipping Paws::Net::FurlCaller due to probem loading: Can't locate Furl.pm in @INC (@INC contains: t/lib /tmp/loop_over_bdir-1332029-LRIXJK/Paws-0.45-0/blib/arch /tmp/loop_over_bdir-1332029-LRIXJK/Paws-0.45-0/blib/lib /home/sand/src/perl/repoperls/installed-perls/host/k93msid/v5.12.5/fc43/lib/site_perl/5.12.5/x86_64-linux-ld /home/sand/src/perl/repoperls/installed-perls/host/k93msid/v5.12.5/fc43/lib/site_perl/5.12.5 /home/sand/src/perl/repoperls/installed-perls/host/k93msid/v5.12.5/fc43/lib/5.12.5/x86_64-linux-ld /home/sand/src/perl/repoperls/installed-perls/host/k93msid/v5.12.5/fc43/lib/5.12.5 .) at /tmp/loop_over_bdir-1332029-LRIXJK/Paws-0.45-0/blib/lib/Paws/Net/FurlCaller.pm line 5.
# BEGIN failed--compilation aborted at /tmp/loop_over_bdir-1332029-LRIXJK/Paws-0.45-0/blib/lib/Paws/Net/FurlCaller.pm line 5.
# Compilation failed in require at /home/sand/src/perl/repoperls/installed-perls/host/k93msid/v5.12.5/fc43/lib/site_perl/5.12.5/Module/Runtime.pm line 314.
# Testing with caller Paws::Net::Caller
Paws::S3 is not stable / supported / entirely developed at /tmp/loop_over_bdir-1332029-LRIXJK/Paws-0.45-0/blib/lib/Paws/S3.pm line 2.
Paws::Route53 is not stable / supported / entirely developed at /tmp/loop_over_bdir-1332029-LRIXJK/Paws-0.45-0/blib/lib/Paws/Route53.pm line 2.
# Testing with caller Paws::Net::LWPCaller
t/11_client_exceptions.t ................ ok
No service for cloudformation at t/12_regions.t line 310.
No service for cloudfront at t/12_regions.t line 310.
No service for dynamodb at t/12_regions.t line 310.
No service for ec2 at t/12_regions.t line 310.
No service for elasticache at t/12_regions.t line 310.
No service for glacier at t/12_regions.t line 310.
No service for iam at t/12_regions.t line 310.
No service for importexport at t/12_regions.t line 310.
No service for rds at t/12_regions.t line 310.
Paws::Route53 is not stable / supported / entirely developed at /tmp/loop_over_bdir-1332029-LRIXJK/Paws-0.45-0/t/../lib/Paws/Route53.pm line 2.
Paws::S3 is not stable / supported / entirely developed at /tmp/loop_over_bdir-1332029-LRIXJK/Paws-0.45-0/t/../lib/Paws/S3.pm line 2.
No service for sns at t/12_regions.t line 310.
No service for sqs at t/12_regions.t line 310.
No service for cloudformation at t/12_regions.t line 310.
No service for cloudfront at t/12_regions.t line 310.
No service for cloudsearch at t/12_regions.t line 310.
No service for dynamodb at t/12_regions.t line 310.
No service for ec2 at t/12_regions.t line 310.
No service for elasticache at t/12_regions.t line 310.
No service for iam at t/12_regions.t line 310.
No service for importexport at t/12_regions.t line 310.
No service for rds at t/12_regions.t line 310.
No service for sns at t/12_regions.t line 310.
No service for sqs at t/12_regions.t line 310.
No service for cloudformation at t/12_regions.t line 310.
No service for cloudfront at t/12_regions.t line 310.
No service for dynamodb at t/12_regions.t line 310.
No service for ec2 at t/12_regions.t line 310.
No service for elasticache at t/12_regions.t line 310.
No service for glacier at t/12_regions.t line 310.
No service for iam at t/12_regions.t line 310.
No service for importexport at t/12_regions.t line 310.
No service for rds at t/12_regions.t line 310.
No service for sns at t/12_regions.t line 310.
No service for sqs at t/12_regions.t line 310.
No service for cloudformation at t/12_regions.t line 310.
No service for dynamodb at t/12_regions.t line 310.
No service for ec2 at t/12_regions.t line 310.
No service for elasticache at t/12_regions.t line 310.
No service for glacier at t/12_regions.t line 310.
No service for iam at t/12_regions.t line 310.
No service for rds at t/12_regions.t line 310.
No service for sns at t/12_regions.t line 310.
No service for sqs at t/12_regions.t line 310.
No service for cloudformation at t/12_regions.t line 310.
No service for cloudfront at t/12_regions.t line 310.
No service for cloudsearch at t/12_regions.t line 310.
No service for dynamodb at t/12_regions.t line 310.
No service for ec2 at t/12_regions.t line 310.
No service for elasticache at t/12_regions.t line 310.
No service for glacier at t/12_regions.t line 310.
No service for iam at t/12_regions.t line 310.
No service for importexport at t/12_regions.t line 310.
No service for rds at t/12_regions.t line 310.
No service for sns at t/12_regions.t line 310.
No service for sqs at t/12_regions.t line 310.
No service for cloudformation at t/12_regions.t line 310.
No service for cloudfront at t/12_regions.t line 310.
No service for dynamodb at t/12_regions.t line 310.
No service for ec2 at t/12_regions.t line 310.
No service for elasticache at t/12_regions.t line 310.
No service for iam at t/12_regions.t line 310.
No service for importexport at t/12_regions.t line 310.
No service for rds at t/12_regions.t line 310.
No service for sns at t/12_regions.t line 310.
No service for sqs at t/12_regions.t line 310.
No service for cloudformation at t/12_regions.t line 310.
No service for cloudfront at t/12_regions.t line 310.
No service for cloudsearch at t/12_regions.t line 310.
No service for cloudtrail at t/12_regions.t line 310.
No service for dynamodb at t/12_regions.t line 310.
No service for ec2 at t/12_regions.t line 310.
No service for elasticache at t/12_regions.t line 310.
No service for glacier at t/12_regions.t line 310.
No service for iam at t/12_regions.t line 310.
No service for importexport at t/12_regions.t line 310.
No service for kinesis at t/12_regions.t line 310.
No service for opsworks at t/12_regions.t line 310.
No service for rds at t/12_regions.t line 310.
No service for sns at t/12_regions.t line 310.
No service for sqs at t/12_regions.t line 310.
No service for support at t/12_regions.t line 310.
No service for dynamodb at t/12_regions.t line 310.
No service for ec2 at t/12_regions.t line 310.
No service for iam at t/12_regions.t line 310.
No service for rds at t/12_regions.t line 310.
No service for sns at t/12_regions.t line 310.
No service for sqs at t/12_regions.t line 310.
No service for cloudformation at t/12_regions.t line 310.
No service for cloudfront at t/12_regions.t line 310.
No service for cloudsearch at t/12_regions.t line 310.
No service for dynamodb at t/12_regions.t line 310.
No service for ec2 at t/12_regions.t line 310.
No service for elasticache at t/12_regions.t line 310.
No service for glacier at t/12_regions.t line 310.
No service for iam at t/12_regions.t line 310.
No service for importexport at t/12_regions.t line 310.
No service for rds at t/12_regions.t line 310.
No service for sns at t/12_regions.t line 310.
No service for sqs at t/12_regions.t line 310.
No service for cloudformation at t/12_regions.t line 310.
No service for cloudfront at t/12_regions.t line 310.
No service for cloudsearch at t/12_regions.t line 310.
No service for cloudtrail at t/12_regions.t line 310.
No service for dynamodb at t/12_regions.t line 310.
No service for ec2 at t/12_regions.t line 310.
No service for elasticache at t/12_regions.t line 310.
No service for glacier at t/12_regions.t line 310.
No service for iam at t/12_regions.t line 310.
No service for importexport at t/12_regions.t line 310.
No service for rds at t/12_regions.t line 310.
No service for sns at t/12_regions.t line 310.
No service for sqs at t/12_regions.t line 310.
Paws::CloudFront is not stable / supported / entirely developed at /tmp/loop_over_bdir-1332029-LRIXJK/Paws-0.45-0/t/../lib/Paws/CloudFront.pm line 2.
t/12_regions.t .......................... ok
# Default caller
# LWP caller
# Mojo caller
# Can't locate Future/Mojo.pm in @INC (@INC contains: t/lib /tmp/loop_over_bdir-1332029-LRIXJK/Paws-0.45-0/blib/arch /tmp/loop_over_bdir-1332029-LRIXJK/Paws-0.45-0/blib/lib /home/sand/src/perl/repoperls/installed-perls/host/k93msid/v5.12.5/fc43/lib/site_perl/5.12.5/x86_64-linux-ld /home/sand/src/perl/repoperls/installed-perls/host/k93msid/v5.12.5/fc43/lib/site_perl/5.12.5 /home/sand/src/perl/repoperls/installed-perls/host/k93msid/v5.12.5/fc43/lib/5.12.5/x86_64-linux-ld /home/sand/src/perl/repoperls/installed-perls/host/k93msid/v5.12.5/fc43/lib/5.12.5 .) at /tmp/loop_over_bdir-1332029-LRIXJK/Paws-0.45-0/blib/lib/Paws/Net/MojoAsyncCaller.pm line 9.
# BEGIN failed--compilation aborted at /tmp/loop_over_bdir-1332029-LRIXJK/Paws-0.45-0/blib/lib/Paws/Net/MojoAsyncCaller.pm line 9.
# Compilation failed in require at /home/sand/src/perl/repoperls/installed-perls/host/k93msid/v5.12.5/fc43/lib/site_perl/5.12.5/Module/Runtime.pm line 314.
# Furl caller
t/13_client_connect_errors.t ............ ok
# Default caller
# LWP caller
# Mojo caller
# Furl caller
t/14_dns_client_errors.t ................ ok
t/15_timeouts.t ......................... ok
t/16_retries.t .......................... ok
Paws::S3 is not stable / supported / entirely developed at /tmp/loop_over_bdir-1332029-LRIXJK/Paws-0.45-0/blib/lib/Paws/S3.pm line 2.
t/17_s3metadata.t ....................... ok
# Testing file t/18_mocked/autoscaling-describescalingactivities.response.test.yml
Use of uninitialized value $got in string eq at (eval in cmp_ok) t/18_mocked.t line 100.
# Testing file t/18_mocked/cwlogs-createlog-group.response.test.yml
# Testing file t/18_mocked/cwlogs-createloggroup-2.response.test.yml
# Testing file t/18_mocked/cwlogs-createlogstream-dup.response.test.yml
# Testing file t/18_mocked/cwlogs-createlogstream.response.test.yml
# Testing file t/18_mocked/cwlogs-deleteloggroup-nonexist.response.test.yml
# Testing file t/18_mocked/cwlogs-deleteloggroup.response.test.yml
# Testing file t/18_mocked/cwlogs-deletelogstream-nonexist.response.test.yml
# Testing file t/18_mocked/cwlogs-deletelogstream.response.test.yml
# Testing file t/18_mocked/cwlogs-describeloggroups.response.test.yml
# Testing file t/18_mocked/cwlogs-describelogstreams.response.test.yml
# Testing file t/18_mocked/cwlogs-filterpattern.response.test.yml
# Testing file t/18_mocked/cwlogs-putlogevents-1.response.test.yml
# Testing file t/18_mocked/cwlogs-putlogevents-2.response.test.yml
# Testing file t/18_mocked/cwlogs-putlogevents-3.response.test.yml
# Testing file t/18_mocked/cwlogs-putlogevents-dup.response.test.yml
# Testing file t/18_mocked/efs_createfilesystem.response.test.yml
# Testing file t/18_mocked/efs_createfilesystem_duplicate.response.test.yml
# Testing file t/18_mocked/efs_deletefilesystem.response.test.yml
# Testing file t/18_mocked/efs_describefilesystems.response.test.yml
# Testing file t/18_mocked/efs_describefilesystems_nonexistant.response.test.yml
# Testing file t/18_mocked/polly_listlexicons.response.test.yml
# Testing file t/18_mocked/polly_listlexicons_empty.response.test.yml
# Testing file t/18_mocked/polly_putlexicon.response.test.yml
# Testing file t/18_mocked/polly_synthesizespeech.response.test.yml
# Testing file t/18_mocked/signin-getsignintoken.response.test.yml
# Testing file t/18_mocked/sts-getfederationtoken.response.test.yml
# Testing file t/26_paginators/s3-getallobjects-with-prefix/0001.response.test.yml
Paws::S3 is not stable / supported / entirely developed at /tmp/loop_over_bdir-1332029-LRIXJK/Paws-0.45-0/blib/lib/Paws/S3.pm line 2.
# Testing file t/26_paginators/s3-getallobjects-with-prefix/0002.response.test.yml
# Testing file t/26_paginators/s3-getallobjects/0001.response.test.yml
# Testing file t/26_paginators/s3-getallobjects/0002.response.test.yml
# Testing file t/26_paginators/s3-getallobjects/0003.response.test.yml
# Testing file t/26_paginators/s3-getallobjects/0004.response.test.yml
# Testing file t/26_paginators/s3-getallobjectsv2-with-prefix/0001.response.test.yml
# Testing file t/26_paginators/s3-getallobjectsv2-with-prefix/0002.response.test.yml
# Testing file t/26_paginators/s3-getallobjectsv2/0001.response.test.yml
# Testing file t/26_paginators/s3-getallobjectsv2/0002.response.test.yml
# Testing file t/26_paginators/s3-getallobjectsv2/0003.response.test.yml
# Testing file t/26_paginators/s3-getallobjectsv2/0004.response.test.yml
t/18_mocked.t ........................... ok
t/19_signin_login.t ..................... ok
t/20_json_syntetic_responses.t .......... ok
t/21_restjson_syntetic_responses.t ...... ok
t/22_query_syntetic_responses.t ......... ok
t/23_queryflatten_syntetic_responses.t .. ok
t/24_error_from_nonreturningmethod.t .... ok
t/25_error_on_malformed_response.t ...... ok
Paws::S3 is not stable / supported / entirely developed at /tmp/loop_over_bdir-1332029-LRIXJK/Paws-0.45-0/blib/lib/Paws/S3.pm line 2.
t/26_paginators.t ....................... ok
t/27_signing_name.t ..................... ok
t/28_retries_mojoasynccaller.t .......... ok
t/99_pod_syntax.t ....................... skipped: author testing only
t/glacier/content_headers.t ............. ok
t/glacier/multipartupload.t ............. ok
Paws::Route53 is not stable / supported / entirely developed at /tmp/loop_over_bdir-1332029-LRIXJK/Paws-0.45-0/blib/lib/Paws/Route53.pm line 2.
t/route53/uri_generation.t .............. ok
Paws::Route53 is not stable / supported / entirely developed at /tmp/loop_over_bdir-1332029-LRIXJK/Paws-0.45-0/blib/lib/Paws/Route53.pm line 2.
t/route53/xml_creation.t ................ ok
Paws::S3 is not stable / supported / entirely developed at /tmp/loop_over_bdir-1332029-LRIXJK/Paws-0.45-0/blib/lib/Paws/S3.pm line 2.
t/s3/content_headers.t .................. ok
Paws::S3 is not stable / supported / entirely developed at /tmp/loop_over_bdir-1332029-LRIXJK/Paws-0.45-0/blib/lib/Paws/S3.pm line 2.
t/s3/multipartupload.t .................. ok
Paws::S3 is not stable / supported / entirely developed at /tmp/loop_over_bdir-1332029-LRIXJK/Paws-0.45-0/blib/lib/Paws/S3.pm line 2.
t/s3/prefix.t ........................... ok
Paws::S3 is not stable / supported / entirely developed at /tmp/loop_over_bdir-1332029-LRIXJK/Paws-0.45-0/blib/lib/Paws/S3.pm line 2.
# $VAR1 = bless( {}, 'Paws::S3::ContinuationEvent' );
t/s3/selectcontent.t .................... ok
Paws::S3 is not stable / supported / entirely developed at /tmp/loop_over_bdir-1332029-LRIXJK/Paws-0.45-0/blib/lib/Paws/S3.pm line 2.
t/s3/uri_avoid_chars.t .................. ok
Paws::S3 is not stable / supported / entirely developed at /tmp/loop_over_bdir-1332029-LRIXJK/Paws-0.45-0/blib/lib/Paws/S3.pm line 2.
t/s3/uri_encoding.t ..................... ok
Paws::S3 is not stable / supported / entirely developed at /tmp/loop_over_bdir-1332029-LRIXJK/Paws-0.45-0/blib/lib/Paws/S3.pm line 2.
t/s3/uri_other_chars.t .................. ok
Paws::S3 is not stable / supported / entirely developed at /tmp/loop_over_bdir-1332029-LRIXJK/Paws-0.45-0/blib/lib/Paws/S3.pm line 2.
# PutBucketLifecycleConfiguration
# SelectObjectContent
t/s3/xml_creation.t ..................... ok
All tests successful.

Test Summary Report
-------------------
t/10_responses.t                      (Wstat: 0 Tests: 9900 Failed: 0)
  TODO passed:   6364, 6370, 7896, 9579, 9586, 9671, 9736
t/18_mocked.t                         (Wstat: 0 Tests: 4007 Failed: 0)
  TODO passed:   91-143, 145-154, 156-173, 175-222, 224-262
                264-322, 324-330
t/glacier/multipartupload.t           (Wstat: 0 Tests: 3 Failed: 0)
  TODO passed:   2-3
t/s3/content_headers.t                (Wstat: 0 Tests: 27 Failed: 0)
  TODO passed:   1-2, 4-7
t/s3/multipartupload.t                (Wstat: 0 Tests: 7 Failed: 0)
  TODO passed:   2-7
t/s3/prefix.t                         (Wstat: 0 Tests: 2 Failed: 0)
  TODO passed:   1-2
t/s3/xml_creation.t                   (Wstat: 0 Tests: 2 Failed: 0)
  TODO passed:   2
Files=38, Tests=15168, 339 wallclock secs ( 1.75 usr  0.51 sys + 232.78 cusr 21.69 csys = 256.73 CPU)
Result: PASS

------------------------------
PREREQUISITES
------------------------------

Prerequisite modules loaded:

requires:

    Module                     Need     Have    
    -------------------------- -------- --------
    ARGV::Struct               0        0.06    
    Config::AWS                0        0.10    
    Data::Compare              0        1.27    
    DataStruct::Flat           0        0.01    
    DateTime                   0        1.57    
    DateTime::Format::ISO8601  0        0.16    
    Digest::SHA                0        5.47    
    File::HomeDir              0        1.006   
    Getopt::Long               0        2.52    
    HTTP::Tiny                 0        0.080   
    IO::Socket::SSL            0        2.074   
    JSON::MaybeXS              0        1.004003
    Module::Find               0        0.15    
    Moose                      0        2.2201  
    MooseX::ClassAttribute     0        0.29    
    MooseX::Getopt             0        0.75    
    Net::Amazon::Signature::V4 0        0.21    
    Path::Tiny                 0.017    0.122   
    perl                       5.012001 5.012005
    String::CRC32              0        2.100   
    Throwable::Error           0        1.000   
    URI                        0        5.10    
    URI::Template              0.23     0.24    
    URL::Encode                0        0.03    
    URL::Encode::XS            0        0.03    
    XML::Simple                2.21     2.25    

build_requires:

    Module                     Need     Have    
    -------------------------- -------- --------
    Class::Unload              0        0.11    
    File::Slurper              0        0.013   
    Path::Class                0        0.37    
    Test::Exception            0        0.43    
    Test::More                 0        1.302190
    Test::Timer                0        2.12    
    Test::Warnings             0        0.031   
    YAML                       0        1.30    

configure_requires:

    Module                     Need     Have    
    -------------------------- -------- --------
    Module::Build::Tiny        0.034    0.039   

opt_requires:

    Module                     Need     Have    
    -------------------------- -------- --------
    Browser::Open              0        0.04    


------------------------------
ENVIRONMENT AND OTHER CONTEXT
------------------------------

Environment variables:

    AUTOMATED_TESTING = 1
    LANG = en_US.UTF-8
    LANGUAGE = en_US:en
    PATH = /home/sand/bin:/usr/local/bin:/usr/bin:/bin:/usr/games:/usr/local/perl/bin:/usr/X11/bin:/sbin:/usr/sbin
    PERL5LIB = 
    PERL5OPT = 
    PERL5_CPANPLUS_IS_RUNNING = 3849748
    PERL5_CPAN_IS_RUNNING = 3849748
    PERL_CANARY_STABILITY_NOPROMPT = 1
    PERL_MM_USE_DEFAULT = 1
    PERL_USE_UNSAFE_INC = 1
    SHELL = /usr/bin/zsh
    TERM = screen

Perl special variables (and OS-specific diagnostics, for MSWin32):

    $^X = /home/sand/src/perl/repoperls/installed-perls/host/k93msid/v5.12.5/fc43/bin/perl
    $UID/$EUID = 1005 / 1005
    $GID = 1005 1005
    $EGID = 1005 1005

Perl module toolchain versions installed:

    Module              Have    
    ------------------- --------
    CPAN                2.33    
    CPAN::Meta          2.150010
    Cwd                 3.75    
    ExtUtils::CBuilder  0.280236
    ExtUtils::Command   7.64    
    ExtUtils::Install   2.06    
    ExtUtils::MakeMaker 7.64    
    ExtUtils::Manifest  1.70    
    ExtUtils::ParseXS   3.44    
    File::Spec          3.75    
    JSON                4.06    
    JSON::PP            4.09    
    Module::Build       0.4231  
    Module::Signature   n/a     
    Parse::CPAN::Meta   2.150010
    Test::Harness       3.44    
    Test::More          1.302190
    YAML                1.30    
    YAML::Syck          1.34    
    version             0.9929  


--

Summary of my perl5 (revision 5 version 12 subversion 5) configuration:
  Derived from: 9a9cbd715960a905dcbc9166349a73a64a007e4e
  Platform:
    osname=linux, osvers=5.16.0-5-amd64, archname=x86_64-linux-ld
    uname='linux k93msid 5.16.0-5-amd64 #1 smp preempt debian 5.16.14-1 (2022-03-15) x86_64 gnulinux '
    config_args='-Dprefix=/home/sand/src/perl/repoperls/installed-perls/host/k93msid/v5.12.5/fc43 -Dmyhostname=k93msid -Dinstallusrbinperl=n -Uversiononly -Dusedevel -des -Ui_db -Dlibswanted=cl pthread socket inet nsl gdbm dbm malloc dl ld sun m crypt sec util c cposix posix ucb BSD gdbm_compat -Uuseithreads -Duselongdouble -DEBUGGING=both'
    hint=recommended, useposix=true, d_sigaction=define
    useithreads=undef, usemultiplicity=undef
    useperlio=define, d_sfio=undef, uselargefiles=define, usesocks=undef
    use64bitint=define, use64bitall=define, uselongdouble=define
    usemymalloc=n, bincompat5005=undef
  Compiler:
    cc='cc', ccflags ='-fwrapv -DDEBUGGING -fno-strict-aliasing -pipe -fstack-protector -I/usr/local/include -D_LARGEFILE_SOURCE -D_FILE_OFFSET_BITS=64',
    optimize='-O2 -g',
    cppflags='-fwrapv -DDEBUGGING -fno-strict-aliasing -pipe -fstack-protector -I/usr/local/include'
    ccversion='', gccversion='11.2.0', gccosandvers=''
    intsize=4, longsize=8, ptrsize=8, doublesize=8, byteorder=12345678
    d_longlong=define, longlongsize=8, d_longdbl=define, longdblsize=16
    ivtype='long', ivsize=8, nvtype='long double', nvsize=16, Off_t='off_t', lseeksize=8
    alignbytes=16, prototype=define
  Linker and Libraries:
    ld='cc', ldflags =' -fstack-protector -L/usr/local/lib'
    libpth=/usr/local/lib /lib/x86_64-linux-gnu /lib/../lib /usr/lib/x86_64-linux-gnu /usr/lib/../lib /lib /usr/lib
    libs=-lpthread -lnsl -ldl -lm -lcrypt -lutil -lc
    perllibs=-lpthread -lnsl -ldl -lm -lcrypt -lutil -lc
    libc=libc-2.33.so, so=so, useshrplib=false, libperl=libperl.a
    gnulibc_version='2.33'
  Dynamic Linking:
    dlsrc=dl_dlopen.xs, dlext=so, d_dlsymun=undef, ccdlflags='-Wl,-E'
    cccdlflags='-fPIC', lddlflags='-shared -O2 -g -L/usr/local/lib -fstack-protector'


Characteristics of this binary (from libperl): 
  Compile-time options: DEBUGGING PERL_DONT_CREATE_GVSV PERL_MALLOC_WRAP
                        PERL_USE_DEVEL USE_64_BIT_ALL USE_64_BIT_INT
                        USE_LARGE_FILES USE_LONG_DOUBLE USE_PERLIO
                        USE_PERL_ATOF
  Locally applied patches:
	uncommitted-changes
  Built under linux
  Compiled at Mar 18 2022 09:31:19
  %ENV:
    PERL5LIB=""
    PERL5OPT=""
    PERL5_CPANPLUS_IS_RUNNING="3849748"
    PERL5_CPAN_IS_RUNNING="3849748"
    PERL_CANARY_STABILITY_NOPROMPT="1"
    PERL_MM_USE_DEFAULT="1"
    PERL_USE_UNSAFE_INC="1"
  @INC:
    /home/sand/src/perl/repoperls/installed-perls/host/k93msid/v5.12.5/fc43/lib/site_perl/5.12.5/x86_64-linux-ld
    /home/sand/src/perl/repoperls/installed-perls/host/k93msid/v5.12.5/fc43/lib/site_perl/5.12.5
    /home/sand/src/perl/repoperls/installed-perls/host/k93msid/v5.12.5/fc43/lib/5.12.5/x86_64-linux-ld
    /home/sand/src/perl/repoperls/installed-perls/host/k93msid/v5.12.5/fc43/lib/5.12.5
    .