Qiime2-Reader v0.10.1 Perl 5 v5.31.8 x86_64-linux

Status
Pass
From
Slaven Rezić (SREZIC)
Dist
Qiime2-Reader v0.10.1
Platform
Perl 5 v5.31.8 x86_64-linux
Date
2020-01-24T11:29:05
ID
ba8720cc-3e9c-11ea-a021-cb4e1f24ea8f
This distribution has been tested as part of the CPAN Testers
project, supporting the Perl programming language.  See
http://wiki.cpantesters.org/ for more information or email
questions to cpan-testers-discuss@perl.org


--
Dear Andrea Telatin,

This is a computer-generated report for Qiime2-Reader-0.10.1
on perl 5.31.8, created by CPAN-Reporter-1.2018.

Thank you for uploading your work to CPAN.  Congratulations!
All tests were successful.

Sections of this report:

    * Tester comments
    * Program output
    * Prerequisites
    * Environment and other context

------------------------------
TESTER COMMENTS
------------------------------

Additional comments from tester:

none provided

------------------------------
PROGRAM OUTPUT
------------------------------

Output from '/usr/bin/make test':

PERL_DL_NONLAZY=1 "/opt/perl-5.31.8/bin/perl5.31.8" "-MExtUtils::Command::MM" "-MTest::Harness" "-e" "undef *Test::Harness::Switches; test_harness(0, 'blib/lib', 'blib/arch')" t/*.t
t/10_basic_test.t ................. ok
t/11_load.t ....................... ok
Not a valid artifact /home/cpansand/.cpan/build/2020012412/Qiime2-Reader-0.10.1-0/t/../data/bad_artifact.zip:
 [Qiime2::Reader ERROR]
 /home/cpansand/.cpan/build/2020012412/Qiime2-Reader-0.10.1-0/data/bad_artifact.zip is not a valid artifact:
  "{id}/directory/data" structure expected, found:
  "d27b6a68-5c6e-46d9-9866-7b4d46cca533/"
 ------------------------------------------------------------
t/11_not_a_valid_artifact.t ....... ok
Raise exception:
 [Qiime2::Reader ERROR]
 /home/cpansand/.cpan/build/2020012412/Qiime2-Reader-0.10.1-0/data/sample_metadata.tsv is not a ZIP file
 ------------------------------------------------------------
t/11_not_a_zip.t .................. ok
Not a valid artifact /home/cpansand/.cpan/build/2020012412/Qiime2-Reader-0.10.1-0/t/../data/non_artifact.zip:
 [Qiime2::Reader ERROR]
 /home/cpansand/.cpan/build/2020012412/Qiime2-Reader-0.10.1-0/data/non_artifact.zip is not a valid artifact:
  "{id}/directory/data" structure expected, found:
  "README.md"
 ------------------------------------------------------------
t/11_not_an_artifact.t ............ ok
t/release-00-pod.t ................ skipped: these tests are for release candidate testing
t/release-03-minimum-standards.t .. skipped: these tests are for release candidate testing
t/release-05-changes.t ............ skipped: these tests are for release candidate testing
All tests successful.
Files=8, Tests=10,  1 wallclock secs ( 0.04 usr  0.03 sys +  0.66 cusr  0.18 csys =  0.91 CPU)
Result: PASS

------------------------------
PREREQUISITES
------------------------------

Prerequisite modules loaded:

requires:

    Module              Need  Have    
    ------------------- ----- --------
    Capture::Tiny       0.48  0.48    
    Carp                1.2   1.50    
    Data::Dumper        2.1   2.174   
    FindBin             1.3   1.51    
    perl                5.018 5.031008
    YAML::PP            0.018 0.018   

build_requires:

    Module              Need  Have    
    ------------------- ----- --------
    ExtUtils::MakeMaker 0     7.44    

configure_requires:

    Module              Need  Have    
    ------------------- ----- --------
    Devel::CheckBin     0     0.04    
    ExtUtils::MakeMaker 0     7.44    


------------------------------
ENVIRONMENT AND OTHER CONTEXT
------------------------------

Environment variables:

    LANG = en_US.UTF-8
    PATH = /usr/local/bin:/usr/bin:/bin:/usr/local/sbin:/usr/sbin:/sbin:/home/cpansand/bin/linux-gnu:/home/cpansand/bin/sh:/home/cpansand/bin:/usr/games:/home/cpansand/devel:/home/eserte/src/srezic-misc/scripts
    PERL5LIB = /home/cpansand/.cpan/build/2020012412/YAML-PP-0.018-0/blib/arch:/home/cpansand/.cpan/build/2020012412/YAML-PP-0.018-0/blib/lib:/home/cpansand/.cpan/build/2020012412/Test-Warn-0.36-0/blib/arch:/home/cpansand/.cpan/build/2020012412/Test-Warn-0.36-0/blib/lib:/home/cpansand/.cpan/build/2020012412/Sub-Uplevel-0.2800-2/blib/arch:/home/cpansand/.cpan/build/2020012412/Sub-Uplevel-0.2800-2/blib/lib:/home/cpansand/.cpan/build/2020012412/Devel-CheckBin-0.04-0/blib/arch:/home/cpansand/.cpan/build/2020012412/Devel-CheckBin-0.04-0/blib/lib
    PERL5OPT = 
    PERL5_CPANPLUS_IS_RUNNING = 362722
    PERL5_CPAN_IS_RUNNING = 362722
    PERL5_CPAN_IS_RUNNING_IN_RECURSION = 351001,362722
    PERLDOC = -MPod::Perldoc::ToTextOverstrike
    PERL_BATCH = yes
    PERL_CANARY_STABILITY_NOPROMPT = 1
    PERL_CPAN_REPORTER_CONFIG = /var/tmp/cpansmoker-1023/2020012412/cpanreporter_000_config.ini
    PERL_EXTUTILS_AUTOINSTALL = --defaultdeps
    PERL_USE_UNSAFE_INC = 1
    SHELL = /usr/bin/zsh
    TERM = screen
    TMPDIR = /var/tmp/cpansmoker-1023/2020012412

Perl special variables (and OS-specific diagnostics, for MSWin32):

    $^X = /opt/perl-5.31.8/bin/perl5.31.8
    $UID/$EUID = 1023 / 1023
    $GID = 1023 1023
    $EGID = 1023 1023

Perl module toolchain versions installed:

    Module              Have    
    ------------------- --------
    CPAN                2.27    
    CPAN::Meta          2.150010
    Cwd                 3.78    
    ExtUtils::CBuilder  0.280233
    ExtUtils::Command   7.44    
    ExtUtils::Install   2.14    
    ExtUtils::MakeMaker 7.44    
    ExtUtils::Manifest  1.72    
    ExtUtils::ParseXS   3.40    
    File::Spec          3.78    
    JSON                n/a     
    JSON::PP            4.04    
    Module::Build       0.4229  
    Module::Signature   n/a     
    Parse::CPAN::Meta   2.150010
    Test::Harness       3.42    
    Test::More          1.302171
    YAML                1.29    
    YAML::Syck          1.31    
    version             0.9924  


--

Summary of my perl5 (revision 5 version 31 subversion 8) configuration:
   
  Platform:
    osname=linux
    osvers=5.4.10-200.fc31.x86_64
    archname=x86_64-linux
    uname='linux cloud4.bbbike.org 5.4.10-200.fc31.x86_64 #1 smp thu jan 9 19:58:12 utc 2020 x86_64 x86_64 x86_64 gnulinux '
    config_args='-ds -e -Dprefix=/opt/perl-5.31.8 -Dusedevel -Dusemallocwrap=no -Dcf_email=srezic@cpan.org'
    hint=recommended
    useposix=true
    d_sigaction=define
    useithreads=undef
    usemultiplicity=undef
    use64bitint=define
    use64bitall=define
    uselongdouble=undef
    usemymalloc=n
    default_inc_excludes_dot=define
    bincompat5005=undef
  Compiler:
    cc='cc'
    ccflags ='-fwrapv -fno-strict-aliasing -pipe -fstack-protector-strong -I/usr/local/include -D_LARGEFILE_SOURCE -D_FILE_OFFSET_BITS=64 -D_FORTIFY_SOURCE=2'
    optimize='-O2'
    cppflags='-fwrapv -fno-strict-aliasing -pipe -fstack-protector-strong -I/usr/local/include'
    ccversion=''
    gccversion='9.2.1 20190827 (Red Hat 9.2.1-1)'
    gccosandvers=''
    intsize=4
    longsize=8
    ptrsize=8
    doublesize=8
    byteorder=12345678
    doublekind=3
    d_longlong=define
    longlongsize=8
    d_longdbl=define
    longdblsize=16
    longdblkind=3
    ivtype='long'
    ivsize=8
    nvtype='double'
    nvsize=8
    Off_t='off_t'
    lseeksize=8
    alignbytes=8
    prototype=define
  Linker and Libraries:
    ld='cc'
    ldflags =' -fstack-protector-strong -L/usr/local/lib'
    libpth=/usr/local/lib /usr/lib /lib/../lib64 /usr/lib/../lib64 /lib /lib64 /usr/lib64 /usr/local/lib64
    libs=-lpthread -ldb -ldl -lm -lcrypt -lutil -lc
    perllibs=-lpthread -ldl -lm -lcrypt -lutil -lc
    libc=libc-2.30.so
    so=so
    useshrplib=false
    libperl=libperl.a
    gnulibc_version='2.30'
  Dynamic Linking:
    dlsrc=dl_dlopen.xs
    dlext=so
    d_dlsymun=undef
    ccdlflags='-Wl,-E'
    cccdlflags='-fPIC'
    lddlflags='-shared -O2 -L/usr/local/lib -fstack-protector-strong'


Characteristics of this binary (from libperl): 
  Compile-time options:
    HAS_TIMES
    PERLIO_LAYERS
    PERL_COPY_ON_WRITE
    PERL_DONT_CREATE_GVSV
    PERL_OP_PARENT
    PERL_PRESERVE_IVUV
    PERL_USE_DEVEL
    USE_64_BIT_ALL
    USE_64_BIT_INT
    USE_LARGE_FILES
    USE_LOCALE
    USE_LOCALE_COLLATE
    USE_LOCALE_CTYPE
    USE_LOCALE_NUMERIC
    USE_LOCALE_TIME
    USE_PERLIO
    USE_PERL_ATOF
  Built under linux
  Compiled at Jan 23 2020 19:26:57
  %ENV:
    PERL5LIB="/home/cpansand/.cpan/build/2020012412/YAML-PP-0.018-0/blib/arch:/home/cpansand/.cpan/build/2020012412/YAML-PP-0.018-0/blib/lib:/home/cpansand/.cpan/build/2020012412/Test-Warn-0.36-0/blib/arch:/home/cpansand/.cpan/build/2020012412/Test-Warn-0.36-0/blib/lib:/home/cpansand/.cpan/build/2020012412/Sub-Uplevel-0.2800-2/blib/arch:/home/cpansand/.cpan/build/2020012412/Sub-Uplevel-0.2800-2/blib/lib:/home/cpansand/.cpan/build/2020012412/Devel-CheckBin-0.04-0/blib/arch:/home/cpansand/.cpan/build/2020012412/Devel-CheckBin-0.04-0/blib/lib"
    PERL5OPT=""
    PERL5_CPANPLUS_IS_RUNNING="362722"
    PERL5_CPAN_IS_RUNNING="362722"
    PERL5_CPAN_IS_RUNNING_IN_RECURSION="351001,362722"
    PERLDOC="-MPod::Perldoc::ToTextOverstrike"
    PERL_BATCH="yes"
    PERL_CANARY_STABILITY_NOPROMPT="1"
    PERL_CPAN_REPORTER_CONFIG="/var/tmp/cpansmoker-1023/2020012412/cpanreporter_000_config.ini"
    PERL_EXTUTILS_AUTOINSTALL="--defaultdeps"
    PERL_USE_UNSAFE_INC="1"
  @INC:
    /home/cpansand/.cpan/build/2020012412/YAML-PP-0.018-0/blib/arch
    /home/cpansand/.cpan/build/2020012412/YAML-PP-0.018-0/blib/lib
    /home/cpansand/.cpan/build/2020012412/Test-Warn-0.36-0/blib/arch
    /home/cpansand/.cpan/build/2020012412/Test-Warn-0.36-0/blib/lib
    /home/cpansand/.cpan/build/2020012412/Sub-Uplevel-0.2800-2/blib/arch
    /home/cpansand/.cpan/build/2020012412/Sub-Uplevel-0.2800-2/blib/lib
    /home/cpansand/.cpan/build/2020012412/Devel-CheckBin-0.04-0/blib/arch
    /home/cpansand/.cpan/build/2020012412/Devel-CheckBin-0.04-0/blib/lib
    /opt/perl-5.31.8/lib/site_perl/5.31.8/x86_64-linux
    /opt/perl-5.31.8/lib/site_perl/5.31.8
    /opt/perl-5.31.8/lib/5.31.8/x86_64-linux
    /opt/perl-5.31.8/lib/5.31.8
    .