DateTime-Format-Strptime v1.75 Perl 5 v5.28.0 amd64-freebsd-thread-multi
- Status
- Pass
- From
- Carlos Guevara
- Dist
-
DateTime-Format-Strptime v1.75
- Platform
- Perl 5 v5.28.0 amd64-freebsd-thread-multi
- Date
- 2018-05-13 07:53:31
- ID
- ba91c42c-5682-11e8-b9fe-c20a344a716f
This distribution has been tested as part of the CPAN Testers
project, supporting the Perl programming language. See
http://wiki.cpantesters.org/ for more information or email
questions to cpan-testers-discuss@perl.org
--
Dear Dave Rolsky,
This is a computer-generated report for DateTime-Format-Strptime-1.75
on perl 5.28.0, created by CPAN-Reporter-1.2018.
Thank you for uploading your work to CPAN. Congratulations!
All tests were successful.
Sections of this report:
* Tester comments
* Program output
* Prerequisites
* Environment and other context
------------------------------
TESTER COMMENTS
------------------------------
Additional comments from tester:
none provided
------------------------------
PROGRAM OUTPUT
------------------------------
Output from '/usr/bin/make test':
PERL_DL_NONLAZY=1 "/usr/home/cpan/bin/perl-blead/bin/perl5.28.0" "-MExtUtils::Command::MM" "-MTest::Harness" "-e" "undef *Test::Harness::Switches; test_harness(0, 'blib/lib', 'blib/arch')" t/*.t
#
# Versions for all modules listed in MYMETA.json (including optional ones):
#
# === Configure Requires ===
#
# Module Want Have
# ------------------- ---- ----
# ExtUtils::MakeMaker any 7.34
#
# === Configure Suggests ===
#
# Module Want Have
# -------- ------- -------
# JSON::PP 2.27300 2.97001
#
# === Build Requires ===
#
# Module Want Have
# ------------------- ---- ----
# ExtUtils::MakeMaker any 7.34
#
# === Test Requires ===
#
# Module Want Have
# ------------------- ---- --------
# ExtUtils::MakeMaker any 7.34
# File::Spec any 3.74
# Test::Builder any 1.302136
# Test::Fatal any 0.014
# Test::More 0.96 1.302136
# Test::Warnings any 0.026
# lib any 0.64
# utf8 any 1.21
#
# === Test Recommends ===
#
# Module Want Have
# ---------- -------- --------
# CPAN::Meta 2.120900 2.150010
#
# === Runtime Requires ===
#
# Module Want Have
# --------------------------- ---- -----
# Carp any 1.50
# DateTime 1.00 1.48
# DateTime::Locale 1.05 1.20
# DateTime::Locale::Base any 1.20
# DateTime::Locale::FromData any 1.20
# DateTime::TimeZone 2.09 2.18
# Exporter any 5.73
# Package::DeprecationManager 0.15 0.17
# Params::ValidationCompiler any 0.27
# Specio 0.33 0.42
# Specio::Declare any 0.42
# Specio::Exporter any 0.42
# Specio::Library::Builtins any 0.42
# Specio::Library::String any 0.42
# Try::Tiny any 0.30
# constant any 1.33
# parent any 0.236
# strict any 1.11
# warnings any 1.42
#
t/00-report-prereqs.t ... ok
t/basic.t ............... ok
t/edge.t ................ ok
t/errors.t .............. ok
t/format-datetime.t ..... ok
t/format-with-locale.t .. ok
t/import.t .............. ok
t/locale-de.t ........... ok
t/locale-en.t ........... ok
t/locale-ga.t ........... ok
t/locale-pt.t ........... ok
t/locale-zh.t ........... ok
t/zones.t ............... ok
All tests successful.
Files=13, Tests=143, 13 wallclock secs ( 0.05 usr 0.57 sys + 2.60 cusr 8.63 csys = 11.85 CPU)
Result: PASS
------------------------------
PREREQUISITES
------------------------------
Prerequisite modules loaded:
requires:
Module Need Have
--------------------------- ---- --------
Carp 0 1.50
constant 0 1.33
DateTime 1.00 1.48
DateTime::Locale 1.05 1.20
DateTime::Locale::Base 0 1.20
DateTime::Locale::FromData 0 1.20
DateTime::TimeZone 2.09 2.18
Exporter 0 5.73
Package::DeprecationManager 0.15 0.17
Params::ValidationCompiler 0 0.27
parent 0 0.236
Specio 0.33 0.42
Specio::Declare 0 0.42
Specio::Exporter 0 0.42
Specio::Library::Builtins 0 0.42
Specio::Library::String 0 0.42
strict 0 1.11
Try::Tiny 0 0.30
warnings 0 1.42
build_requires:
Module Need Have
--------------------------- ---- --------
ExtUtils::MakeMaker 0 7.34
File::Spec 0 3.74
lib 0 0.64
Test::Builder 0 1.302136
Test::Fatal 0 0.014
Test::More 0.96 1.302136
Test::Warnings 0 0.026
utf8 0 1.21
configure_requires:
Module Need Have
--------------------------- ---- --------
ExtUtils::MakeMaker 0 7.34
------------------------------
ENVIRONMENT AND OTHER CONTEXT
------------------------------
Environment variables:
LC_ALL = C
NONINTERACTIVE_TESTING = 1
PATH = /home/cpan/bin/perl-blead/bin:/home/cpan/bin/perl-blead/bin:/home/cpan/bin:/sbin:/bin:/usr/sbin:/usr/bin:/usr/local/sbin:/usr/local/bin:/home/cpan/bin
PERL5LIB =
PERL5OPT =
PERL5_CPANPLUS_IS_RUNNING = 6087
PERL5_CPAN_IS_RUNNING = 6087
PERL_MM_USE_DEFAULT = 1
PERL_USE_UNSAFE_INC = 1
PERL_VERSION = blead
SHELL = /usr/local/bin/bash
TERM = screen
TMPDIR = /home/cpan/tmp
Perl special variables (and OS-specific diagnostics, for MSWin32):
$^X = /usr/home/cpan/bin/perl-blead/bin/perl5.28.0
$UID/$EUID = 1002 / 1002
$GID = 1002 1002
$EGID = 1002 1002
Perl module toolchain versions installed:
Module Have
------------------- --------
CPAN 2.20
CPAN::Meta 2.150010
Cwd 3.74
ExtUtils::CBuilder 0.280230
ExtUtils::Command 7.34
ExtUtils::Install 2.14
ExtUtils::MakeMaker 7.34
ExtUtils::Manifest 1.70
ExtUtils::ParseXS 3.39
File::Spec 3.74
JSON 2.97001
JSON::PP 2.97001
Module::Build 0.4224
Module::Signature n/a
Parse::CPAN::Meta 2.150010
Test::Harness 3.42
Test::More 1.302136
YAML 1.25
YAML::Syck n/a
version 0.9924
--
Summary of my perl5 (revision 5 version 28 subversion 0) configuration:
Commit id: 64a9c780950becebc7326a31d067801ec9b187a2
Platform:
osname=freebsd
osvers=12.0-current
archname=amd64-freebsd-thread-multi
uname='freebsd cjg-freebsd12 12.0-current freebsd 12.0-current #0 r333209: thu may 3 15:55:11 utc 2018 root@releng3.nyi.freebsd.org:usrobjusrsrcamd64.amd64sysgeneric amd64 '
config_args='-des -Dprefix=~/bin/perl-blead -Dscriptdir=~/bin/perl-blead/bin -Dusedevel -Duse64bitall -Duseithreads'
hint=recommended
useposix=true
d_sigaction=define
useithreads=define
usemultiplicity=define
use64bitint=define
use64bitall=define
uselongdouble=undef
usemymalloc=n
default_inc_excludes_dot=define
bincompat5005=undef
Compiler:
cc='cc'
ccflags ='-DHAS_FPSETMASK -DHAS_FLOATINGPOINT_H -fno-strict-aliasing -pipe -fstack-protector-strong -I/usr/local/include -D_FORTIFY_SOURCE=2'
optimize='-O2'
cppflags='-DHAS_FPSETMASK -DHAS_FLOATINGPOINT_H -fno-strict-aliasing -pipe -fstack-protector-strong -I/usr/local/include'
ccversion=''
gccversion='4.2.1 Compatible FreeBSD Clang 6.0.0 (tags/RELEASE_600/final 326565)'
gccosandvers=''
intsize=4
longsize=8
ptrsize=8
doublesize=8
byteorder=12345678
doublekind=3
d_longlong=define
longlongsize=8
d_longdbl=define
longdblsize=16
longdblkind=3
ivtype='long'
ivsize=8
nvtype='double'
nvsize=8
Off_t='off_t'
lseeksize=8
alignbytes=8
prototype=define
Linker and Libraries:
ld='cc'
ldflags ='-pthread -Wl,-E -fstack-protector-strong -L/usr/local/lib'
libpth=/usr/lib /usr/local/lib /usr/lib/clang/6.0.0/lib /usr/lib
libs=-lpthread -lgdbm -ldl -lm -lcrypt -lutil
perllibs=-lpthread -ldl -lm -lcrypt -lutil
libc=
so=so
useshrplib=false
libperl=libperl.a
gnulibc_version=''
Dynamic Linking:
dlsrc=dl_dlopen.xs
dlext=so
d_dlsymun=undef
ccdlflags=' '
cccdlflags='-DPIC -fPIC'
lddlflags='-shared -L/usr/local/lib -fstack-protector-strong'
Characteristics of this binary (from libperl):
Compile-time options:
HAS_TIMES
MULTIPLICITY
PERLIO_LAYERS
PERL_COPY_ON_WRITE
PERL_DONT_CREATE_GVSV
PERL_IMPLICIT_CONTEXT
PERL_MALLOC_WRAP
PERL_OP_PARENT
PERL_PRESERVE_IVUV
PERL_USE_DEVEL
USE_64_BIT_ALL
USE_64_BIT_INT
USE_ITHREADS
USE_LARGE_FILES
USE_LOCALE
USE_LOCALE_COLLATE
USE_LOCALE_CTYPE
USE_LOCALE_NUMERIC
USE_LOCALE_TIME
USE_PERLIO
USE_PERL_ATOF
USE_REENTRANT_API
Built under freebsd
Compiled at May 12 2018 22:22:42
%ENV:
PERL5LIB=""
PERL5OPT=""
PERL5_CPANPLUS_IS_RUNNING="6087"
PERL5_CPAN_IS_RUNNING="6087"
PERL_MM_USE_DEFAULT="1"
PERL_USE_UNSAFE_INC="1"
PERL_VERSION="blead"
@INC:
/home/cpan/bin/perl-blead/lib/site_perl/5.28.0/amd64-freebsd-thread-multi
/home/cpan/bin/perl-blead/lib/site_perl/5.28.0
/home/cpan/bin/perl-blead/lib/5.28.0/amd64-freebsd-thread-multi
/home/cpan/bin/perl-blead/lib/5.28.0
.