Math-GSL v0.40 Perl 5 v5.20.3 x86_64-linux-thread-multi
- Status
- Pass
- From
- Chris Williams (BINGOS)
- Dist
-
Math-GSL v0.40
- Platform
- Perl 5 v5.20.3 x86_64-linux-thread-multi
- Date
- 2019-12-01 13:16:04
- ID
- ba98c05a-143c-11ea-9066-e374b0ba08e8
This distribution has been tested as part of the CPAN Testers
project, supporting the Perl programming language. See
http://wiki.cpantesters.org/ for more information or email
questions to cpan-testers-discuss@perl.org
--
Dear Jonathan Leto,
This is a computer-generated error report created automatically by
CPANPLUS, version 0.9178. Testers personal comments may appear
at the end of this report.
Thank you for uploading your work to CPAN. Congratulations!
All tests were successful.
TEST RESULTS:
Below is the error stack from stage 'make test':
Processing 2.4 XS files, GSL 2.4 (via gsl-config) at /usr
Compiler = cc (Ubuntu 7.4.0-1ubuntu1~18.04.1) 7.4.0
Copyright (C) 2017 Free Software Foundation, Inc.
This is free software; see the source for copying conditions. There is NO
warranty; not even for MERCHANTABILITY or FITNESS FOR A PARTICULAR PURPOSE.
ccflags = -fPIC -I/usr/include -D_REENTRANT -D_GNU_SOURCE -fwrapv -fno-strict-aliasing -pipe -fstack-protector -I/usr/local/include -D_LARGEFILE_SOURCE -D_FILE_OFFSET_BITS=64 -Wall -Wno-sometimes-uninitialized -Wno-unused-function -Wno-unused-value -Wno-unused-function -Wno-unused-variable -Wno-gnu -g -fPIC -fno-omit-frame-pointer -I/usr/include
ldflags = -shared -L/usr/lib/x86_64-linux-gnu -lgsl -lgslcblas -lm -fPIC -fno-omit-frame-pointer
PERL5LIB = /home/cpan/pit/jail/owSts5zY3b/lib/perl5:/home/cpan/pit/thr/conf/perl-5.20.3/.cpanplus/5.20.3/build/CX_72j9fJN/Math-GSL-0.40/blib/lib:/home/cpan/pit/thr/conf/perl-5.20.3/.cpanplus/5.20.3/build/CX_72j9fJN/Math-GSL-0.40/blib/arch
LD_LIBRARY_PATH =
# Testing Math::GSL 0.40 with GSL 2.4 on x86_64-linux-thread-multi, Perl (/home/cpan/pit/thr/perl-5.20.3/bin/perl) 5.020003
t/00-load.t ........ ok
t/BLAS.t ........... ok
t/BSpline.t ........ ok
t/CBLAS.t .......... ok
t/CDF.t ............ ok
t/Chebyshev.t ...... ok
t/Combination.t .... ok
t/Complex.t ........ ok
t/Const.t .......... ok
t/DHT.t ............ ok
t/Deriv.t .......... ok
t/Diff.t ........... ok
t/Eigen.t .......... ok
t/Errno.t .......... ok
t/FFT.t ............ ok
t/Fit.t ............ ok
#
# Elements start differing at index 2, delta = 0.00099999999999989
# $x->[2] = 3
# $y->[2] = 3.001
#
# Elements start differing at index 2, delta = 9.99999998363421e-08
# $x->[2] = 3.0010001
# $y->[2] = 3.0010002
t/GSL.t ............ ok
t/Heapsort.t ....... ok
t/Histogram.t ...... ok
t/Histogram2D.t .... ok
t/IEEEUtils.t ...... ok
t/Integration.t .... ok
t/Interp.t ......... ok
t/Linalg.t ......... ok
t/Machine.t ........ ok
#
# Elements start differing at index 1, delta = 1
# $x->[1] = 3
# $y->[1] = 2
t/Matrix.t ......... ok
#
# Elements start differing at index 1, delta = 1
# $x->[1] = 3
# $y->[1] = 4
#
# Elements start differing at index 1, delta = 1
# $x->[1] = 3
# $y->[1] = 2
t/MatrixComplex.t .. ok
t/Min.t ............ ok
t/Monte.t .......... ok
t/Multifit.t ....... ok
t/Multilarge.t ..... ok
t/Multimin.t ....... ok
t/Multiroots.t ..... ok
t/Multiset.t ....... ok
This is the end at t/NTuple.t line 14.
t/NTuple.t ......... ok
t/ODEIV.t .......... ok
t/Permutation.t .... ok
t/Poly.t ........... ok
t/PowInt.t ......... ok
t/QRNG.t ........... ok
t/RNG.t ............ ok
t/Randist.t ........ ok
t/Roots.t .......... ok
t/Rstat.t .......... ok
# GSL version=2.4
# result->err: 2.2177780829017266e-19
# result->val: 0.99995460213129761
t/SF.t ............. ok
t/Siman.t .......... ok
t/Sort.t ........... ok
t/SparseMatrix.t ... ok
t/Spline.t ......... ok
t/Statistics.t ..... ok
t/Sum.t ............ ok
t/Sys.t ............ ok
#
# Elements start differing at index 0, delta = 9
# $x->[0] = 1
# $y->[0] = 10
#
# Elements start differing at index 0, delta = 9
# $x->[0] = 1
# $y->[0] = 10
t/Vector.t ......... ok
t/VectorComplex.t .. ok
t/Wavelet.t ........ ok
t/Wavelet2D.t ...... ok
All tests successful.
Test Summary Report
-------------------
t/SF.t (Wstat: 0 Tests: 1074 Failed: 0)
TODO passed: 22
Files=56, Tests=4177, 7 wallclock secs ( 0.51 usr 0.06 sys + 5.42 cusr 0.67 csys = 6.66 CPU)
Result: PASS
PREREQUISITES:
Here is a list of prerequisites you specified and versions we
managed to load:
Module Name Have Want
Math::Complex 1.59 0
Scalar::Util 1.53 0
Test::Class 0.50 0.12
Test::Exception 0.43 0.21
Test::More 1.302168 0
Test::Most 0.35 0.31
Test::Taint 1.08 1.06
parent 0.228 0
version 0.9924 0.77
Perl module toolchain versions installed:
Module Name Have
CPANPLUS 0.9178
CPANPLUS::Dist::Build 0.90
Cwd 3.75
ExtUtils::CBuilder 0.280231
ExtUtils::Command 7.38
ExtUtils::Install 2.14
ExtUtils::MakeMaker 7.38
ExtUtils::Manifest 1.72
ExtUtils::ParseXS 3.35
File::Spec 3.75
Module::Build 0.4229
Pod::Parser 1.62
Pod::Simple 3.28
Test2 1.302168
Test::Harness 3.42
Test::More 1.302168
version 0.9924
******************************** NOTE ********************************
The comments above are created mechanically, possibly without manual
checking by the sender. As there are many people performing automatic
tests on each upload to CPAN, it is likely that you will receive
identical messages about the same problem.
If you believe that the message is mistaken, please reply to the first
one with correction and/or additional informations, and do not take
it personally. We appreciate your patience. :)
**********************************************************************
Additional comments:
This report was machine-generated by CPANPLUS::Dist::YACSmoke 1.08.
Powered by minismokebox version 0.68
CPANPLUS is prefering Build.PL
------------------------------
ENVIRONMENT AND OTHER CONTEXT
------------------------------
Environment variables:
AUTOMATED_TESTING = 1
LANG = en_GB.UTF-8
LANGUAGE = en_GB:en
NONINTERACTIVE_TESTING = 1
PATH = /usr/local/sbin:/usr/local/bin:/usr/sbin:/usr/bin:/sbin:/bin:/usr/games:/usr/local/games:/snap/bin
PERL5LIB = /home/cpan/pit/jail/owSts5zY3b/lib/perl5:/home/cpan/pit/thr/conf/perl-5.20.3/.cpanplus/5.20.3/build/CX_72j9fJN/Math-GSL-0.40/blib/lib:/home/cpan/pit/thr/conf/perl-5.20.3/.cpanplus/5.20.3/build/CX_72j9fJN/Math-GSL-0.40/blib/arch
PERL5_CPANPLUS_IS_RUNNING = 24085
PERL5_CPANPLUS_IS_VERSION = 0.9178
PERL5_MINISMOKEBOX = 0.68
PERL5_YACSMOKE_BASE = /home/cpan/pit/thr/conf/perl-5.20.3
PERL_EXTUTILS_AUTOINSTALL = --defaultdeps
PERL_LOCAL_LIB_ROOT = /home/cpan/pit/jail/owSts5zY3b
PERL_MB_OPT = --install_base "/home/cpan/pit/jail/owSts5zY3b"
PERL_MM_OPT = INSTALL_BASE=/home/cpan/pit/jail/owSts5zY3b
PERL_MM_USE_DEFAULT = 1
PERL_USE_UNSAFE_INC = 1
SHELL = /bin/bash
TERM = screen
Perl special variables (and OS-specific diagnostics, for MSWin32):
Perl: $^X = /home/cpan/pit/thr/perl-5.20.3/bin/perl
UID: $< = 1001
EUID: $> = 1001
GID: $( = 1001 1001
EGID: $) = 1001 1001
-------------------------------
--
Summary of my perl5 (revision 5 version 20 subversion 3) configuration:
Platform:
osname=linux, osvers=4.15.0-54-generic, archname=x86_64-linux-thread-multi
uname='linux uchder 4.15.0-54-generic #58-ubuntu smp mon jun 24 10:55:24 utc 2019 x86_64 x86_64 x86_64 gnulinux '
config_args='-des -Dprefix=/home/cpan/pit/thr/perl-5.20.3 -Dusethreads'
hint=recommended, useposix=true, d_sigaction=define
useithreads=define, usemultiplicity=define
use64bitint=define, use64bitall=define, uselongdouble=undef
usemymalloc=n, bincompat5005=undef
Compiler:
cc='cc', ccflags ='-D_REENTRANT -D_GNU_SOURCE -fwrapv -fno-strict-aliasing -pipe -fstack-protector -I/usr/local/include -D_LARGEFILE_SOURCE -D_FILE_OFFSET_BITS=64',
optimize='-O2',
cppflags='-D_REENTRANT -D_GNU_SOURCE -fwrapv -fno-strict-aliasing -pipe -fstack-protector -I/usr/local/include'
ccversion='', gccversion='7.4.0', gccosandvers=''
intsize=4, longsize=8, ptrsize=8, doublesize=8, byteorder=12345678
d_longlong=define, longlongsize=8, d_longdbl=define, longdblsize=16
ivtype='long', ivsize=8, nvtype='double', nvsize=8, Off_t='off_t', lseeksize=8
alignbytes=8, prototype=define
Linker and Libraries:
ld='cc', ldflags =' -fstack-protector -L/usr/local/lib'
libpth=/usr/local/lib /usr/lib/gcc/x86_64-linux-gnu/7/include-fixed /usr/include/x86_64-linux-gnu /usr/lib /lib/x86_64-linux-gnu /lib/../lib /usr/lib/x86_64-linux-gnu /usr/lib/../lib /lib
libs=-lpthread -lnsl -lgdbm -ldl -lm -lcrypt -lutil -lc
perllibs=-lpthread -lnsl -ldl -lm -lcrypt -lutil -lc
libc=libc-2.27.so, so=so, useshrplib=false, libperl=libperl.a
gnulibc_version='2.27'
Dynamic Linking:
dlsrc=dl_dlopen.xs, dlext=so, d_dlsymun=undef, ccdlflags='-Wl,-E'
cccdlflags='-fPIC', lddlflags='-shared -O2 -L/usr/local/lib -fstack-protector'
Characteristics of this binary (from libperl):
Compile-time options: HAS_TIMES MULTIPLICITY PERLIO_LAYERS
PERL_DONT_CREATE_GVSV
PERL_HASH_FUNC_ONE_AT_A_TIME_HARD
PERL_IMPLICIT_CONTEXT PERL_MALLOC_WRAP
PERL_NEW_COPY_ON_WRITE PERL_PRESERVE_IVUV
USE_64_BIT_ALL USE_64_BIT_INT USE_ITHREADS
USE_LARGE_FILES USE_LOCALE USE_LOCALE_COLLATE
USE_LOCALE_CTYPE USE_LOCALE_NUMERIC USE_PERLIO
USE_PERL_ATOF USE_REENTRANT_API
Locally applied patches:
Devel::PatchPerl 1.64
Built under linux
Compiled at Jul 18 2019 23:09:04
%ENV:
PERL5LIB="/home/cpan/pit/jail/owSts5zY3b/lib/perl5:/home/cpan/pit/thr/conf/perl-5.20.3/.cpanplus/5.20.3/build/CX_72j9fJN/Math-GSL-0.40/blib/lib:/home/cpan/pit/thr/conf/perl-5.20.3/.cpanplus/5.20.3/build/CX_72j9fJN/Math-GSL-0.40/blib/arch"
PERL5_CPANPLUS_IS_RUNNING="24085"
PERL5_CPANPLUS_IS_VERSION="0.9178"
PERL5_MINISMOKEBOX="0.68"
PERL5_YACSMOKE_BASE="/home/cpan/pit/thr/conf/perl-5.20.3"
PERL_EXTUTILS_AUTOINSTALL="--defaultdeps"
PERL_LOCAL_LIB_ROOT="/home/cpan/pit/jail/owSts5zY3b"
PERL_MB_OPT="--install_base "/home/cpan/pit/jail/owSts5zY3b""
PERL_MM_OPT="INSTALL_BASE=/home/cpan/pit/jail/owSts5zY3b"
PERL_MM_USE_DEFAULT="1"
PERL_USE_UNSAFE_INC="1"
@INC:
/home/cpan/pit/jail/owSts5zY3b/lib/perl5/5.20.3/x86_64-linux-thread-multi
/home/cpan/pit/jail/owSts5zY3b/lib/perl5/5.20.3
/home/cpan/pit/jail/owSts5zY3b/lib/perl5/x86_64-linux-thread-multi
/home/cpan/pit/jail/owSts5zY3b/lib/perl5
/home/cpan/pit/thr/conf/perl-5.20.3/.cpanplus/5.20.3/build/CX_72j9fJN/Math-GSL-0.40/blib/lib
/home/cpan/pit/thr/conf/perl-5.20.3/.cpanplus/5.20.3/build/CX_72j9fJN/Math-GSL-0.40/blib/arch
/home/cpan/pit/thr/perl-5.20.3/lib/site_perl/5.20.3/x86_64-linux-thread-multi
/home/cpan/pit/thr/perl-5.20.3/lib/site_perl/5.20.3
/home/cpan/pit/thr/perl-5.20.3/lib/5.20.3/x86_64-linux-thread-multi
/home/cpan/pit/thr/perl-5.20.3/lib/5.20.3
.