Module-CPANTS-Analyse v1.02 Perl 5 v5.38.2 darwin-2level
- Status
- Pass
- From
- Roland van Ipenburg (IPENBURG)
- Dist
-
Module-CPANTS-Analyse v1.02
- Platform
- Perl 5 v5.38.2 darwin-2level
- Date
- 2024-01-03 22:45:01
- ID
- ba9a539c-aa89-11ee-a4c2-d5ad67576ef6
This distribution has been tested as part of the CPAN Testers
project, supporting the Perl programming language. See
http://wiki.cpantesters.org/ for more information or email
questions to cpan-testers-discuss@perl.org
--
Dear Kenichi Ishigaki,
This is a computer-generated report for Module-CPANTS-Analyse-1.02
on perl 5.38.2, created by CPAN-Reporter-1.2019.
Thank you for uploading your work to CPAN. Congratulations!
All tests were successful.
Sections of this report:
* Tester comments
* Program output
* Prerequisites
* Environment and other context
------------------------------
TESTER COMMENTS
------------------------------
Additional comments from tester:
none provided
------------------------------
PROGRAM OUTPUT
------------------------------
Output from '/usr/bin/make test':
PERL_DL_NONLAZY=1 "/opt/bin/perl" "-MExtUtils::Command::MM" "-MTest::Harness" "-e" "undef *Test::Harness::Switches; test_harness(0, 'blib/lib', 'blib/arch')" t/*.t t/*/*.t
t/00_load.t .............. ok
t/05_testdir.t ........... ok
t/05_testfile.t .......... ok
t/analyse/manifest.t ..... ok
t/analyse/pod.t .......... ok
t/analyse/uses.t ......... ok
t/older_test_kwalitee.t .. ok
t/x_cpants.t ............. ok
All tests successful.
Files=8, Tests=54, 14 wallclock secs ( 0.21 usr 0.10 sys + 10.16 cusr 2.51 csys = 12.98 CPU)
Result: PASS
------------------------------
PREREQUISITES
------------------------------
Prerequisite modules loaded:
requires:
Module Need Have
--------------------------------- -------- --------
Archive::Any::Lite 0.06 0.11
Archive::Tar 1.76 3.02
Array::Diff 0.04 0.09
Class::Accessor 0.19 0.51
CPAN::Meta::Validator 2.133380 2.150010
CPAN::Meta::YAML 0.008 0.018
Data::Binary 0 0.01
File::Find::Object v0.2.1 0.3.8
JSON::PP 0 4.16
List::Util 1.33 1.63
Module::Find 0 0.16
Parse::Distname 0 0.05
perl 5.008001 5.038002
Perl::PrereqScanner::NotQuiteLite 0.9901 0.9917
Software::License 0.103012 0.104005
Text::Balanced 0 2.06
version 0.73 0.9929
build_requires:
Module Need Have
--------------------------------- -------- --------
Cwd 0 3.89
ExtUtils::MakeMaker 0 7.70
Test::FailWarnings 0 0.008
Test::More 0.88 1.302194
configure_requires:
Module Need Have
--------------------------------- -------- --------
ExtUtils::MakeMaker::CPANfile 0.09 0.09
perl 5.008001 5.038002
------------------------------
ENVIRONMENT AND OTHER CONTEXT
------------------------------
Environment variables:
LANG = en_US.UTF-8
LC_ALL = en_US.UTF-8
NONINTERACTIVE_TESTING = 1
PATH = /Users/roland/perl5/bin:/opt/local/bin:/opt/local/sbin:/bin:/sbin:/usr/bin:/usr/sbin
PERL5LIB = /home/roland/.cpan/build/Readonly-2.05-0/blib/arch:/home/roland/.cpan/build/Readonly-2.05-0/blib/lib:/home/roland/.cpan/build/Module-Build-Tiny-0.047-0/blib/arch:/home/roland/.cpan/build/Module-Build-Tiny-0.047-0/blib/lib:/Users/roland/perl5/lib/perl5
PERL5OPT =
PERL5_CPANPLUS_IS_RUNNING = 17424
PERL5_CPAN_IS_RUNNING = 17424
PERL_LOCAL_LIB_ROOT = /Users/roland/perl5
PERL_MB_OPT = --install_base "/Users/roland/perl5"
PERL_MM_OPT = INSTALL_BASE=/Users/roland/perl5
PERL_MM_USE_DEFAULT = 1
PERL_USE_UNSAFE_INC = 1
SHELL = /bin/bash
TEMP = /var/tmp/
TERM = xterm-color
Perl special variables (and OS-specific diagnostics, for MSWin32):
$^X = /opt/bin/perl
$UID/$EUID = 502 / 502
$GID = 502 502 81 79 80
$EGID = 502 502 81 79 80
Perl module toolchain versions installed:
Module Have
------------------- --------
CPAN 2.36
CPAN::Meta 2.150010
Cwd 3.89
ExtUtils::CBuilder 0.280238
ExtUtils::Command 7.70
ExtUtils::Install 2.22
ExtUtils::MakeMaker 7.70
ExtUtils::Manifest 1.75
ExtUtils::ParseXS 3.44
File::Spec 3.88
JSON n/a
JSON::PP 4.16
Module::Build 0.4234
Module::Signature n/a
Parse::CPAN::Meta 2.150010
Test2 1.302194
Test::Harness 3.44
Test::More 1.302194
YAML n/a
YAML::Syck n/a
version 0.9929
--
Summary of my perl5 (revision 5 version 38 subversion 2) configuration:
Platform:
osname=darwin
osvers=8.11.0
archname=darwin-2level
uname='darwin queens.local 8.11.0 darwin kernel version 8.11.0: wed oct 10 18:26:00 pdt 2007; root:xnu-792.24.17~1release_ppc power macintosh powerpc '
config_args='-des -Dinc_version_list=none -Dcc=/opt/local/bin/gcc-mp-7'
hint=recommended
useposix=true
d_sigaction=define
useithreads=undef
usemultiplicity=undef
use64bitint=undef
use64bitall=undef
uselongdouble=undef
usemymalloc=n
default_inc_excludes_dot=define
Compiler:
cc='/opt/local/bin/gcc-mp-7'
ccflags ='-fno-common -DPERL_DARWIN -fwrapv -fno-strict-aliasing -pipe -fstack-protector-strong -I/opt/local/include -D_FORTIFY_SOURCE=2'
optimize='-O3'
cppflags='-fno-common -DPERL_DARWIN -fwrapv -fno-strict-aliasing -pipe -fstack-protector-strong -I/opt/local/include'
ccversion=''
gccversion='7.5.0'
gccosandvers=''
intsize=4
longsize=4
ptrsize=4
doublesize=8
byteorder=4321
doublekind=4
d_longlong=define
longlongsize=8
d_longdbl=define
longdblsize=16
longdblkind=6
ivtype='long'
ivsize=4
nvtype='double'
nvsize=8
Off_t='off_t'
lseeksize=8
alignbytes=8
prototype=define
Linker and Libraries:
ld='env MACOSX_DEPLOYMENT_TARGET=10.3 /opt/local/bin/gcc-mp-7'
ldflags =' -fstack-protector-strong -L/opt/local/lib -L/opt/local/lib/libgcc'
libpth=/opt/local/lib /usr/lib /opt/local/lib/libgcc
libs=-lpthread -lgdbm -ldbm -ldl -lm -lc
perllibs=-lpthread -ldl -lm -lc
libc=
so=dylib
useshrplib=false
libperl=libperl.a
gnulibc_version=''
Dynamic Linking:
dlsrc=dl_dlopen.xs
dlext=bundle
d_dlsymun=undef
ccdlflags=' '
cccdlflags=' '
lddlflags=' -bundle -undefined dynamic_lookup -L/opt/local/lib -L/opt/local/lib/libgcc -fstack-protector-strong'
Characteristics of this binary (from libperl):
Compile-time options:
HAS_LONG_DOUBLE
HAS_STRTOLD
HAS_TIMES
PERLIO_LAYERS
PERL_COPY_ON_WRITE
PERL_DONT_CREATE_GVSV
PERL_HASH_FUNC_ZAPHOD32
PERL_HASH_USE_SBOX32
PERL_MALLOC_WRAP
PERL_OP_PARENT
PERL_PRESERVE_IVUV
PERL_USE_SAFE_PUTENV
USE_LARGE_FILES
USE_LOCALE
USE_LOCALE_COLLATE
USE_LOCALE_CTYPE
USE_LOCALE_NUMERIC
USE_LOCALE_TIME
USE_PERLIO
USE_PERL_ATOF
Built under darwin
Compiled at Jan 3 2024 14:33:33
%ENV:
PERL5LIB="/home/roland/.cpan/build/Readonly-2.05-0/blib/arch:/home/roland/.cpan/build/Readonly-2.05-0/blib/lib:/home/roland/.cpan/build/Module-Build-Tiny-0.047-0/blib/arch:/home/roland/.cpan/build/Module-Build-Tiny-0.047-0/blib/lib:/Users/roland/perl5/lib/perl5"
PERL5OPT=""
PERL5_CPANPLUS_IS_RUNNING="17424"
PERL5_CPAN_IS_RUNNING="17424"
PERL_LOCAL_LIB_ROOT="/Users/roland/perl5"
PERL_MB_OPT="--install_base "/Users/roland/perl5""
PERL_MM_OPT="INSTALL_BASE=/Users/roland/perl5"
PERL_MM_USE_DEFAULT="1"
PERL_USE_UNSAFE_INC="1"
@INC:
/home/roland/.cpan/build/Readonly-2.05-0/blib/arch
/home/roland/.cpan/build/Readonly-2.05-0/blib/lib
/home/roland/.cpan/build/Module-Build-Tiny-0.047-0/blib/arch
/home/roland/.cpan/build/Module-Build-Tiny-0.047-0/blib/lib
/Users/roland/perl5/lib/perl5/darwin-2level
/Users/roland/perl5/lib/perl5
/opt/lib/perl5/site_perl/5.38.2/darwin-2level
/opt/lib/perl5/site_perl/5.38.2
/opt/lib/perl5/5.38.2/darwin-2level
/opt/lib/perl5/5.38.2
.