Dist-Zilla-PluginBundle-Author-Celogeek v1.1 Perl 5 v5.41.1 i86pc-solaris-64

Status
Pass
From
Carlos Guevara
Dist
Dist-Zilla-PluginBundle-Author-Celogeek v1.1
Platform
Perl 5 v5.41.1 i86pc-solaris-64
Date
2024-06-20 04:15:29
ID
bac13c44-2ebb-11ef-a9c7-a0a4cd8acba1
This distribution has been tested as part of the CPAN Testers
project, supporting the Perl programming language.  See
http://wiki.cpantesters.org/ for more information or email
questions to cpan-testers-discuss@perl.org


--
Dear celogeek,

This is a computer-generated report for Dist-Zilla-PluginBundle-Author-Celogeek-1.1
on perl 5.41.1, created by CPAN-Reporter-1.2019.

Thank you for uploading your work to CPAN.  Congratulations!
All tests were successful.

Sections of this report:

    * Tester comments
    * Program output
    * Prerequisites
    * Environment and other context

------------------------------
TESTER COMMENTS
------------------------------

Additional comments from tester:

this report is from an automated smoke testing program
and was not reviewed by a human for accuracy

------------------------------
PROGRAM OUTPUT
------------------------------

Output from './Build test':

t/00-compile.t ............ ok
# Testing with Perl 5.041001, /export/home/cpan/bin/perl/bin/perl5.41.1
#     Carp version is 1.54
#     Class::MOP version is 2.2207
#     Dist::Zilla::App::Command::cover version is 1.101001
#     Dist::Zilla::Plugin::AutoPrereqs version is 6.032
#     Dist::Zilla::Plugin::CheckChangeLog version is 0.05
#     Dist::Zilla::Plugin::Git::NextVersion version is 2.051
#     Dist::Zilla::Plugin::MetaConfig version is 6.032
#     Dist::Zilla::Plugin::MetaJSON version is 6.032
#     Dist::Zilla::Plugin::MetaResourcesFromGit version is 1.103620
#     Dist::Zilla::Plugin::MinimumPerl version is 1.006
#     Dist::Zilla::Plugin::ModuleBuild version is 6.032
#     Dist::Zilla::Plugin::NextRelease version is 6.032
#     Dist::Zilla::Plugin::OurPkgVersion version is 0.21
#     Dist::Zilla::Plugin::PerlTidy version is 0.21
#     Dist::Zilla::Plugin::PodCoverageTests version is 6.032
#     Dist::Zilla::Plugin::PodWeaver version is 4.010
#     Dist::Zilla::Plugin::Prepender version is 2.004
#     Dist::Zilla::Plugin::Prereqs version is 6.032
#     Dist::Zilla::Plugin::PruneFiles version is 6.032
#     Dist::Zilla::Plugin::ReadmeMarkdownFromPod version is 0.141140
#     Dist::Zilla::Plugin::ReportVersions version is 1.110730
#     Dist::Zilla::Plugin::Run::BeforeRelease version is 0.050
#     Dist::Zilla::Plugin::Test::Compile version is 2.058
#     Dist::Zilla::Plugin::Test::Perl::Critic version is 3.001
#     Dist::Zilla::Plugin::Test::UnusedVars version is 2.001001
#     Dist::Zilla::PluginBundle::Filter version is 6.032
#     Dist::Zilla::PluginBundle::Git version is 2.051
#     Dist::Zilla::Role::PluginBundle::Easy version is 6.032
#     Dist::Zilla::Role::PluginBundle::PluginRemover version is 0.105
#     File::Spec version is 3.90
#     IO::All version is 0.87
#     IO::Handle version is 1.55
#     IPC::Open3 version is 1.22
#     Module::Build version is 0.4234
#     Moose version is 2.2207
#     Pod::Coverage::TrustPod version is 0.100006
#     Pod::Weaver::Config::Assembler version is 4.020
#     Scalar::Util version is 1.63
#     Test::More version is 1.302199
#     Test::Perl::Critic version is 1.04
#     namespace::autoclean version is 0.29
#     strict version is 1.13
#     warnings version is 1.70
t/000-report-versions.t ... ok
t/author-critic.t ......... skipped: these tests are for testing by the author
t/release-pod-coverage.t .. skipped: these tests are for release candidate testing
t/release-unused-vars.t ... skipped: these tests are for release candidate testing
All tests successful.
Files=5, Tests=45,  3 wallclock secs ( 0.03 usr  0.02 sys +  2.09 cusr  0.29 csys =  2.43 CPU)
Result: PASS

------------------------------
PREREQUISITES
------------------------------

Prerequisite modules loaded:

requires:

    Module                                         Need   Have    
    ---------------------------------------------- ------ --------
    Class::MOP                                     0      2.2207  
    Devel::Cover                                   0      1.44    
    Dist::Zilla::App::Command::cover               0      1.101001
    Dist::Zilla::Plugin::AutoPrereqs               0      6.032   
    Dist::Zilla::Plugin::CheckChangeLog            0      0.05    
    Dist::Zilla::Plugin::Git::NextVersion          0      2.051   
    Dist::Zilla::Plugin::MetaConfig                0      6.032   
    Dist::Zilla::Plugin::MetaJSON                  0      6.032   
    Dist::Zilla::Plugin::MetaResourcesFromGit      0      1.103620
    Dist::Zilla::Plugin::MinimumPerl               0      1.006   
    Dist::Zilla::Plugin::ModuleBuild               0      6.032   
    Dist::Zilla::Plugin::NextRelease               0      6.032   
    Dist::Zilla::Plugin::OurPkgVersion             0      0.21    
    Dist::Zilla::Plugin::PerlTidy                  0      0.21    
    Dist::Zilla::Plugin::PodCoverageTests          0      6.032   
    Dist::Zilla::Plugin::PodWeaver                 0      4.010   
    Dist::Zilla::Plugin::Prepender                 0      2.004   
    Dist::Zilla::Plugin::Prereqs                   0      6.032   
    Dist::Zilla::Plugin::PruneFiles                0      6.032   
    Dist::Zilla::Plugin::ReadmeMarkdownFromPod     0      0.141140
    Dist::Zilla::Plugin::ReportVersions            0      1.110730
    Dist::Zilla::Plugin::Run::BeforeRelease        0      0.050   
    Dist::Zilla::Plugin::Test::Compile             0      2.058   
    Dist::Zilla::Plugin::Test::Perl::Critic        0      3.001   
    Dist::Zilla::Plugin::Test::UnusedVars          0      2.001001
    Dist::Zilla::PluginBundle::Filter              0      6.032   
    Dist::Zilla::PluginBundle::Git                 0      2.051   
    Dist::Zilla::Role::PluginBundle::Easy          0      6.032   
    Dist::Zilla::Role::PluginBundle::PluginRemover 0      0.105   
    IO::All                                        0.45   0.87    
    Moose                                          0      2.2207  
    namespace::autoclean                           0      0.29    
    perl                                           5.006  5.041001
    Pod::Coverage::TrustPod                        0      0.100006
    Pod::Weaver::Config::Assembler                 0      4.020   
    strict                                         0      1.13    
    Test::Perl::Critic                             0      1.04    
    Test::Pod::Coverage                            1.08   1.10    
    warnings                                       0      1.70    

build_requires:

    Module                                         Need   Have    
    ---------------------------------------------- ------ --------
    Carp                                           0      1.54    
    File::Spec                                     0      3.90    
    IO::Handle                                     0      1.55    
    IPC::Open3                                     0      1.22    
    Module::Build                                  0.3601 0.4234  
    perl                                           5.006  5.041001
    Scalar::Util                                   0      1.63    
    Test::More                                     0.94   1.302199

configure_requires:

    Module                                         Need   Have    
    ---------------------------------------------- ------ --------
    Module::Build                                  0.3601 0.4234  


------------------------------
ENVIRONMENT AND OTHER CONTEXT
------------------------------

Environment variables:

    AUTOMATED_TESTING = 1
    DATE_MANIP_TEST_DM5 = 1
    LANG = en_US.UTF-8
    LC_ALL = C
    NONINTERACTIVE_TESTING = 1
    NO_NETWORK_TESTING = 1
    PATH = /export/home/cpan/bin/perl/bin:/usr/bin:/usr/sbin:/sbin:/opt/ooce/bin:/usr/gnu/bin
    PERL5LIB = 
    PERL5OPT = 
    PERL5_CPANPLUS_IS_RUNNING = 1076
    PERL5_CPAN_IS_RUNNING = 1076
    PERL_MM_USE_DEFAULT = 1
    PERL_USE_UNSAFE_INC = 1
    SHELL = /bin/bash
    TERM = screen

Perl special variables (and OS-specific diagnostics, for MSWin32):

    $^X = /export/home/cpan/bin/perl/bin/perl5.41.1
    $UID/$EUID = 101 / 101
    $GID = 1 1
    $EGID = 1 1

Perl module toolchain versions installed:

    Module              Have    
    ------------------- --------
    CPAN                2.36    
    CPAN::Meta          2.150010
    Cwd                 3.90    
    ExtUtils::CBuilder  0.280240
    ExtUtils::Command   7.70    
    ExtUtils::Install   2.22    
    ExtUtils::MakeMaker 7.70    
    ExtUtils::Manifest  1.75    
    ExtUtils::ParseXS   3.51    
    File::Spec          3.90    
    JSON                4.10    
    JSON::PP            4.16    
    Module::Build       0.4234  
    Module::Signature   0.88    
    Parse::CPAN::Meta   2.150010
    Test2               1.302199
    Test::Harness       3.48    
    Test::More          1.302199
    YAML                1.31    
    YAML::Syck          1.34    
    version             0.9932  


--

Summary of my perl5 (revision 5 version 41 subversion 1) configuration:
  Commit id: ff08b60388eeb280c87397a1b4003c604a0a8f7b
  Platform:
    osname=solaris
    osvers=2.11
    archname=i86pc-solaris-64
    uname='sunos cjg-omniosce 5.11 omnios-r151050-49db1c0a0fe i86pc i386 i86pc '
    config_args='-des -Dprefix=/export/home/cpan/bin/perl -Dscriptdir=/export/home/cpan/bin/perl/bin -Dusedevel -Duse64bitall -Dcc=gcc'
    hint=recommended
    useposix=true
    d_sigaction=define
    useithreads=undef
    usemultiplicity=undef
    use64bitint=define
    use64bitall=define
    uselongdouble=undef
    usemymalloc=n
    default_inc_excludes_dot=define
  Compiler:
    cc='gcc'
    ccflags ='-m64 -fwrapv -fno-strict-aliasing -pipe -fstack-protector-strong -D_LARGEFILE_SOURCE -D_FILE_OFFSET_BITS=64 -D_FORTIFY_SOURCE=2'
    optimize='-O'
    cppflags='-m64 -fwrapv -fno-strict-aliasing -pipe -fstack-protector-strong'
    ccversion=''
    gccversion='13.2.0'
    gccosandvers=''
    intsize=4
    longsize=8
    ptrsize=8
    doublesize=8
    byteorder=12345678
    doublekind=3
    d_longlong=define
    longlongsize=8
    d_longdbl=define
    longdblsize=16
    longdblkind=3
    ivtype='long'
    ivsize=8
    nvtype='double'
    nvsize=8
    Off_t='off_t'
    lseeksize=8
    alignbytes=8
    prototype=define
  Linker and Libraries:
    ld='gcc'
    ldflags =' -m64 -fstack-protector-strong -L/usr/gnu/lib '
    libpth=/opt/gcc-13/lib /usr/lib /usr/gnu/lib /usr/ccs/lib
    libs=-lpthread -lsocket -lnsl -ldl -lm -lc
    perllibs=-lpthread -lsocket -lnsl -ldl -lm -lc
    libc=/lib/libc.so
    so=so
    useshrplib=true
    libperl=libperl.so
    gnulibc_version=''
  Dynamic Linking:
    dlsrc=dl_dlopen.xs
    dlext=so
    d_dlsymun=undef
    ccdlflags='  -R /export/home/cpan/bin/perl/lib/5.41.1/i86pc-solaris-64/CORE'
    cccdlflags='-fPIC'
    lddlflags=' -shared -m64 -L/usr/gnu/lib -fstack-protector-strong'


Characteristics of this binary (from libperl): 
  Compile-time options:
    HAS_LONG_DOUBLE
    HAS_STRTOLD
    HAS_TIMES
    PERLIO_LAYERS
    PERL_COPY_ON_WRITE
    PERL_DONT_CREATE_GVSV
    PERL_HASH_FUNC_SIPHASH13
    PERL_HASH_USE_SBOX32
    PERL_MALLOC_WRAP
    PERL_OP_PARENT
    PERL_PRESERVE_IVUV
    PERL_USE_DEVEL
    PERL_USE_SAFE_PUTENV
    USE_64_BIT_ALL
    USE_64_BIT_INT
    USE_LARGE_FILES
    USE_LOCALE
    USE_LOCALE_COLLATE
    USE_LOCALE_CTYPE
    USE_LOCALE_NUMERIC
    USE_LOCALE_TIME
    USE_PERLIO
    USE_PERL_ATOF
  Built under solaris
  Compiled at Jun 19 2024 10:46:17
  %ENV:
    PERL5LIB=""
    PERL5OPT=""
    PERL5_CPANPLUS_IS_RUNNING="1076"
    PERL5_CPAN_IS_RUNNING="1076"
    PERL_MM_USE_DEFAULT="1"
    PERL_USE_UNSAFE_INC="1"
  @INC:
    /export/home/cpan/bin/perl/lib/site_perl/5.41.1/i86pc-solaris-64
    /export/home/cpan/bin/perl/lib/site_perl/5.41.1
    /export/home/cpan/bin/perl/lib/5.41.1/i86pc-solaris-64
    /export/home/cpan/bin/perl/lib/5.41.1
    .