ExtUtils-MakeMaker v7.74 Perl 5 v5.41.5 armv7l-linux
- Status
- Pass
- From
- Nigel Horne
- Dist
-
ExtUtils-MakeMaker v7.74
- Platform
- Perl 5 v5.41.5 armv7l-linux
- Date
- 2025-05-13 05:25:49
- ID
- bae3f602-2fba-11f0-ab24-eac26f3ae09c
This distribution has been tested as part of the CPAN Testers
project, supporting the Perl programming language. See
http://wiki.cpantesters.org/ for more information or email
questions to cpan-testers-discuss@perl.org
--
Dear Chris Williams,
This is a computer-generated report for ExtUtils-MakeMaker-7.74
on perl 5.41.5, created by CPAN-Reporter-1.2020.
Thank you for uploading your work to CPAN. Congratulations!
All tests were successful.
Sections of this report:
* Tester comments
* Program output
* Prerequisites
* Environment and other context
------------------------------
TESTER COMMENTS
------------------------------
Additional comments from tester:
none provided
------------------------------
PROGRAM OUTPUT
------------------------------
Output from '/usr/bin/make test':
PERL_DL_NONLAZY=1 "/nas/home/pi4/njh/perl5/perlbrew/perls/perl-5.41.5/bin/perl5.41.5" "-Iblib/arch" "-Iblib/lib" "-MExtUtils::Command::MM" "-MTest::Harness" "-e" "undef *Test::Harness::Switches; test_harness(0, 'blib/lib', 'blib/arch')" t/*.t
t/01perl_bugs.t ........... ok
t/04-xs-rpath-darwin.t .... skipped: Not darwin platform
t/00compile.t ............. ok
t/arch_check.t ............ ok
t/backwards.t ............. ok
t/03-xsstatic.t ........... skipped: Skipped when not PERL_CORE nor in git repo
t/cd.t .................... ok
t/config.t ................ ok
t/cp.t .................... ok
t/dir_target.t ............ ok
t/echo.t .................. ok
t/build_man.t ............. ok
t/FIRST_MAKEFILE.t ........ ok
t/fix_libs.t .............. ok
t/fixin.t ................. ok
t/eu_command.t ............ ok
t/hints.t ................. ok
t/INST.t .................. ok
t/INST_PREFIX.t ........... ok
t/installed_file.t ........ ok
t/is_of_type.t ............ ok
t/Liblist.t ............... ok
t/Liblist_Kid.t ........... ok
t/make.t .................. ok
t/MakeMaker_Parameters.t .. ok
t/maketext_filter.t ....... ok
t/meta_convert.t .......... ok
t/metafile_data.t ......... ok
t/metafile_file.t ......... ok
t/INSTALL_BASE.t .......... ok
t/miniperl.t .............. skipped: miniperl test only necessary for the perl core
t/min_perl_version.t ...... ok
t/Mkbootstrap.t ........... ok
t/MM_BeOS.t ............... skipped: This is not BeOS
t/MM_Cygwin.t ............. skipped: This is not cygwin
t/MM_NW5.t ................ skipped: This is not NW5
t/MM_OS2.t ................ skipped: This is not OS/2
t/MM_Any.t ................ ok
t/MM_VMS.t ................ skipped: This is not VMS
t/MM_Win32.t .............. skipped: This is not Win32
t/MM_Unix.t ............... ok
t/os_unsupported.t ........ ok
t/oneliner.t .............. ok
t/parse_abstract.t ........ ok
t/parse_version.t ......... ok
t/pm.t .................... ok
t/PL_FILES.t .............. ok
t/pod2man.t ............... ok
t/postamble.t ............. ok
t/prefixify.t ............. ok
t/prereq.t ................ ok
t/prereq_print.t .......... ok
t/problems.t .............. ok
t/prompt.t ................ ok
t/rec_att_keys.t .......... ok
t/pm_to_blib.t ............ ok
t/revision.t .............. ok
t/basic.t ................. ok
t/split_command.t ......... ok
t/test_boilerplate.t ...... ok
t/testlib.t ............... ok
t/several_authors.t ....... ok
t/VERSION_FROM.t .......... ok
t/recurs.t ................ ok
t/unicode.t ............... ok
t/WriteEmptyMakefile.t .... ok
t/vstrings.t .............. ok
t/writemakefile_args.t .... ok
t/02-xsdynamic.t .......... ok
All tests successful.
Files=69, Tests=1437, 74 wallclock secs ( 0.80 usr 0.34 sys + 129.81 cusr 22.54 csys = 153.49 CPU)
Result: PASS
------------------------------
PREREQUISITES
------------------------------
Prerequisite modules loaded:
requires:
Module Need Have
-------------- ----- --------
Data::Dumper 0 2.190
Encode 0 3.21
File::Basename 0 2.86
File::Spec 0.8 3.93
perl 5.006 5.041005
Pod::Man 0 v6.0.2
------------------------------
ENVIRONMENT AND OTHER CONTEXT
------------------------------
Environment variables:
HARNESS_OPTIONS = c:j4
LANG = en_US.UTF-8
PATH = /home/njh/perl5/perlbrew/bin:/home/njh/perl5/perlbrew/perls/perl-5.41.5/bin:/home/njh/perl5/perlbrew/bin:/usr/bin:/bin
PERL5LIB =
PERL5OPT =
PERL5_CPANPLUS_IS_RUNNING = 5101
PERL5_CPAN_IS_RUNNING = 5101
PERLBREW_HOME = /home/njh/.perlbrew
PERLBREW_LIB =
PERLBREW_MANPATH = /home/njh/perl5/perlbrew/perls/perl-5.41.5/man
PERLBREW_PATH = /home/njh/perl5/perlbrew/bin:/home/njh/perl5/perlbrew/perls/perl-5.41.5/bin
PERLBREW_PERL = perl-5.41.5
PERLBREW_ROOT = /home/njh/perl5/perlbrew
PERLBREW_SHELLRC_VERSION = 1.01
PERLBREW_VERSION = 1.01
PERL_LOCAL_LIB_ROOT =
PERL_USE_UNSAFE_INC = 1
SHELL = /bin/sh
TEMP = /tmp/user/1000
TMPDIR = /tmp/user/1000
Perl special variables (and OS-specific diagnostics, for MSWin32):
$^X = /nas/home/pi4/njh/perl5/perlbrew/perls/perl-5.41.5/bin/perl5.41.5
$UID/$EUID = 1000 / 1000
$GID = 1000 4 20 24 25 27 29 30 44 46 60 100 105 109 995 997 998 999 1000
$EGID = 1000 4 20 24 25 27 29 30 44 46 60 100 105 109 995 997 998 999 1000
Perl module toolchain versions installed:
Module Have
------------------- --------
CPAN 2.38
CPAN::Meta 2.150010
Cwd 3.92
ExtUtils::CBuilder 0.280240
ExtUtils::Command 7.70
ExtUtils::Install 2.22
ExtUtils::MakeMaker 7.70
ExtUtils::Manifest 1.75
ExtUtils::ParseXS 3.55
File::Spec 3.93
JSON n/a
JSON::PP 4.16
Module::Build 0.4234
Module::Signature n/a
Parse::CPAN::Meta 2.150010
Test2 1.302207
Test::Harness 3.50
Test::More 1.302207
YAML n/a
YAML::Syck n/a
version 0.9933
--
Summary of my perl5 (revision 5 version 41 subversion 5) configuration:
Platform:
osname=linux
osvers=5.10.103-v7l+
archname=armv7l-linux
uname='linux pi4 5.10.103-v7l+ #1529 smp tue mar 8 12:24:00 gmt 2022 armv7l gnulinux '
config_args='-de -Dprefix=/home/njh/perl5/perlbrew/perls/perl-5.41.5 -Dusedevel -Dusedevel -Accflags= -Aeval:scriptdir=/home/njh/perl5/perlbrew/perls/perl-5.41.5/bin'
hint=recommended
useposix=true
d_sigaction=define
useithreads=undef
usemultiplicity=undef
use64bitint=undef
use64bitall=undef
uselongdouble=undef
usemymalloc=n
default_inc_excludes_dot=define
Compiler:
cc='cc'
ccflags ='-fwrapv -fno-strict-aliasing -pipe -fstack-protector-strong -I/usr/local/include -D_LARGEFILE_SOURCE -D_FILE_OFFSET_BITS=64 -D_FORTIFY_SOURCE=2'
optimize='-O2'
cppflags='-fwrapv -fno-strict-aliasing -pipe -fstack-protector-strong -I/usr/local/include'
ccversion=''
gccversion='12.2.0'
gccosandvers=''
intsize=4
longsize=4
ptrsize=4
doublesize=8
byteorder=1234
doublekind=3
d_longlong=define
longlongsize=8
d_longdbl=define
longdblsize=8
longdblkind=0
ivtype='long'
ivsize=4
nvtype='double'
nvsize=8
Off_t='off_t'
lseeksize=8
alignbytes=8
prototype=define
Linker and Libraries:
ld='cc'
ldflags =' -fstack-protector-strong -L/usr/local/lib'
libpth=/usr/local/lib /usr/lib/arm-linux-gnueabihf /usr/lib
libs=-lpthread -lgdbm -ldb -ldl -lm -lcrypt -lutil -lc
perllibs=-lpthread -ldl -lm -lcrypt -lutil -lc
libc=/lib/arm-linux-gnueabihf/libc.so.6
so=so
useshrplib=false
libperl=libperl.a
gnulibc_version='2.36'
Dynamic Linking:
dlsrc=dl_dlopen.xs
dlext=so
d_dlsymun=undef
ccdlflags='-Wl,-E'
cccdlflags='-fPIC'
lddlflags='-shared -O2 -L/usr/local/lib -fstack-protector-strong'
Characteristics of this binary (from libperl):
Compile-time options:
HAS_LONG_DOUBLE
HAS_STRTOLD
HAS_TIMES
PERLIO_LAYERS
PERL_COPY_ON_WRITE
PERL_DONT_CREATE_GVSV
PERL_HASH_FUNC_ZAPHOD32
PERL_HASH_USE_SBOX32
PERL_MALLOC_WRAP
PERL_OP_PARENT
PERL_PRESERVE_IVUV
PERL_USE_DEVEL
PERL_USE_SAFE_PUTENV
USE_LARGE_FILES
USE_LOCALE
USE_LOCALE_COLLATE
USE_LOCALE_CTYPE
USE_LOCALE_NUMERIC
USE_LOCALE_TIME
USE_PERLIO
USE_PERL_ATOF
Built under linux
Compiled at Jan 1 2025 00:35:48
%ENV:
PERL5LIB=""
PERL5OPT=""
PERL5_CPANPLUS_IS_RUNNING="5101"
PERL5_CPAN_IS_RUNNING="5101"
PERLBREW_HOME="/home/njh/.perlbrew"
PERLBREW_LIB=""
PERLBREW_MANPATH="/home/njh/perl5/perlbrew/perls/perl-5.41.5/man"
PERLBREW_PATH="/home/njh/perl5/perlbrew/bin:/home/njh/perl5/perlbrew/perls/perl-5.41.5/bin"
PERLBREW_PERL="perl-5.41.5"
PERLBREW_ROOT="/home/njh/perl5/perlbrew"
PERLBREW_SHELLRC_VERSION="1.01"
PERLBREW_VERSION="1.01"
PERL_LOCAL_LIB_ROOT=""
PERL_USE_UNSAFE_INC="1"
@INC:
/home/njh/perl5/perlbrew/perls/perl-5.41.5/lib/site_perl/5.41.5/armv7l-linux
/home/njh/perl5/perlbrew/perls/perl-5.41.5/lib/site_perl/5.41.5
/home/njh/perl5/perlbrew/perls/perl-5.41.5/lib/5.41.5/armv7l-linux
/home/njh/perl5/perlbrew/perls/perl-5.41.5/lib/5.41.5
.