Report for JS-jQuery-Loader-0.02

Back
From: metabase:user:9820532a-708b-1014-9a05-b18a96298da1
Subject: PASS JS-jQuery-Loader-0.02 v5.14.1 GNU/Linux
Date: 2011-11-12T11:09:03Z

This distribution has been tested as part of the CPAN Testers
project, supporting the Perl programming language.  See
http://wiki.cpantesters.org/ for more information or email
questions to cpan-testers-discuss@perl.org


--
Dear Robert Krimen,

This is a computer-generated report for JS-jQuery-Loader-0.02
on perl 5.14.1, created by CPAN-Reporter-1.2002.

Thank you for uploading your work to CPAN.  Congratulations!
All tests were successful.

Sections of this report:

    * Tester comments
    * Program output
    * Prerequisites
    * Environment and other context

------------------------------
TESTER COMMENTS
------------------------------

Additional comments from tester:

this report is from an automated smoke testing program
and was not reviewed by a human for accuracy

------------------------------
PROGRAM OUTPUT
------------------------------

Output from '/usr/bin/make test':

PERL_DL_NONLAZY=1 /home/test/perl5/perlbrew/perls/perl-5.14.1-ld/bin/perl "-MExtUtils::Command::MM" "-e" "test_harness(0, 'inc', 'blib/lib', 'blib/arch')" t/00-load.t t/01-template.t t/02-location.t t/03-source.t t/04-cache.t t/05-loader.t t/06-html.t
# Testing JS::jQuery::Loader 0.02, Perl 5.014001, /home/test/perl5/perlbrew/perls/perl-5.14.1-ld/bin/perl
t/00-load.t ...... ok
t/01-template.t .. ok
Use of qw(...) as parentheses is deprecated at /home/test/.cpan/build/JS-jQuery-Loader-0.02-6qQxLN/blib/lib/JS/jQuery/Loader/Location.pm line 67.
You are overwriting a locally defined function (file) with an accessor at /home/test/perl5/perlbrew/perls/perl-5.14.1-ld/lib/site_perl/5.14.1/x86_64-linux-ld/Moose/Meta/Attribute.pm line 1056
	Moose::Meta::Attribute::_process_accessors('Moose::Meta::Attribute=HASH(0x1d49068)', 'accessor', 'file', undef) called at /home/test/perl5/perlbrew/perls/perl-5.14.1-ld/lib/site_perl/5.14.1/x86_64-linux-ld/Class/MOP/Attribute.pm line 424
	Class::MOP::Attribute::install_accessors('Moose::Meta::Attribute=HASH(0x1d49068)') called at /home/test/perl5/perlbrew/perls/perl-5.14.1-ld/lib/site_perl/5.14.1/x86_64-linux-ld/Moose/Meta/Attribute.pm line 1004
	Moose::Meta::Attribute::install_accessors('Moose::Meta::Attribute=HASH(0x1d49068)') called at /home/test/perl5/perlbrew/perls/perl-5.14.1-ld/lib/site_perl/5.14.1/x86_64-linux-ld/Class/MOP/Class.pm line 890
	Class::MOP::Class::__ANON__() called at /home/test/perl5/perlbrew/perls/perl-5.14.1-ld/lib/site_perl/5.14.1/Try/Tiny.pm line 76
	eval {...} called at /home/test/perl5/perlbrew/perls/perl-5.14.1-ld/lib/site_perl/5.14.1/Try/Tiny.pm line 67
	Try::Tiny::try('CODE(0x1ad9148)', 'Try::Tiny::Catch=REF(0x1d3c398)') called at /home/test/perl5/perlbrew/perls/perl-5.14.1-ld/lib/site_perl/5.14.1/x86_64-linux-ld/Class/MOP/Class.pm line 895
	Class::MOP::Class::_post_add_attribute('Moose::Meta::Class=HASH(0x11321a8)', 'Moose::Meta::Attribute=HASH(0x1d49068)') called at /home/test/perl5/perlbrew/perls/perl-5.14.1-ld/lib/site_perl/5.14.1/x86_64-linux-ld/Class/MOP/Mixin/HasAttributes.pm line 44
	Class::MOP::Mixin::HasAttributes::add_attribute('Moose::Meta::Class=HASH(0x11321a8)', 'Moose::Meta::Attribute=HASH(0x1d49068)') called at /home/test/perl5/perlbrew/perls/perl-5.14.1-ld/lib/site_perl/5.14.1/x86_64-linux-ld/Moose/Meta/Class.pm line 570
	Moose::Meta::Class::add_attribute('Moose::Meta::Class=HASH(0x11321a8)', 'file', 'definition_context', 'HASH(0x1ad8cb0)', 'is', 'rw') called at /home/test/perl5/perlbrew/perls/perl-5.14.1-ld/lib/site_perl/5.14.1/x86_64-linux-ld/Moose.pm line 77
	Moose::has('Moose::Meta::Class=HASH(0x11321a8)', 'file', 'is', 'rw') called at /home/test/perl5/perlbrew/perls/perl-5.14.1-ld/lib/site_perl/5.14.1/x86_64-linux-ld/Moose/Exporter.pm line 356
	Moose::has('file', 'is', 'rw') called at /home/test/.cpan/build/JS-jQuery-Loader-0.02-6qQxLN/blib/lib/JS/jQuery/Loader/Location.pm line 18
	require JS/jQuery/Loader/Location.pm called at t/02-location.t line 8
	main::BEGIN() called at /home/test/.cpan/build/JS-jQuery-Loader-0.02-6qQxLN/blib/lib/JS/jQuery/Loader/Location.pm line 0
	eval {...} called at /home/test/.cpan/build/JS-jQuery-Loader-0.02-6qQxLN/blib/lib/JS/jQuery/Loader/Location.pm line 0
t/02-location.t .. ok
Use of qw(...) as parentheses is deprecated at /home/test/.cpan/build/JS-jQuery-Loader-0.02-6qQxLN/blib/lib/JS/jQuery/Loader/Location.pm line 67.
You are overwriting a locally defined function (file) with an accessor at /home/test/perl5/perlbrew/perls/perl-5.14.1-ld/lib/site_perl/5.14.1/x86_64-linux-ld/Moose/Meta/Attribute.pm line 1056
	Moose::Meta::Attribute::_process_accessors('Moose::Meta::Attribute=HASH(0x22d1aa0)', 'accessor', 'file', undef) called at /home/test/perl5/perlbrew/perls/perl-5.14.1-ld/lib/site_perl/5.14.1/x86_64-linux-ld/Class/MOP/Attribute.pm line 424
	Class::MOP::Attribute::install_accessors('Moose::Meta::Attribute=HASH(0x22d1aa0)') called at /home/test/perl5/perlbrew/perls/perl-5.14.1-ld/lib/site_perl/5.14.1/x86_64-linux-ld/Moose/Meta/Attribute.pm line 1004
	Moose::Meta::Attribute::install_accessors('Moose::Meta::Attribute=HASH(0x22d1aa0)') called at /home/test/perl5/perlbrew/perls/perl-5.14.1-ld/lib/site_perl/5.14.1/x86_64-linux-ld/Class/MOP/Class.pm line 890
	Class::MOP::Class::__ANON__() called at /home/test/perl5/perlbrew/perls/perl-5.14.1-ld/lib/site_perl/5.14.1/Try/Tiny.pm line 76
	eval {...} called at /home/test/perl5/perlbrew/perls/perl-5.14.1-ld/lib/site_perl/5.14.1/Try/Tiny.pm line 67
	Try::Tiny::try('CODE(0x2061920)', 'Try::Tiny::Catch=REF(0x22c7400)') called at /home/test/perl5/perlbrew/perls/perl-5.14.1-ld/lib/site_perl/5.14.1/x86_64-linux-ld/Class/MOP/Class.pm line 895
	Class::MOP::Class::_post_add_attribute('Moose::Meta::Class=HASH(0x2033770)', 'Moose::Meta::Attribute=HASH(0x22d1aa0)') called at /home/test/perl5/perlbrew/perls/perl-5.14.1-ld/lib/site_perl/5.14.1/x86_64-linux-ld/Class/MOP/Mixin/HasAttributes.pm line 44
	Class::MOP::Mixin::HasAttributes::add_attribute('Moose::Meta::Class=HASH(0x2033770)', 'Moose::Meta::Attribute=HASH(0x22d1aa0)') called at /home/test/perl5/perlbrew/perls/perl-5.14.1-ld/lib/site_perl/5.14.1/x86_64-linux-ld/Moose/Meta/Class.pm line 570
	Moose::Meta::Class::add_attribute('Moose::Meta::Class=HASH(0x2033770)', 'file', 'definition_context', 'HASH(0x20614b8)', 'is', 'rw') called at /home/test/perl5/perlbrew/perls/perl-5.14.1-ld/lib/site_perl/5.14.1/x86_64-linux-ld/Moose.pm line 77
	Moose::has('Moose::Meta::Class=HASH(0x2033770)', 'file', 'is', 'rw') called at /home/test/perl5/perlbrew/perls/perl-5.14.1-ld/lib/site_perl/5.14.1/x86_64-linux-ld/Moose/Exporter.pm line 356
	Moose::has('file', 'is', 'rw') called at /home/test/.cpan/build/JS-jQuery-Loader-0.02-6qQxLN/blib/lib/JS/jQuery/Loader/Location.pm line 18
	require JS/jQuery/Loader/Location.pm called at /home/test/.cpan/build/JS-jQuery-Loader-0.02-6qQxLN/blib/lib/JS/jQuery/Loader/Source/URI.pm line 7
	JS::jQuery::Loader::Source::URI::BEGIN() called at /home/test/.cpan/build/JS-jQuery-Loader-0.02-6qQxLN/blib/lib/JS/jQuery/Loader/Location.pm line 0
	eval {...} called at /home/test/.cpan/build/JS-jQuery-Loader-0.02-6qQxLN/blib/lib/JS/jQuery/Loader/Location.pm line 0
	require JS/jQuery/Loader/Source/URI.pm called at t/03-source.t line 9
	main::BEGIN() called at /home/test/.cpan/build/JS-jQuery-Loader-0.02-6qQxLN/blib/lib/JS/jQuery/Loader/Location.pm line 0
	eval {...} called at /home/test/.cpan/build/JS-jQuery-Loader-0.02-6qQxLN/blib/lib/JS/jQuery/Loader/Location.pm line 0
t/03-source.t .... ok
Use of qw(...) as parentheses is deprecated at /home/test/.cpan/build/JS-jQuery-Loader-0.02-6qQxLN/blib/lib/JS/jQuery/Loader/Location.pm line 67.
You are overwriting a locally defined function (file) with an accessor at /home/test/perl5/perlbrew/perls/perl-5.14.1-ld/lib/site_perl/5.14.1/x86_64-linux-ld/Moose/Meta/Attribute.pm line 1056
	Moose::Meta::Attribute::_process_accessors('Moose::Meta::Attribute=HASH(0x2695b98)', 'accessor', 'file', undef) called at /home/test/perl5/perlbrew/perls/perl-5.14.1-ld/lib/site_perl/5.14.1/x86_64-linux-ld/Class/MOP/Attribute.pm line 424
	Class::MOP::Attribute::install_accessors('Moose::Meta::Attribute=HASH(0x2695b98)') called at /home/test/perl5/perlbrew/perls/perl-5.14.1-ld/lib/site_perl/5.14.1/x86_64-linux-ld/Moose/Meta/Attribute.pm line 1004
	Moose::Meta::Attribute::install_accessors('Moose::Meta::Attribute=HASH(0x2695b98)') called at /home/test/perl5/perlbrew/perls/perl-5.14.1-ld/lib/site_perl/5.14.1/x86_64-linux-ld/Class/MOP/Class.pm line 890
	Class::MOP::Class::__ANON__() called at /home/test/perl5/perlbrew/perls/perl-5.14.1-ld/lib/site_perl/5.14.1/Try/Tiny.pm line 76
	eval {...} called at /home/test/perl5/perlbrew/perls/perl-5.14.1-ld/lib/site_perl/5.14.1/Try/Tiny.pm line 67
	Try::Tiny::try('CODE(0x268e858)', 'Try::Tiny::Catch=REF(0x268e6c0)') called at /home/test/perl5/perlbrew/perls/perl-5.14.1-ld/lib/site_perl/5.14.1/x86_64-linux-ld/Class/MOP/Class.pm line 895
	Class::MOP::Class::_post_add_attribute('Moose::Meta::Class=HASH(0x262bc88)', 'Moose::Meta::Attribute=HASH(0x2695b98)') called at /home/test/perl5/perlbrew/perls/perl-5.14.1-ld/lib/site_perl/5.14.1/x86_64-linux-ld/Class/MOP/Mixin/HasAttributes.pm line 44
	Class::MOP::Mixin::HasAttributes::add_attribute('Moose::Meta::Class=HASH(0x262bc88)', 'Moose::Meta::Attribute=HASH(0x2695b98)') called at /home/test/perl5/perlbrew/perls/perl-5.14.1-ld/lib/site_perl/5.14.1/x86_64-linux-ld/Moose/Meta/Class.pm line 570
	Moose::Meta::Class::add_attribute('Moose::Meta::Class=HASH(0x262bc88)', 'file', 'definition_context', 'HASH(0x26844b0)', 'is', 'rw') called at /home/test/perl5/perlbrew/perls/perl-5.14.1-ld/lib/site_perl/5.14.1/x86_64-linux-ld/Moose.pm line 77
	Moose::has('Moose::Meta::Class=HASH(0x262bc88)', 'file', 'is', 'rw') called at /home/test/perl5/perlbrew/perls/perl-5.14.1-ld/lib/site_perl/5.14.1/x86_64-linux-ld/Moose/Exporter.pm line 356
	Moose::has('file', 'is', 'rw') called at /home/test/.cpan/build/JS-jQuery-Loader-0.02-6qQxLN/blib/lib/JS/jQuery/Loader/Location.pm line 18
	require JS/jQuery/Loader/Location.pm called at /home/test/.cpan/build/JS-jQuery-Loader-0.02-6qQxLN/blib/lib/JS/jQuery/Loader/Source/URI.pm line 7
	JS::jQuery::Loader::Source::URI::BEGIN() called at /home/test/.cpan/build/JS-jQuery-Loader-0.02-6qQxLN/blib/lib/JS/jQuery/Loader/Location.pm line 0
	eval {...} called at /home/test/.cpan/build/JS-jQuery-Loader-0.02-6qQxLN/blib/lib/JS/jQuery/Loader/Location.pm line 0
	require JS/jQuery/Loader/Source/URI.pm called at t/04-cache.t line 12
	main::BEGIN() called at /home/test/.cpan/build/JS-jQuery-Loader-0.02-6qQxLN/blib/lib/JS/jQuery/Loader/Location.pm line 0
	eval {...} called at /home/test/.cpan/build/JS-jQuery-Loader-0.02-6qQxLN/blib/lib/JS/jQuery/Loader/Location.pm line 0
t/04-cache.t ..... ok
Use of qw(...) as parentheses is deprecated at /home/test/.cpan/build/JS-jQuery-Loader-0.02-6qQxLN/blib/lib/JS/jQuery/Loader/Location.pm line 67.
You are overwriting a locally defined function (file) with an accessor at /home/test/perl5/perlbrew/perls/perl-5.14.1-ld/lib/site_perl/5.14.1/x86_64-linux-ld/Moose/Meta/Attribute.pm line 1056
	Moose::Meta::Attribute::_process_accessors('Moose::Meta::Attribute=HASH(0x340ca38)', 'accessor', 'file', undef) called at /home/test/perl5/perlbrew/perls/perl-5.14.1-ld/lib/site_perl/5.14.1/x86_64-linux-ld/Class/MOP/Attribute.pm line 424
	Class::MOP::Attribute::install_accessors('Moose::Meta::Attribute=HASH(0x340ca38)') called at /home/test/perl5/perlbrew/perls/perl-5.14.1-ld/lib/site_perl/5.14.1/x86_64-linux-ld/Moose/Meta/Attribute.pm line 1004
	Moose::Meta::Attribute::install_accessors('Moose::Meta::Attribute=HASH(0x340ca38)') called at /home/test/perl5/perlbrew/perls/perl-5.14.1-ld/lib/site_perl/5.14.1/x86_64-linux-ld/Class/MOP/Class.pm line 890
	Class::MOP::Class::__ANON__() called at /home/test/perl5/perlbrew/perls/perl-5.14.1-ld/lib/site_perl/5.14.1/Try/Tiny.pm line 76
	eval {...} called at /home/test/perl5/perlbrew/perls/perl-5.14.1-ld/lib/site_perl/5.14.1/Try/Tiny.pm line 67
	Try::Tiny::try('CODE(0x3403d90)', 'Try::Tiny::Catch=REF(0x34029e0)') called at /home/test/perl5/perlbrew/perls/perl-5.14.1-ld/lib/site_perl/5.14.1/x86_64-linux-ld/Class/MOP/Class.pm line 895
	Class::MOP::Class::_post_add_attribute('Moose::Meta::Class=HASH(0x33aa5a0)', 'Moose::Meta::Attribute=HASH(0x340ca38)') called at /home/test/perl5/perlbrew/perls/perl-5.14.1-ld/lib/site_perl/5.14.1/x86_64-linux-ld/Class/MOP/Mixin/HasAttributes.pm line 44
	Class::MOP::Mixin::HasAttributes::add_attribute('Moose::Meta::Class=HASH(0x33aa5a0)', 'Moose::Meta::Attribute=HASH(0x340ca38)') called at /home/test/perl5/perlbrew/perls/perl-5.14.1-ld/lib/site_perl/5.14.1/x86_64-linux-ld/Moose/Meta/Class.pm line 570
	Moose::Meta::Class::add_attribute('Moose::Meta::Class=HASH(0x33aa5a0)', 'file', 'definition_context', 'HASH(0x33fb880)', 'is', 'rw') called at /home/test/perl5/perlbrew/perls/perl-5.14.1-ld/lib/site_perl/5.14.1/x86_64-linux-ld/Moose.pm line 77
	Moose::has('Moose::Meta::Class=HASH(0x33aa5a0)', 'file', 'is', 'rw') called at /home/test/perl5/perlbrew/perls/perl-5.14.1-ld/lib/site_perl/5.14.1/x86_64-linux-ld/Moose/Exporter.pm line 356
	Moose::has('file', 'is', 'rw') called at /home/test/.cpan/build/JS-jQuery-Loader-0.02-6qQxLN/blib/lib/JS/jQuery/Loader/Location.pm line 18
	require JS/jQuery/Loader/Location.pm called at /home/test/.cpan/build/JS-jQuery-Loader-0.02-6qQxLN/blib/lib/JS/jQuery/Loader/Source/URI.pm line 7
	JS::jQuery::Loader::Source::URI::BEGIN() called at /home/test/.cpan/build/JS-jQuery-Loader-0.02-6qQxLN/blib/lib/JS/jQuery/Loader/Location.pm line 0
	eval {...} called at /home/test/.cpan/build/JS-jQuery-Loader-0.02-6qQxLN/blib/lib/JS/jQuery/Loader/Location.pm line 0
	require JS/jQuery/Loader/Source/URI.pm called at /home/test/.cpan/build/JS-jQuery-Loader-0.02-6qQxLN/blib/lib/JS/jQuery/Loader/Source/Internet.pm line 4
	JS::jQuery::Loader::Source::Internet::BEGIN() called at /home/test/.cpan/build/JS-jQuery-Loader-0.02-6qQxLN/blib/lib/JS/jQuery/Loader/Location.pm line 0
	eval {...} called at /home/test/.cpan/build/JS-jQuery-Loader-0.02-6qQxLN/blib/lib/JS/jQuery/Loader/Location.pm line 0
	require JS/jQuery/Loader/Source/Internet.pm called at /home/test/.cpan/build/JS-jQuery-Loader-0.02-6qQxLN/blib/lib/JS/jQuery/Loader.pm line 111
	JS::jQuery::Loader::new_from_internet('JS::jQuery::Loader', 'cache', 'Path::Class::Dir=HASH(0x2654898)') called at t/05-loader.t line 14
t/05-loader.t .... ok
Use of qw(...) as parentheses is deprecated at /home/test/.cpan/build/JS-jQuery-Loader-0.02-6qQxLN/blib/lib/JS/jQuery/Loader/Location.pm line 67.
You are overwriting a locally defined function (file) with an accessor at /home/test/perl5/perlbrew/perls/perl-5.14.1-ld/lib/site_perl/5.14.1/x86_64-linux-ld/Moose/Meta/Attribute.pm line 1056
	Moose::Meta::Attribute::_process_accessors('Moose::Meta::Attribute=HASH(0x2ca45f0)', 'accessor', 'file', undef) called at /home/test/perl5/perlbrew/perls/perl-5.14.1-ld/lib/site_perl/5.14.1/x86_64-linux-ld/Class/MOP/Attribute.pm line 424
	Class::MOP::Attribute::install_accessors('Moose::Meta::Attribute=HASH(0x2ca45f0)') called at /home/test/perl5/perlbrew/perls/perl-5.14.1-ld/lib/site_perl/5.14.1/x86_64-linux-ld/Moose/Meta/Attribute.pm line 1004
	Moose::Meta::Attribute::install_accessors('Moose::Meta::Attribute=HASH(0x2ca45f0)') called at /home/test/perl5/perlbrew/perls/perl-5.14.1-ld/lib/site_perl/5.14.1/x86_64-linux-ld/Class/MOP/Class.pm line 890
	Class::MOP::Class::__ANON__() called at /home/test/perl5/perlbrew/perls/perl-5.14.1-ld/lib/site_perl/5.14.1/Try/Tiny.pm line 76
	eval {...} called at /home/test/perl5/perlbrew/perls/perl-5.14.1-ld/lib/site_perl/5.14.1/Try/Tiny.pm line 67
	Try::Tiny::try('CODE(0x2c9c738)', 'Try::Tiny::Catch=REF(0x2c9b298)') called at /home/test/perl5/perlbrew/perls/perl-5.14.1-ld/lib/site_perl/5.14.1/x86_64-linux-ld/Class/MOP/Class.pm line 895
	Class::MOP::Class::_post_add_attribute('Moose::Meta::Class=HASH(0x2c40720)', 'Moose::Meta::Attribute=HASH(0x2ca45f0)') called at /home/test/perl5/perlbrew/perls/perl-5.14.1-ld/lib/site_perl/5.14.1/x86_64-linux-ld/Class/MOP/Mixin/HasAttributes.pm line 44
	Class::MOP::Mixin::HasAttributes::add_attribute('Moose::Meta::Class=HASH(0x2c40720)', 'Moose::Meta::Attribute=HASH(0x2ca45f0)') called at /home/test/perl5/perlbrew/perls/perl-5.14.1-ld/lib/site_perl/5.14.1/x86_64-linux-ld/Moose/Meta/Class.pm line 570
	Moose::Meta::Class::add_attribute('Moose::Meta::Class=HASH(0x2c40720)', 'file', 'definition_context', 'HASH(0x2c8ff30)', 'is', 'rw') called at /home/test/perl5/perlbrew/perls/perl-5.14.1-ld/lib/site_perl/5.14.1/x86_64-linux-ld/Moose.pm line 77
	Moose::has('Moose::Meta::Class=HASH(0x2c40720)', 'file', 'is', 'rw') called at /home/test/perl5/perlbrew/perls/perl-5.14.1-ld/lib/site_perl/5.14.1/x86_64-linux-ld/Moose/Exporter.pm line 356
	Moose::has('file', 'is', 'rw') called at /home/test/.cpan/build/JS-jQuery-Loader-0.02-6qQxLN/blib/lib/JS/jQuery/Loader/Location.pm line 18
	require JS/jQuery/Loader/Location.pm called at /home/test/.cpan/build/JS-jQuery-Loader-0.02-6qQxLN/blib/lib/JS/jQuery/Loader/Source/URI.pm line 7
	JS::jQuery::Loader::Source::URI::BEGIN() called at /home/test/.cpan/build/JS-jQuery-Loader-0.02-6qQxLN/blib/lib/JS/jQuery/Loader/Location.pm line 0
	eval {...} called at /home/test/.cpan/build/JS-jQuery-Loader-0.02-6qQxLN/blib/lib/JS/jQuery/Loader/Location.pm line 0
	require JS/jQuery/Loader/Source/URI.pm called at /home/test/.cpan/build/JS-jQuery-Loader-0.02-6qQxLN/blib/lib/JS/jQuery/Loader/Source/Internet.pm line 4
	JS::jQuery::Loader::Source::Internet::BEGIN() called at /home/test/.cpan/build/JS-jQuery-Loader-0.02-6qQxLN/blib/lib/JS/jQuery/Loader/Location.pm line 0
	eval {...} called at /home/test/.cpan/build/JS-jQuery-Loader-0.02-6qQxLN/blib/lib/JS/jQuery/Loader/Location.pm line 0
	require JS/jQuery/Loader/Source/Internet.pm called at /home/test/.cpan/build/JS-jQuery-Loader-0.02-6qQxLN/blib/lib/JS/jQuery/Loader.pm line 111
	JS::jQuery::Loader::new_from_internet('JS::jQuery::Loader') called at t/06-html.t line 14
t/06-html.t ...... ok
All tests successful.
Files=7, Tests=28,  3 wallclock secs ( 0.02 usr  0.03 sys +  2.30 cusr  0.27 csys =  2.62 CPU)
Result: PASS

------------------------------
PREREQUISITES
------------------------------

Prerequisite modules loaded:

requires:

    Module              Need   Have   
    ------------------- ------ -------
    Carp::Clan::Share   0      0.013  
    Directory::Scratch  0      0.14   
    ExtUtils::MakeMaker 6.6302 6.63_02
    File::Copy          0      2.21   
    HTML::Declare       0      2.4    
    LWP::UserAgent      0      6.03   
    Moose               0      2.0205 
    Path::Abstract      0      0.096  
    Path::Class         0      0.24   
    Test::More          0      0.98   
    URI                 0      1.59   

build_requires:

    Module              Need   Have   
    ------------------- ------ -------
    ExtUtils::MakeMaker 0      6.63_02


------------------------------
ENVIRONMENT AND OTHER CONTEXT
------------------------------

Environment variables:

    AUTOMATED_TESTING = 1
    LANG = C
    LC_ALL = C
    PATH = /home/test/perl5/perlbrew/bin:/home/test/perl5/perlbrew/perls/perl-5.14.1-ld/bin:/home/test/bin:~/bin:/usr/bin:/bin
    PATH_WITHOUT_PERLBREW = /home/test/bin:~/bin:/usr/bin:/bin
    PERL5LIB = 
    PERL5OPT = 
    PERL5_CPANPLUS_IS_RUNNING = 11236
    PERL5_CPAN_IS_RUNNING = 11236
    PERL5_CPAN_IS_RUNNING_IN_RECURSION = 16533,11236
    PERLBREW_BASHRC_VERSION = 0.31
    PERLBREW_HOME = /home/test/.perlbrew
    PERLBREW_PATH = /home/test/perl5/perlbrew/bin:/home/test/perl5/perlbrew/perls/perl-5.14.1-ld/bin
    PERLBREW_PERL = perl-5.14.1-ld
    PERLBREW_ROOT = /home/test/perl5/perlbrew
    PERLBREW_VERSION = 0.31
    PERL_CPANM_OPT = --prompt --mirror file:///mirrors/cpan/
    PERL_CR_SMOKER_CURRENT = JS-jQuery-Loader-0.02
    PERL_EXTUTILS_AUTOINSTALL = --defaultdeps
    PERL_MM_USE_DEFAULT = 1
    SHELL = /bin/bash
    TERM = linux

Perl special variables (and OS-specific diagnostics, for MSWin32):

    $^X = /home/test/perl5/perlbrew/perls/perl-5.14.1-ld/bin/perl
    $UID/$EUID = 1001 / 1001
    $GID = 1001 1001
    $EGID = 1001 1001

Perl module toolchain versions installed:

    Module              Have    
    ------------------- --------
    CPAN                1.9800  
    CPAN::Meta          2.112621
    Cwd                 3.33    
    ExtUtils::CBuilder  0.280202
    ExtUtils::Command   1.17    
    ExtUtils::Install   1.52    
    ExtUtils::MakeMaker 6.63_02 
    ExtUtils::Manifest  1.60    
    ExtUtils::ParseXS   3.05    
    File::Spec          3.33    
    JSON                2.27    
    JSON::PP            2.27008 
    Module::Build       0.3800  
    Module::Signature   n/a     
    Parse::CPAN::Meta   1.4401  
    Test::Harness       3.23    
    Test::More          0.98    
    YAML                0.73    
    YAML::Syck          1.19    
    version             0.94    


--

Summary of my perl5 (revision 5 version 14 subversion 1) configuration:
   
  Platform:
    osname=linux, osvers=2.6.35-28-generic, archname=x86_64-linux-ld
    uname='linux zippy 2.6.35-28-generic #50-ubuntu smp fri mar 18 18:42:20 utc 2011 x86_64 gnulinux '
    config_args='-de -Dprefix=/home/test/perl5/perlbrew/perls/perl-5.14.1-ld -Duselongdouble'
    hint=recommended, useposix=true, d_sigaction=define
    useithreads=undef, usemultiplicity=undef
    useperlio=define, d_sfio=undef, uselargefiles=define, usesocks=undef
    use64bitint=define, use64bitall=define, uselongdouble=define
    usemymalloc=n, bincompat5005=undef
  Compiler:
    cc='cc', ccflags ='-fno-strict-aliasing -pipe -fstack-protector -I/usr/local/include -D_LARGEFILE_SOURCE -D_FILE_OFFSET_BITS=64',
    optimize='-O2',
    cppflags='-fno-strict-aliasing -pipe -fstack-protector -I/usr/local/include'
    ccversion='', gccversion='4.4.5', gccosandvers=''
    intsize=4, longsize=8, ptrsize=8, doublesize=8, byteorder=12345678
    d_longlong=define, longlongsize=8, d_longdbl=define, longdblsize=16
    ivtype='long', ivsize=8, nvtype='long double', nvsize=16, Off_t='off_t', lseeksize=8
    alignbytes=16, prototype=define
  Linker and Libraries:
    ld='cc', ldflags =' -fstack-protector -L/usr/local/lib'
    libpth=/usr/local/lib /lib/../lib /usr/lib/../lib /lib /usr/lib /usr/lib/x86_64-linux-gnu /lib64 /usr/lib64
    libs=-lnsl -ldl -lm -lcrypt -lutil -lc
    perllibs=-lnsl -ldl -lm -lcrypt -lutil -lc
    libc=/lib/libc-2.12.1.so, so=so, useshrplib=false, libperl=libperl.a
    gnulibc_version='2.12.1'
  Dynamic Linking:
    dlsrc=dl_dlopen.xs, dlext=so, d_dlsymun=undef, ccdlflags='-Wl,-E'
    cccdlflags='-fPIC', lddlflags='-shared -O2 -L/usr/local/lib -fstack-protector'


Characteristics of this binary (from libperl): 
  Compile-time options: PERL_DONT_CREATE_GVSV PERL_MALLOC_WRAP
                        PERL_PRESERVE_IVUV USE_64_BIT_ALL USE_64_BIT_INT
                        USE_LARGE_FILES USE_LONG_DOUBLE USE_PERLIO
                        USE_PERL_ATOF
  Built under linux
  Compiled at Nov  8 2011 21:16:18
  %ENV:
    PERL5LIB=""
    PERL5OPT=""
    PERL5_CPANPLUS_IS_RUNNING="11236"
    PERL5_CPAN_IS_RUNNING="11236"
    PERL5_CPAN_IS_RUNNING_IN_RECURSION="16533,11236"
    PERLBREW_BASHRC_VERSION="0.31"
    PERLBREW_HOME="/home/test/.perlbrew"
    PERLBREW_PATH="/home/test/perl5/perlbrew/bin:/home/test/perl5/perlbrew/perls/perl-5.14.1-ld/bin"
    PERLBREW_PERL="perl-5.14.1-ld"
    PERLBREW_ROOT="/home/test/perl5/perlbrew"
    PERLBREW_VERSION="0.31"
    PERL_CPANM_OPT="--prompt --mirror file:///mirrors/cpan/"
    PERL_CR_SMOKER_CURRENT="JS-jQuery-Loader-0.02"
    PERL_EXTUTILS_AUTOINSTALL="--defaultdeps"
    PERL_MM_USE_DEFAULT="1"
  @INC:
    /home/test/perl5/perlbrew/perls/perl-5.14.1-ld/lib/site_perl/5.14.1/x86_64-linux-ld
    /home/test/perl5/perlbrew/perls/perl-5.14.1-ld/lib/site_perl/5.14.1
    /home/test/perl5/perlbrew/perls/perl-5.14.1-ld/lib/5.14.1/x86_64-linux-ld
    /home/test/perl5/perlbrew/perls/perl-5.14.1-ld/lib/5.14.1
    .