Test-Deep v1.205 Perl 5 v5.24.4 x86_64-linux-ld

Status
Pass
From
Slaven Rezić
Dist
Test-Deep v1.205
Platform
Perl 5 v5.24.4 x86_64-linux-ld
Date
2025-04-02 19:21:51
ID
bb1b8690-0ff7-11f0-85f4-bd136e8775ea
This distribution has been tested as part of the CPAN Testers
project, supporting the Perl programming language.  See
http://wiki.cpantesters.org/ for more information or email
questions to cpan-testers-discuss@perl.org


--
Dear Ricardo SIGNES :-),

This is a computer-generated report for Test-Deep-1.205
on perl 5.24.4, created by CPAN-Reporter-1.2020.

Thank you for uploading your work to CPAN.  Congratulations!
All tests were successful.

Sections of this report:

    * Tester comments
    * Program output
    * Prerequisites
    * Environment and other context

------------------------------
TESTER COMMENTS
------------------------------

Additional comments from tester:

none provided

------------------------------
PROGRAM OUTPUT
------------------------------

Output from '/usr/bin/make test':

PERL_DL_NONLAZY=1 "/opt/perl-5.24.4D/bin/perl" "-MExtUtils::Command::MM" "-MTest::Harness" "-e" "undef *Test::Harness::Switches; test_harness(0, 'blib/lib', 'blib/arch')" t/*.t
# 
# Versions for all modules listed in MYMETA.json (including optional ones):
# 
# === Configure Requires ===
# 
#     Module              Want Have
#     ------------------- ---- ----
#     ExtUtils::MakeMaker 6.78 7.70
# 
# === Build Requires ===
# 
#     Module              Want Have
#     ------------------- ---- ----
#     ExtUtils::MakeMaker  any 7.70
# 
# === Test Requires ===
# 
#     Module               Want     Have
#     ------------------- ----- --------
#     ExtUtils::MakeMaker   any     7.70
#     File::Spec            any     3.75
#     Test::More           0.96 1.302209
#     Test::Tester        0.107 1.302209
# 
# === Test Recommends ===
# 
#     Module         Want     Have
#     ---------- -------- --------
#     CPAN::Meta 2.120900 2.150010
# 
# === Runtime Requires ===
# 
#     Module         Want     Have
#     ------------- ----- --------
#     List::Util     1.09     1.68
#     Scalar::Util   1.09     1.68
#     Test::Builder   any 1.302209
#     Test::More     0.96 1.302209
#     perl          5.012 5.024004
# 
t/00-report-prereqs.t ....... ok
t/all.t ..................... ok
t/any.t ..................... ok
t/array.t ................... ok
t/array_each.t .............. ok
t/arraylength.t ............. ok
t/bag.t ..................... ok
t/bagrecursion.t ............ ok
t/blessed.t ................. ok
t/boolean.t ................. ok
t/cache.t ................... ok
t/circular.t ................ ok
t/class.t ................... ok
t/code.t .................... ok
t/deep_utils.t .............. ok
t/descend.t ................. ok
t/error.t ................... ok
t/hash.t .................... ok
t/hash_each.t ............... ok
t/hashkeys.t ................ ok
t/ignore.t .................. ok
t/import.t .................. ok
t/isa.t ..................... ok
t/leaf-wrapper.t ............ ok
t/listmethods.t ............. ok
t/memory.t .................. ok
t/methods.t ................. ok
t/no-clobber-globals.t ...... ok
t/none.t .................... ok
t/notest.t .................. ok
t/notest_extra.t ............ ok
t/notest_withtest.t ......... ok
t/number.t .................. ok
t/reftype.t ................. ok
t/regexp.t .................. ok
t/regexpref.t ............... ok
t/rt78288_blessed_object.t .. ok
t/scalar.t .................. ok
t/scalarref.t ............... ok
t/set.t ..................... ok
t/shallow.t ................. ok
t/string.t .................. ok
All tests successful.
Files=42, Tests=1268,  2 wallclock secs ( 0.17 usr  0.05 sys +  1.80 cusr  0.41 csys =  2.43 CPU)
Result: PASS

------------------------------
PREREQUISITES
------------------------------

Prerequisite modules loaded:

requires:

    Module              Need  Have    
    ------------------- ----- --------
    List::Util          1.09  1.68    
    perl                5.012 5.024004
    Scalar::Util        1.09  1.68    
    Test::Builder       0     1.302209
    Test::More          0.96  1.302209

build_requires:

    Module              Need  Have    
    ------------------- ----- --------
    ExtUtils::MakeMaker 0     7.70    
    File::Spec          0     3.75    
    Test::More          0.96  1.302209
    Test::Tester        0.107 1.302209

configure_requires:

    Module              Need  Have    
    ------------------- ----- --------
    ExtUtils::MakeMaker 6.78  7.70    


------------------------------
ENVIRONMENT AND OTHER CONTEXT
------------------------------

Environment variables:

    LANG = en_US.UTF-8
    PATH = /usr/local/bin:/usr/bin:/bin:/usr/local/sbin:/usr/sbin:/sbin:/home/cpansand/bin/linux-gnu:/home/cpansand/bin/sh:/home/cpansand/bin:/usr/games:/home/cpansand/devel:/home/eserte/src/srezic-misc/scripts
    PERL5LIB = 
    PERL5OPT = 
    PERL5_CPANPLUS_IS_RUNNING = 448350
    PERL5_CPAN_IS_RUNNING = 448350
    PERL5_CPAN_IS_RUNNING_IN_RECURSION = 375645,448350
    PERLDOC = -MPod::Perldoc::ToTextOverstrike
    PERL_BATCH = yes
    PERL_CANARY_STABILITY_NOPROMPT = 1
    PERL_CPAN_REPORTER_CONFIG = /var/tmp/cpansmoker-1023/2025040218/cpanreporter_000_config.ini
    PERL_EXTUTILS_AUTOINSTALL = --defaultdeps
    SHELL = /usr/bin/zsh
    TERM = screen
    TMPDIR = /var/tmp/cpansmoker-1023/2025040218

Perl special variables (and OS-specific diagnostics, for MSWin32):

    $^X = /opt/perl-5.24.4D/bin/perl
    $UID/$EUID = 1023 / 1023
    $GID = 1023 1023
    $EGID = 1023 1023

Perl module toolchain versions installed:

    Module              Have    
    ------------------- --------
    CPAN                2.11_01 
    CPAN::Meta          2.150010
    Cwd                 3.75    
    ExtUtils::CBuilder  0.280236
    ExtUtils::Command   7.70    
    ExtUtils::Install   2.06    
    ExtUtils::MakeMaker 7.70    
    ExtUtils::Manifest  1.70    
    ExtUtils::ParseXS   3.31    
    File::Spec          3.75    
    JSON                4.10    
    JSON::PP            4.16    
    Module::Build       0.4234  
    Module::Signature   n/a     
    Parse::CPAN::Meta   2.150010
    Test2               1.302209
    Test::Harness       3.36_01 
    Test::More          1.302209
    YAML                1.31    
    YAML::Syck          1.34    
    version             0.9916  


--

Summary of my perl5 (revision 5 version 24 subversion 4) configuration:
   
  Platform:
    osname=linux, osvers=5.14.0-503.22.1.el9_5.x86_64, archname=x86_64-linux-ld
    uname='linux cloud1.bbbike.org 5.14.0-503.22.1.el9_5.x86_64 #1 smp preempt_dynamic wed jan 22 13:59:07 utc 2025 x86_64 x86_64 x86_64 gnulinux '
    config_args='-ds -e -Dprefix=/opt/perl-5.24.4D -Uinstallusrbinperl -Duselongdouble -Dcf_email=srezic@cpan.org'
    hint=recommended, useposix=true, d_sigaction=define
    useithreads=undef, usemultiplicity=undef
    use64bitint=define, use64bitall=define, uselongdouble=define
    usemymalloc=n, bincompat5005=undef
  Compiler:
    cc='cc', ccflags ='-fwrapv -fno-strict-aliasing -pipe -fstack-protector-strong -I/usr/local/include -D_LARGEFILE_SOURCE -D_FILE_OFFSET_BITS=64 -D_FORTIFY_SOURCE=2',
    optimize='-O2',
    cppflags='-fwrapv -fno-strict-aliasing -pipe -fstack-protector-strong -I/usr/local/include'
    ccversion='', gccversion='11.5.0 20240719 (Red Hat 11.5.0-2)', gccosandvers=''
    intsize=4, longsize=8, ptrsize=8, doublesize=8, byteorder=12345678, doublekind=3
    d_longlong=define, longlongsize=8, d_longdbl=define, longdblsize=16, longdblkind=3
    ivtype='long', ivsize=8, nvtype='long double', nvsize=16, Off_t='off_t', lseeksize=8
    alignbytes=16, prototype=define
  Linker and Libraries:
    ld='cc', ldflags =' -fstack-protector-strong -L/usr/local/lib'
    libpth=/usr/local/lib /usr/lib /lib/../lib64 /usr/lib/../lib64 /lib /lib64 /usr/lib64 /usr/local/lib64
    libs=-lpthread -ldb -ldl -lm -lcrypt -lutil -lc
    perllibs=-lpthread -ldl -lm -lcrypt -lutil -lc
    libc=/lib/../lib64/libc.so.6, so=so, useshrplib=false, libperl=libperl.a
    gnulibc_version='2.34'
  Dynamic Linking:
    dlsrc=dl_dlopen.xs, dlext=so, d_dlsymun=undef, ccdlflags='-Wl,-E'
    cccdlflags='-fPIC', lddlflags='-shared -O2 -L/usr/local/lib -fstack-protector-strong'


Characteristics of this binary (from libperl): 
  Compile-time options: HAS_TIMES PERLIO_LAYERS PERL_COPY_ON_WRITE
                        PERL_DONT_CREATE_GVSV
                        PERL_HASH_FUNC_ONE_AT_A_TIME_HARD PERL_MALLOC_WRAP
                        PERL_PRESERVE_IVUV USE_64_BIT_ALL USE_64_BIT_INT
                        USE_LARGE_FILES USE_LOCALE USE_LOCALE_COLLATE
                        USE_LOCALE_CTYPE USE_LOCALE_NUMERIC USE_LOCALE_TIME
                        USE_LONG_DOUBLE USE_PERLIO USE_PERL_ATOF
  Locally applied patches:
	Devel::PatchPerl 2.08
  Built under linux
  Compiled at Feb  1 2025 22:13:56
  %ENV:
    PERL5LIB=""
    PERL5OPT=""
    PERL5_CPANPLUS_IS_RUNNING="448350"
    PERL5_CPAN_IS_RUNNING="448350"
    PERL5_CPAN_IS_RUNNING_IN_RECURSION="375645,448350"
    PERLDOC="-MPod::Perldoc::ToTextOverstrike"
    PERL_BATCH="yes"
    PERL_CANARY_STABILITY_NOPROMPT="1"
    PERL_CPAN_REPORTER_CONFIG="/var/tmp/cpansmoker-1023/2025040218/cpanreporter_000_config.ini"
    PERL_EXTUTILS_AUTOINSTALL="--defaultdeps"
  @INC:
    /opt/perl-5.24.4D/lib/site_perl/5.24.4/x86_64-linux-ld
    /opt/perl-5.24.4D/lib/site_perl/5.24.4
    /opt/perl-5.24.4D/lib/5.24.4/x86_64-linux-ld
    /opt/perl-5.24.4D/lib/5.24.4
    .