Crypt-OpenSSL-RSA v0.30 Perl 5 v5.14.0 x86_64-linux-thread-multi

Status
Pass
From
Nigel Horne
Dist
Crypt-OpenSSL-RSA v0.30
Platform
Perl 5 v5.14.0 x86_64-linux-thread-multi
Date
2018-05-09 23:07:23
ID
bb4ef59e-53dd-11e8-9da6-f703c768dc7a
This distribution has been tested as part of the CPAN Testers
project, supporting the Perl programming language.  See
http://wiki.cpantesters.org/ for more information or email
questions to cpan-testers-discuss@perl.org


--
Dear Todd Rinaldo,

This is a computer-generated report for Crypt-OpenSSL-RSA-0.30
on perl 5.14.0, created by CPAN-Reporter-1.2018.

Thank you for uploading your work to CPAN.  Congratulations!
All tests were successful.

Sections of this report:

    * Tester comments
    * Program output
    * Prerequisites
    * Environment and other context

------------------------------
TESTER COMMENTS
------------------------------

Additional comments from tester:

this report is from an automated smoke testing program
and was not reviewed by a human for accuracy

------------------------------
PROGRAM OUTPUT
------------------------------

Output from '/usr/bin/make test':

"/home/njh/perl5/perlbrew/perls/perl-5.14.0/bin/perl" -MExtUtils::Command::MM -e 'cp_nonempty' -- RSA.bs blib/arch/auto/Crypt/OpenSSL/RSA/RSA.bs 644
PERL_DL_NONLAZY=1 "/home/njh/perl5/perlbrew/perls/perl-5.14.0/bin/perl" "-MExtUtils::Command::MM" "-MTest::Harness" "-e" "undef *Test::Harness::Switches; test_harness(0, 'blib/lib', 'blib/arch')" t/*.t
t/format.t .................. ok
t/bignum.t .................. skipped: Crypt::OpenSSL::Bignum required for bignum tests
t/z_kwalitee.t .............. skipped: This test is only run for the module author
t/rsa.t ..................... ok
t/z_meta.t .................. skipped: This test is only run for the module author
t/z_perl_minimum_version.t .. skipped: Author tests not required for installation
t/z_pod-coverage.t .......... skipped: This test is only run for the module author
t/z_pod.t ................... skipped: This test is only run for the module author
All tests successful.
Files=8, Tests=73,  0 wallclock secs ( 0.04 usr  0.02 sys +  0.44 cusr  0.07 csys =  0.57 CPU)
Result: PASS

------------------------------
PREREQUISITES
------------------------------

Prerequisite modules loaded:

requires:

    Module                 Need  Have    
    ---------------------- ----- --------
    Crypt::OpenSSL::Random 0     0.15    
    perl                   5.006 5.014000
    Test::More             0     1.302086

build_requires:

    Module                 Need  Have    
    ---------------------- ----- --------
    ExtUtils::MakeMaker    0     7.22    

configure_requires:

    Module                 Need  Have    
    ---------------------- ----- --------
    Crypt::OpenSSL::Guess  0.11  0.11    
    ExtUtils::MakeMaker    0     7.22    


------------------------------
ENVIRONMENT AND OTHER CONTEXT
------------------------------

Environment variables:

    AUTOMATED_TESTING = 1
    HARNESS_OPTIONS = j2
    LANG = en_US.UTF-8
    PATH = /home/njh/perl5/perlbrew/bin:/home/njh/perl5/perlbrew/perls/perl-5.14.0/bin:src/njh/smoker/bin:/usr/bin:/bin
    PERL5LIB = /home/njh/.cpan/build/Crypt-OpenSSL-Random-0.15-0/blib/arch:/home/njh/.cpan/build/Crypt-OpenSSL-Random-0.15-0/blib/lib:/home/njh/.cpan/build/Crypt-OpenSSL-Guess-0.11-0/blib/arch:/home/njh/.cpan/build/Crypt-OpenSSL-Guess-0.11-0/blib/lib:/home/njh/.cpan/build/Types-Bool-2.98009-0/blib/arch:/home/njh/.cpan/build/Types-Bool-2.98009-0/blib/lib:/home/njh/.cpan/build/File-Fingerprint-0.101-0/blib/arch:/home/njh/.cpan/build/File-Fingerprint-0.101-0/blib/lib:/home/njh/.cpan/build/MD5-2.03-0/blib/arch:/home/njh/.cpan/build/MD5-2.03-0/blib/lib:/home/njh/.cpan/build/File-MMagic-1.30-0/blib/arch:/home/njh/.cpan/build/File-MMagic-1.30-0/blib/lib:/home/njh/.cpan/build/Digest-CRC-0.22-0/blib/arch:/home/njh/.cpan/build/Digest-CRC-0.22-0/blib/lib
    PERL5OPT = 
    PERL5_CPANPLUS_IS_RUNNING = 25335
    PERL5_CPAN_IS_RUNNING = 25335
    PERLBREW_HOME = /home/njh/.perlbrew
    PERLBREW_MANPATH = /home/njh/perl5/perlbrew/perls/perl-5.14.0/man
    PERLBREW_PATH = /home/njh/perl5/perlbrew/bin:/home/njh/perl5/perlbrew/perls/perl-5.14.0/bin
    PERLBREW_PERL = perl-5.14.0
    PERLBREW_ROOT = /home/njh/perl5/perlbrew
    PERLBREW_SHELLRC_VERSION = 0.82
    PERLBREW_VERSION = 0.82
    SHELL = /bin/sh
    TMPDIR = /tmp/testwrapper.25325

Perl special variables (and OS-specific diagnostics, for MSWin32):

    $^X = /home/njh/perl5/perlbrew/perls/perl-5.14.0/bin/perl
    $UID/$EUID = 1000 / 1000
    $GID = 1000 4 24 25 29 30 44 46 103 108 115 123 1000
    $EGID = 1000 4 24 25 29 30 44 46 103 108 115 123 1000

Perl module toolchain versions installed:

    Module              Have    
    ------------------- --------
    CPAN                2.16    
    CPAN::Meta          2.150005
    Cwd                 3.47    
    ExtUtils::CBuilder  0.280220
    ExtUtils::Command   7.22    
    ExtUtils::Install   1.56    
    ExtUtils::MakeMaker 7.22    
    ExtUtils::Manifest  1.70    
    ExtUtils::ParseXS   3.30    
    File::Spec          3.47    
    JSON                2.90    
    JSON::PP            2.27400 
    Module::Build       0.4210  
    Module::Signature   n/a     
    Parse::CPAN::Meta   1.4422  
    Test::Harness       3.36    
    Test::More          1.302086
    YAML                1.23    
    YAML::Syck          1.30    
    version             0.88    


--

Summary of my perl5 (revision 5 version 14 subversion 0) configuration:
   
  Platform:
    osname=linux, osvers=3.16-3-amd64, archname=x86_64-linux-thread-multi
    uname='linux amelia 3.16-3-amd64 #1 smp debian 3.16.5-1 (2014-10-10) x86_64 gnulinux '
    config_args='-de -Dprefix=/home/njh/perl5/perlbrew/perls/perl-5.14.0 -Duseithreads -Dusemultiplicity -Dusedevel -Accflags= -Aeval:scriptdir=/home/njh/perl5/perlbrew/perls/perl-5.14.0/bin'
    hint=recommended, useposix=true, d_sigaction=define
    useithreads=define, usemultiplicity=define
    useperlio=define, d_sfio=undef, uselargefiles=define, usesocks=undef
    use64bitint=define, use64bitall=define, uselongdouble=undef
    usemymalloc=n, bincompat5005=undef
  Compiler:
    cc='cc', ccflags ='-D_REENTRANT -D_GNU_SOURCE -fno-strict-aliasing -pipe -fstack-protector -I/usr/local/include -D_LARGEFILE_SOURCE -D_FILE_OFFSET_BITS=64',
    optimize='-O2',
    cppflags='-D_REENTRANT -D_GNU_SOURCE -fno-strict-aliasing -pipe -fstack-protector -I/usr/local/include'
    ccversion='', gccversion='4.9.2', gccosandvers=''
    intsize=4, longsize=8, ptrsize=8, doublesize=8, byteorder=12345678
    d_longlong=define, longlongsize=8, d_longdbl=define, longdblsize=16
    ivtype='long', ivsize=8, nvtype='double', nvsize=8, Off_t='off_t', lseeksize=8
    alignbytes=8, prototype=define
  Linker and Libraries:
    ld='cc', ldflags =' -fstack-protector -L/usr/local/lib'
    libpth=/usr/local/lib /lib/x86_64-linux-gnu /lib/../lib /usr/lib/x86_64-linux-gnu /usr/lib/../lib /lib /usr/lib
    libs=-lnsl -lgdbm -ldb -ldl -lm -lcrypt -lutil -lpthread -lc -lgdbm_compat
    perllibs=-lnsl -ldl -lm -lcrypt -lutil -lpthread -lc
    libc=libc-2.19.so, so=so, useshrplib=false, libperl=libperl.a
    gnulibc_version='2.19'
  Dynamic Linking:
    dlsrc=dl_dlopen.xs, dlext=so, d_dlsymun=undef, ccdlflags='-Wl,-E'
    cccdlflags='-fPIC', lddlflags='-shared -O2 -L/usr/local/lib -fstack-protector'


Characteristics of this binary (from libperl): 
  Compile-time options: MULTIPLICITY PERL_DONT_CREATE_GVSV
                        PERL_IMPLICIT_CONTEXT PERL_MALLOC_WRAP
                        PERL_PRESERVE_IVUV PERL_USE_DEVEL USE_64_BIT_ALL
                        USE_64_BIT_INT USE_ITHREADS USE_LARGE_FILES
                        USE_PERLIO USE_PERL_ATOF USE_REENTRANT_API
  Built under linux
  Compiled at Nov 15 2014 02:23:01
  %ENV:
    PERL5LIB="/home/njh/.cpan/build/Crypt-OpenSSL-Random-0.15-0/blib/arch:/home/njh/.cpan/build/Crypt-OpenSSL-Random-0.15-0/blib/lib:/home/njh/.cpan/build/Crypt-OpenSSL-Guess-0.11-0/blib/arch:/home/njh/.cpan/build/Crypt-OpenSSL-Guess-0.11-0/blib/lib:/home/njh/.cpan/build/Types-Bool-2.98009-0/blib/arch:/home/njh/.cpan/build/Types-Bool-2.98009-0/blib/lib:/home/njh/.cpan/build/File-Fingerprint-0.101-0/blib/arch:/home/njh/.cpan/build/File-Fingerprint-0.101-0/blib/lib:/home/njh/.cpan/build/MD5-2.03-0/blib/arch:/home/njh/.cpan/build/MD5-2.03-0/blib/lib:/home/njh/.cpan/build/File-MMagic-1.30-0/blib/arch:/home/njh/.cpan/build/File-MMagic-1.30-0/blib/lib:/home/njh/.cpan/build/Digest-CRC-0.22-0/blib/arch:/home/njh/.cpan/build/Digest-CRC-0.22-0/blib/lib"
    PERL5OPT=""
    PERL5_CPANPLUS_IS_RUNNING="25335"
    PERL5_CPAN_IS_RUNNING="25335"
    PERLBREW_HOME="/home/njh/.perlbrew"
    PERLBREW_MANPATH="/home/njh/perl5/perlbrew/perls/perl-5.14.0/man"
    PERLBREW_PATH="/home/njh/perl5/perlbrew/bin:/home/njh/perl5/perlbrew/perls/perl-5.14.0/bin"
    PERLBREW_PERL="perl-5.14.0"
    PERLBREW_ROOT="/home/njh/perl5/perlbrew"
    PERLBREW_SHELLRC_VERSION="0.82"
    PERLBREW_VERSION="0.82"
  @INC:
    /home/njh/.cpan/build/Crypt-OpenSSL-Random-0.15-0/blib/arch
    /home/njh/.cpan/build/Crypt-OpenSSL-Random-0.15-0/blib/lib
    /home/njh/.cpan/build/Crypt-OpenSSL-Guess-0.11-0/blib/arch
    /home/njh/.cpan/build/Crypt-OpenSSL-Guess-0.11-0/blib/lib
    /home/njh/.cpan/build/Types-Bool-2.98009-0/blib/arch
    /home/njh/.cpan/build/Types-Bool-2.98009-0/blib/lib
    /home/njh/.cpan/build/File-Fingerprint-0.101-0/blib/arch
    /home/njh/.cpan/build/File-Fingerprint-0.101-0/blib/lib
    /home/njh/.cpan/build/MD5-2.03-0/blib/arch
    /home/njh/.cpan/build/MD5-2.03-0/blib/lib
    /home/njh/.cpan/build/File-MMagic-1.30-0/blib/arch
    /home/njh/.cpan/build/File-MMagic-1.30-0/blib/lib
    /home/njh/.cpan/build/Digest-CRC-0.22-0/blib/arch
    /home/njh/.cpan/build/Digest-CRC-0.22-0/blib/lib
    /home/njh/perl5/perlbrew/perls/perl-5.14.0/lib/site_perl/5.14.0/x86_64-linux-thread-multi
    /home/njh/perl5/perlbrew/perls/perl-5.14.0/lib/site_perl/5.14.0
    /home/njh/perl5/perlbrew/perls/perl-5.14.0/lib/5.14.0/x86_64-linux-thread-multi
    /home/njh/perl5/perlbrew/perls/perl-5.14.0/lib/5.14.0
    .