HTML-SimpleLinkExtor v1.273 Perl 5 v5.35.1 x86_64-linux-ld
- Status
- Pass
- From
- Andreas J. König (ANDK)
- Dist
-
HTML-SimpleLinkExtor v1.273
- Platform
- Perl 5 v5.35.1 x86_64-linux-ld
- Date
- 2021-06-12 16:24:59
- ID
- bb510d88-cb9a-11eb-b2e4-a274365dd6a5
This distribution has been tested as part of the CPAN Testers
project, supporting the Perl programming language. See
http://wiki.cpantesters.org/ for more information or email
questions to cpan-testers-discuss@perl.org
--
Dear Nigel Horne,
This is a computer-generated report for HTML-SimpleLinkExtor-1.273
on perl 5.35.1, created by CPAN-Reporter-1.2018.
Thank you for uploading your work to CPAN. Congratulations!
All tests were successful.
Sections of this report:
* Tester comments
* Program output
* Prerequisites
* Environment and other context
------------------------------
TESTER COMMENTS
------------------------------
Additional comments from tester:
this report is from an automated smoke testing program
and was not reviewed by a human for accuracy
------------------------------
PROGRAM OUTPUT
------------------------------
Output from '/usr/bin/make test':
"/tmp/basesmoker-reloperl-zCby/bin/perl" "-MTest::Manifest" "-e" "run_t_manifest(0, 'blib/lib', 'blib/arch', )"
t/compile.t ......... ok
t/pod.t ............. ok
t/pod_coverage.t .... ok
t/parse.t ........... ok
t/tags.t ............ ok
t/schemes.t ......... ok
t/relative_links.t .. ok
t/absolute_links.t .. ok
t/autoload.t ........ ok
t/rt87288.t ......... ok
All tests successful.
Files=10, Tests=37, 1 wallclock secs ( 0.03 usr 0.04 sys + 0.68 cusr 0.16 csys = 0.91 CPU)
Result: PASS
------------------------------
PREREQUISITES
------------------------------
Prerequisite modules loaded:
requires:
Module Need Have
--------------------- ----- --------
AutoLoader 0 5.74
Carp 0 1.52
HTML::LinkExtor 1.28 3.76
LWP::UserAgent 0 6.54
perl 5.008 5.035001
URI 1.09 5.09
URI::file 0 5.09
build_requires:
Module Need Have
--------------------- ----- --------
Test::More 0.94 1.302185
Test::Most 0 0.37
Test::Output 0 1.033
configure_requires:
Module Need Have
--------------------- ----- --------
ExtUtils::MakeMaker 6.64 7.62
File::Spec::Functions 0 3.81
------------------------------
ENVIRONMENT AND OTHER CONTEXT
------------------------------
Environment variables:
AUTOMATED_TESTING = 1
LANG = en_US.UTF-8
PATH = /home/sand/bin:/usr/local/bin:/usr/bin:/bin:/usr/games:/usr/local/perl/bin:/usr/X11/bin:/sbin:/usr/sbin
PERL5LIB = /tmp/loop_over_bdir-3543000-JjYcX4/Devel-Required-0.16-0/blib/arch:/tmp/loop_over_bdir-3543000-JjYcX4/Devel-Required-0.16-0/blib/lib:/tmp/loop_over_bdir-3543000-JjYcX4/ProjectBuilder-0.14.1-0/blib/arch:/tmp/loop_over_bdir-3543000-JjYcX4/ProjectBuilder-0.14.1-0/blib/lib
PERL5OPT =
PERL5_CPANPLUS_IS_RUNNING = 347901
PERL5_CPAN_IS_RUNNING = 347901
PERL_CANARY_STABILITY_NOPROMPT = 1
PERL_MM_USE_DEFAULT = 1
PERL_USE_UNSAFE_INC = 1
SHELL = /usr/bin/zsh
TERM = screen
Perl special variables (and OS-specific diagnostics, for MSWin32):
$^X = /tmp/basesmoker-reloperl-zCby/bin/perl
$UID/$EUID = 1005 / 1005
$GID = 1005 1005
$EGID = 1005 1005
Perl module toolchain versions installed:
Module Have
------------------- --------
CPAN 2.28
CPAN::Meta 2.150010
Cwd 3.81
ExtUtils::CBuilder 0.280236
ExtUtils::Command 7.62
ExtUtils::Install 2.20
ExtUtils::MakeMaker 7.62
ExtUtils::Manifest 1.73
ExtUtils::ParseXS 3.43
File::Spec 3.81
JSON 4.03
JSON::PP 4.06
Module::Build 0.4231
Module::Signature 0.87
Parse::CPAN::Meta 2.150010
Test::Harness 3.43
Test::More 1.302185
YAML 1.30
YAML::Syck 1.34
version 0.9929
--
Summary of my perl5 (revision 5 version 35 subversion 1) configuration:
Commit id: 7886147fdc48d029686af31c71c808adad1a5737
Platform:
osname=linux
osvers=5.3.0-2-amd64
archname=x86_64-linux-ld
uname='linux k93msid 5.3.0-2-amd64 #1 smp debian 5.3.9-3 (2019-11-19) x86_64 gnulinux '
config_args='-Dprefix=/home/sand/src/perl/repoperls/installed-perls/host/k93msid/v5.35.0-124-g7886147fdc/ea6b -Dmyhostname=k93msid -Dinstallusrbinperl=n -Uversiononly -Dusedevel -des -Ui_db -Dlibswanted=cl pthread socket inet nsl gdbm dbm malloc dl ld sun m crypt sec util c cposix posix ucb BSD gdbm_compat -Uuseithreads -Duselongdouble -DEBUGGING=none'
hint=recommended
useposix=true
d_sigaction=define
useithreads=undef
usemultiplicity=undef
use64bitint=define
use64bitall=define
uselongdouble=define
usemymalloc=n
default_inc_excludes_dot=define
Compiler:
cc='cc'
ccflags ='-fwrapv -fno-strict-aliasing -pipe -fstack-protector-strong -I/usr/local/include -D_LARGEFILE_SOURCE -D_FILE_OFFSET_BITS=64 -D_FORTIFY_SOURCE=2'
optimize='-O2'
cppflags='-fwrapv -fno-strict-aliasing -pipe -fstack-protector-strong -I/usr/local/include'
ccversion=''
gccversion='9.2.1 20191109'
gccosandvers=''
intsize=4
longsize=8
ptrsize=8
doublesize=8
byteorder=12345678
doublekind=3
d_longlong=define
longlongsize=8
d_longdbl=define
longdblsize=16
longdblkind=3
ivtype='long'
ivsize=8
nvtype='long double'
nvsize=16
Off_t='off_t'
lseeksize=8
alignbytes=16
prototype=define
Linker and Libraries:
ld='cc'
ldflags =' -fstack-protector-strong -L/usr/local/lib'
libpth=/usr/local/lib /usr/lib/x86_64-linux-gnu /usr/lib /lib/x86_64-linux-gnu /lib
libs=-lpthread -lnsl -ldl -lm -lcrypt -lutil -lc
perllibs=-lpthread -lnsl -ldl -lm -lcrypt -lutil -lc
libc=libc-2.29.so
so=so
useshrplib=false
libperl=libperl.a
gnulibc_version='2.29'
Dynamic Linking:
dlsrc=dl_dlopen.xs
dlext=so
d_dlsymun=undef
ccdlflags='-Wl,-E'
cccdlflags='-fPIC'
lddlflags='-shared -O2 -L/usr/local/lib -fstack-protector-strong'
Characteristics of this binary (from libperl):
Compile-time options:
HAS_TIMES
PERLIO_LAYERS
PERL_COPY_ON_WRITE
PERL_DONT_CREATE_GVSV
PERL_MALLOC_WRAP
PERL_OP_PARENT
PERL_PRESERVE_IVUV
PERL_USE_DEVEL
USE_64_BIT_ALL
USE_64_BIT_INT
USE_LARGE_FILES
USE_LOCALE
USE_LOCALE_COLLATE
USE_LOCALE_CTYPE
USE_LOCALE_NUMERIC
USE_LOCALE_TIME
USE_LONG_DOUBLE
USE_PERLIO
USE_PERL_ATOF
Built under linux
Compiled at Jun 11 2021 15:52:09
%ENV:
PERL5LIB="/tmp/loop_over_bdir-3543000-JjYcX4/Devel-Required-0.16-0/blib/arch:/tmp/loop_over_bdir-3543000-JjYcX4/Devel-Required-0.16-0/blib/lib:/tmp/loop_over_bdir-3543000-JjYcX4/ProjectBuilder-0.14.1-0/blib/arch:/tmp/loop_over_bdir-3543000-JjYcX4/ProjectBuilder-0.14.1-0/blib/lib"
PERL5OPT=""
PERL5_CPANPLUS_IS_RUNNING="347901"
PERL5_CPAN_IS_RUNNING="347901"
PERL_CANARY_STABILITY_NOPROMPT="1"
PERL_MM_USE_DEFAULT="1"
PERL_USE_UNSAFE_INC="1"
@INC:
/tmp/loop_over_bdir-3543000-JjYcX4/Devel-Required-0.16-0/blib/arch
/tmp/loop_over_bdir-3543000-JjYcX4/Devel-Required-0.16-0/blib/lib
/tmp/loop_over_bdir-3543000-JjYcX4/ProjectBuilder-0.14.1-0/blib/arch
/tmp/loop_over_bdir-3543000-JjYcX4/ProjectBuilder-0.14.1-0/blib/lib
/home/sand/src/perl/repoperls/installed-perls/host/k93msid/v5.35.0-124-g7886147fdc/ea6b/lib/site_perl/5.35.1/x86_64-linux-ld
/home/sand/src/perl/repoperls/installed-perls/host/k93msid/v5.35.0-124-g7886147fdc/ea6b/lib/site_perl/5.35.1
/home/sand/src/perl/repoperls/installed-perls/host/k93msid/v5.35.0-124-g7886147fdc/ea6b/lib/5.35.1/x86_64-linux-ld
/home/sand/src/perl/repoperls/installed-perls/host/k93msid/v5.35.0-124-g7886147fdc/ea6b/lib/5.35.1
.