HTML-Template-Parser v0.1011 Perl 5 v5.37.10 x86_64-linux
- Status
- Pass
- From
- Andreas J. König (ANDK)
- Dist
-
HTML-Template-Parser v0.1011
- Platform
- Perl 5 v5.37.10 x86_64-linux
- Date
- 2023-04-02 21:17:11
- ID
- bb719f9a-d19b-11ed-a1fe-e5183e98891d
This distribution has been tested as part of the CPAN Testers
project, supporting the Perl programming language. See
http://wiki.cpantesters.org/ for more information or email
questions to cpan-testers-discuss@perl.org
--
Dear Shigeki Morimoto,
This is a computer-generated report for HTML-Template-Parser-0.1011
on perl 5.37.10, created by CPAN-Reporter-1.2018.
Thank you for uploading your work to CPAN. Congratulations!
All tests were successful.
Sections of this report:
* Tester comments
* Program output
* Prerequisites
* Environment and other context
------------------------------
TESTER COMMENTS
------------------------------
Additional comments from tester:
this report is from an automated smoke testing program
and was not reviewed by a human for accuracy
------------------------------
PROGRAM OUTPUT
------------------------------
Output from '/usr/bin/make test':
PERL_DL_NONLAZY=1 "/tmp/basesmoker-reloperl-xLHF/bin/perl" "-MExtUtils::Command::MM" "-MTest::Harness" "-e" "undef *Test::Harness::Switches; test_harness(0, 'inc', 'blib/lib', 'blib/arch')" t/*.t t/010_expr_parser/*.t t/020_template_parser/*.t t/030_tree_writer/010_htp/*.t t/030_tree_writer/020_textxslate_metakolon/*.t t/900_bug/*.t
t/000_load.t .............................................................. ok
t/010_expr_parser/001_use.t ............................................... ok
t/010_expr_parser/002_error.t ............................................. ok
t/010_expr_parser/003_number.t ............................................ ok
t/010_expr_parser/004_string.t ............................................ ok
t/010_expr_parser/005_variable.t .......................................... ok
t/010_expr_parser/006_not.t ............................................... ok
t/010_expr_parser/007_match.t ............................................. ok
t/010_expr_parser/008_math.t .............................................. ok
t/010_expr_parser/009_compare.t ........................................... ok
t/010_expr_parser/010_andor.t ............................................. ok
t/010_expr_parser/011_complex.t ........................................... ok
t/020_template_parser/001_use.t ........................................... ok
t/020_template_parser/002_error.t ......................................... ok
t/020_template_parser/003_to_list.t ....................................... ok
t/020_template_parser/004_to_tree.t ....................................... ok
t/030_tree_writer/010_htp/001_use.t ....................................... ok
t/030_tree_writer/010_htp/002_write.t ..................................... ok
t/030_tree_writer/020_textxslate_metakolon/001_use.t ...................... ok
Use of uninitialized value in lc at /tmp/loop_over_bdir-4040330-ofbuBy/HTML-Template-Parser-0.1011-0/blib/lib/HTML/Template/Parser/TreeWriter/TextXslate/Metakolon.pm line 58.
Use of uninitialized value in lc at /tmp/loop_over_bdir-4040330-ofbuBy/HTML-Template-Parser-0.1011-0/blib/lib/HTML/Template/Parser/TreeWriter/TextXslate/Metakolon.pm line 58.
Use of uninitialized value in lc at /tmp/loop_over_bdir-4040330-ofbuBy/HTML-Template-Parser-0.1011-0/blib/lib/HTML/Template/Parser/TreeWriter/TextXslate/Metakolon.pm line 58.
Use of uninitialized value in lc at /tmp/loop_over_bdir-4040330-ofbuBy/HTML-Template-Parser-0.1011-0/blib/lib/HTML/Template/Parser/TreeWriter/TextXslate/Metakolon.pm line 58.
Use of uninitialized value in lc at /tmp/loop_over_bdir-4040330-ofbuBy/HTML-Template-Parser-0.1011-0/blib/lib/HTML/Template/Parser/TreeWriter/TextXslate/Metakolon.pm line 58.
Use of uninitialized value in lc at /tmp/loop_over_bdir-4040330-ofbuBy/HTML-Template-Parser-0.1011-0/blib/lib/HTML/Template/Parser/TreeWriter/TextXslate/Metakolon.pm line 58.
Use of uninitialized value in lc at /tmp/loop_over_bdir-4040330-ofbuBy/HTML-Template-Parser-0.1011-0/blib/lib/HTML/Template/Parser/TreeWriter/TextXslate/Metakolon.pm line 58.
Use of uninitialized value in lc at /tmp/loop_over_bdir-4040330-ofbuBy/HTML-Template-Parser-0.1011-0/blib/lib/HTML/Template/Parser/TreeWriter/TextXslate/Metakolon.pm line 58.
Use of uninitialized value in lc at /tmp/loop_over_bdir-4040330-ofbuBy/HTML-Template-Parser-0.1011-0/blib/lib/HTML/Template/Parser/TreeWriter/TextXslate/Metakolon.pm line 58.
Use of uninitialized value in lc at /tmp/loop_over_bdir-4040330-ofbuBy/HTML-Template-Parser-0.1011-0/blib/lib/HTML/Template/Parser/TreeWriter/TextXslate/Metakolon.pm line 58.
Use of uninitialized value in lc at /tmp/loop_over_bdir-4040330-ofbuBy/HTML-Template-Parser-0.1011-0/blib/lib/HTML/Template/Parser/TreeWriter/TextXslate/Metakolon.pm line 58.
Use of uninitialized value in lc at /tmp/loop_over_bdir-4040330-ofbuBy/HTML-Template-Parser-0.1011-0/blib/lib/HTML/Template/Parser/TreeWriter/TextXslate/Metakolon.pm line 58.
Use of uninitialized value in lc at /tmp/loop_over_bdir-4040330-ofbuBy/HTML-Template-Parser-0.1011-0/blib/lib/HTML/Template/Parser/TreeWriter/TextXslate/Metakolon.pm line 58.
Use of uninitialized value in lc at /tmp/loop_over_bdir-4040330-ofbuBy/HTML-Template-Parser-0.1011-0/blib/lib/HTML/Template/Parser/TreeWriter/TextXslate/Metakolon.pm line 58.
Use of uninitialized value in lc at /tmp/loop_over_bdir-4040330-ofbuBy/HTML-Template-Parser-0.1011-0/blib/lib/HTML/Template/Parser/TreeWriter/TextXslate/Metakolon.pm line 58.
Use of uninitialized value in lc at /tmp/loop_over_bdir-4040330-ofbuBy/HTML-Template-Parser-0.1011-0/blib/lib/HTML/Template/Parser/TreeWriter/TextXslate/Metakolon.pm line 58.
Use of uninitialized value in lc at /tmp/loop_over_bdir-4040330-ofbuBy/HTML-Template-Parser-0.1011-0/blib/lib/HTML/Template/Parser/TreeWriter/TextXslate/Metakolon.pm line 58.
Use of uninitialized value in lc at /tmp/loop_over_bdir-4040330-ofbuBy/HTML-Template-Parser-0.1011-0/blib/lib/HTML/Template/Parser/TreeWriter/TextXslate/Metakolon.pm line 58.
Use of uninitialized value in lc at /tmp/loop_over_bdir-4040330-ofbuBy/HTML-Template-Parser-0.1011-0/blib/lib/HTML/Template/Parser/TreeWriter/TextXslate/Metakolon.pm line 58.
Use of uninitialized value in lc at /tmp/loop_over_bdir-4040330-ofbuBy/HTML-Template-Parser-0.1011-0/blib/lib/HTML/Template/Parser/TreeWriter/TextXslate/Metakolon.pm line 58.
Use of uninitialized value in lc at /tmp/loop_over_bdir-4040330-ofbuBy/HTML-Template-Parser-0.1011-0/blib/lib/HTML/Template/Parser/TreeWriter/TextXslate/Metakolon.pm line 58.
Use of uninitialized value in lc at /tmp/loop_over_bdir-4040330-ofbuBy/HTML-Template-Parser-0.1011-0/blib/lib/HTML/Template/Parser/TreeWriter/TextXslate/Metakolon.pm line 58.
Use of uninitialized value in lc at /tmp/loop_over_bdir-4040330-ofbuBy/HTML-Template-Parser-0.1011-0/blib/lib/HTML/Template/Parser/TreeWriter/TextXslate/Metakolon.pm line 58.
Use of uninitialized value in lc at /tmp/loop_over_bdir-4040330-ofbuBy/HTML-Template-Parser-0.1011-0/blib/lib/HTML/Template/Parser/TreeWriter/TextXslate/Metakolon.pm line 58.
Use of uninitialized value in lc at /tmp/loop_over_bdir-4040330-ofbuBy/HTML-Template-Parser-0.1011-0/blib/lib/HTML/Template/Parser/TreeWriter/TextXslate/Metakolon.pm line 58.
Use of uninitialized value in lc at /tmp/loop_over_bdir-4040330-ofbuBy/HTML-Template-Parser-0.1011-0/blib/lib/HTML/Template/Parser/TreeWriter/TextXslate/Metakolon.pm line 58.
t/030_tree_writer/020_textxslate_metakolon/002_write.t .................... ok
t/030_tree_writer/020_textxslate_metakolon/003_replace_tempalte_suffix.t .. ok
t/030_tree_writer/020_textxslate_metakolon/004_wrap_include_target.t ...... ok
t/900_bug/001_not.t ....................................................... ok
t/900_bug/002_float.t ..................................................... ok
Unescaped left brace in regex is passed through in regex; marked by <-- HERE in m/line 1. column 1. something wrong. Can't use \${ <-- HERE name} at NAME. \[\${foo}\]/ at t/900_bug/003_name_and_expr.t line 10.
Unescaped left brace in regex is passed through in regex; marked by <-- HERE in m/line 1. column 1. something wrong. Can't use \${name} at NAME. \[\${ <-- HERE foo}\]/ at t/900_bug/003_name_and_expr.t line 10.
t/900_bug/003_name_and_expr.t ............................................. ok
All tests successful.
Files=25, Tests=238, 4 wallclock secs ( 0.08 usr 0.02 sys + 3.64 cusr 0.51 csys = 4.25 CPU)
Result: PASS
------------------------------
PREREQUISITES
------------------------------
Prerequisite modules loaded:
requires:
Module Need Have
--------------------- -------- --------
Class::Accessor::Fast 0 0.51
Parse::RecDescent 0 1.967015
perl 5.008001 5.037010
YAML 0 1.30
build_requires:
Module Need Have
--------------------- -------- --------
ExtUtils::MakeMaker 6.59 7.70
configure_requires:
Module Need Have
--------------------- -------- --------
ExtUtils::MakeMaker 6.59 7.70
------------------------------
ENVIRONMENT AND OTHER CONTEXT
------------------------------
Environment variables:
AUTOMATED_TESTING = 1
LANG = en_US.UTF-8
PATH = /home/sand/bin:/usr/local/bin:/usr/local/sbin:/usr/sbin:/usr/bin:/sbin:/bin:/usr/games:/usr/local/games:/snap/bin:/usr/local/perl/bin:/usr/X11/bin
PERL = /tmp/basesmoker-reloperl-xLHF/bin/perl
PERL5LIB = /tmp/loop_over_bdir-4040330-ofbuBy/DBIx-Migration-Directories-0.12-0/blib/arch:/tmp/loop_over_bdir-4040330-ofbuBy/DBIx-Migration-Directories-0.12-0/blib/lib:/tmp/loop_over_bdir-4040330-ofbuBy/Devel-Required-0.16-0/blib/arch:/tmp/loop_over_bdir-4040330-ofbuBy/Devel-Required-0.16-0/blib/lib:/tmp/loop_over_bdir-4040330-ofbuBy/ProjectBuilder-0.14.1-0/blib/arch:/tmp/loop_over_bdir-4040330-ofbuBy/ProjectBuilder-0.14.1-0/blib/lib
PERL5OPT =
PERL5_CPANPLUS_IS_RUNNING = 4040482
PERL5_CPAN_IS_RUNNING = 4040482
PERL_CANARY_STABILITY_NOPROMPT = 1
PERL_MM_USE_DEFAULT = 1
PERL_USE_UNSAFE_INC = 1
SHELL = /usr/bin/zsh
TERM = screen
Perl special variables (and OS-specific diagnostics, for MSWin32):
$^X = /tmp/basesmoker-reloperl-xLHF/bin/perl
$UID/$EUID = 1005 / 1005
$GID = 1005 1005
$EGID = 1005 1005
Perl module toolchain versions installed:
Module Have
------------------- --------
CPAN 2.34
CPAN::Meta 2.150010
Cwd 3.89
ExtUtils::CBuilder 0.280238
ExtUtils::Command 7.70
ExtUtils::Install 2.22
ExtUtils::MakeMaker 7.70
ExtUtils::Manifest 1.73
ExtUtils::ParseXS 3.49
File::Spec 3.88
JSON 4.10
JSON::PP 4.16
Module::Build 0.4232
Module::Signature 0.88
Parse::CPAN::Meta 2.150010
Test::Harness 3.44
Test::More 1.302194
YAML 1.30
YAML::Syck 1.34
version 0.9929
--
Summary of my perl5 (revision 5 version 37 subversion 10) configuration:
Commit id: d62f5d9eddd273f5a82c0dbad932a8f4d18f9488
Platform:
osname=linux
osvers=5.4.0-146-generic
archname=x86_64-linux
uname='linux k93focal 5.4.0-146-generic #163-ubuntu smp fri mar 17 18:26:02 utc 2023 x86_64 x86_64 x86_64 gnulinux '
config_args='-Dprefix=/home/sand/src/perl/repoperls/installed-perls/host/k93focal/v5.37.10/b254 -Dmyhostname=k93focal -Dinstallusrbinperl=n -Uversiononly -Dusedevel -des -Ui_db -Dlibswanted=cl pthread socket inet nsl gdbm dbm malloc dl ld sun m crypt sec util c cposix posix ucb BSD gdbm_compat -Uuseithreads -Uuselongdouble -DEBUGGING=both'
hint=recommended
useposix=true
d_sigaction=define
useithreads=undef
usemultiplicity=undef
use64bitint=define
use64bitall=define
uselongdouble=undef
usemymalloc=n
default_inc_excludes_dot=define
Compiler:
cc='cc'
ccflags ='-fwrapv -DDEBUGGING -fno-strict-aliasing -pipe -fstack-protector-strong -I/usr/local/include -D_LARGEFILE_SOURCE -D_FILE_OFFSET_BITS=64'
optimize='-O2 -g'
cppflags='-fwrapv -DDEBUGGING -fno-strict-aliasing -pipe -fstack-protector-strong -I/usr/local/include'
ccversion=''
gccversion='9.4.0'
gccosandvers=''
intsize=4
longsize=8
ptrsize=8
doublesize=8
byteorder=12345678
doublekind=3
d_longlong=define
longlongsize=8
d_longdbl=define
longdblsize=16
longdblkind=3
ivtype='long'
ivsize=8
nvtype='double'
nvsize=8
Off_t='off_t'
lseeksize=8
alignbytes=8
prototype=define
Linker and Libraries:
ld='cc'
ldflags =' -fstack-protector-strong -L/usr/local/lib'
libpth=/usr/local/lib /usr/lib/x86_64-linux-gnu /usr/lib /usr/lib64
libs=-lpthread -lnsl -ldl -lm -lcrypt -lutil -lc
perllibs=-lpthread -lnsl -ldl -lm -lcrypt -lutil -lc
libc=libc-2.31.so
so=so
useshrplib=false
libperl=libperl.a
gnulibc_version='2.31'
Dynamic Linking:
dlsrc=dl_dlopen.xs
dlext=so
d_dlsymun=undef
ccdlflags='-Wl,-E'
cccdlflags='-fPIC'
lddlflags='-shared -O2 -g -L/usr/local/lib -fstack-protector-strong'
Characteristics of this binary (from libperl):
Compile-time options:
DEBUGGING
HAS_TIMES
PERLIO_LAYERS
PERL_COPY_ON_WRITE
PERL_DONT_CREATE_GVSV
PERL_HASH_FUNC_SIPHASH13
PERL_HASH_USE_SBOX32
PERL_MALLOC_WRAP
PERL_OP_PARENT
PERL_PRESERVE_IVUV
PERL_USE_DEVEL
PERL_USE_SAFE_PUTENV
USE_64_BIT_ALL
USE_64_BIT_INT
USE_LARGE_FILES
USE_LOCALE
USE_LOCALE_COLLATE
USE_LOCALE_CTYPE
USE_LOCALE_NUMERIC
USE_LOCALE_TIME
USE_PERLIO
USE_PERL_ATOF
Built under linux
Compiled at Apr 1 2023 07:44:10
%ENV:
PERL="/tmp/basesmoker-reloperl-xLHF/bin/perl"
PERL5LIB="/tmp/loop_over_bdir-4040330-ofbuBy/DBIx-Migration-Directories-0.12-0/blib/arch:/tmp/loop_over_bdir-4040330-ofbuBy/DBIx-Migration-Directories-0.12-0/blib/lib:/tmp/loop_over_bdir-4040330-ofbuBy/Devel-Required-0.16-0/blib/arch:/tmp/loop_over_bdir-4040330-ofbuBy/Devel-Required-0.16-0/blib/lib:/tmp/loop_over_bdir-4040330-ofbuBy/ProjectBuilder-0.14.1-0/blib/arch:/tmp/loop_over_bdir-4040330-ofbuBy/ProjectBuilder-0.14.1-0/blib/lib"
PERL5OPT=""
PERL5_CPANPLUS_IS_RUNNING="4040482"
PERL5_CPAN_IS_RUNNING="4040482"
PERL_CANARY_STABILITY_NOPROMPT="1"
PERL_MM_USE_DEFAULT="1"
PERL_USE_UNSAFE_INC="1"
@INC:
/tmp/loop_over_bdir-4040330-ofbuBy/DBIx-Migration-Directories-0.12-0/blib/arch
/tmp/loop_over_bdir-4040330-ofbuBy/DBIx-Migration-Directories-0.12-0/blib/lib
/tmp/loop_over_bdir-4040330-ofbuBy/Devel-Required-0.16-0/blib/arch
/tmp/loop_over_bdir-4040330-ofbuBy/Devel-Required-0.16-0/blib/lib
/tmp/loop_over_bdir-4040330-ofbuBy/ProjectBuilder-0.14.1-0/blib/arch
/tmp/loop_over_bdir-4040330-ofbuBy/ProjectBuilder-0.14.1-0/blib/lib
/home/sand/src/perl/repoperls/installed-perls/host/k93focal/v5.37.10/b254/lib/site_perl/5.37.10/x86_64-linux
/home/sand/src/perl/repoperls/installed-perls/host/k93focal/v5.37.10/b254/lib/site_perl/5.37.10
/home/sand/src/perl/repoperls/installed-perls/host/k93focal/v5.37.10/b254/lib/5.37.10/x86_64-linux
/home/sand/src/perl/repoperls/installed-perls/host/k93focal/v5.37.10/b254/lib/5.37.10
.