Report for Project-Euler-0.20

Back
From: metabase:user:30977d10-2aae-11df-837a-5e0a49663a4f
Subject: PASS Project-Euler-0.20 v5.14.0 
Date: 2011-06-24T22:34:24Z

This distribution has been tested as part of the CPAN Testers
project, supporting the Perl programming language.  See
http://wiki.cpantesters.org/ for more information or email
questions to cpan-testers-discuss@perl.org


--
Dear Adam Lesperance,

This is a computer-generated report for Project-Euler-0.20
on perl 5.14.0, created by CPAN-Reporter-1.1902.

Thank you for uploading your work to CPAN.  Congratulations!
All tests were successful.

Sections of this report:

    * Tester comments
    * Program output
    * Prerequisites
    * Environment and other context

------------------------------
TESTER COMMENTS
------------------------------

Additional comments from tester:

this report is from an automated smoke testing program
and was not reviewed by a human for accuracy

------------------------------
PROGRAM OUTPUT
------------------------------

Output from 'C:\home\stro\perl\perl5140\bin\perl5.14.0.exe ./Build test':

# Testing Project::Euler, Perl 5.014000, C:\home\stro\perl\perl5140\bin\PERL51~1.EXE
t/00-Base/00-load.t ........................... ok
t/00-Base/01-base.t ........................... ok
t/00-compile.t ................................ ok
t/10-Lib/000-Types.t .......................... ok
t/10-Lib/100-Utils_List.t ..................... ok
t/10-Lib/101-Utils_Fibs.t ..................... ok
t/20-Problems/000-Correct_Defaults.t .......... ok
t/20-Problems/001-Sum_Filtered_Lists.t ........ ok
t/20-Problems/002-Sum_Filtered_Fib_Numbers.t .. ok
t/author-99-template.t ........................ skipped: these tests are for testing by the author
t/author-critic.t ............................. skipped: these tests are for testing by the author
t/release-check-changes.t ..................... skipped: these tests are for release candidate testing
t/release-distmeta.t .......................... skipped: these tests are for release candidate testing
t/release-has-version.t ....................... skipped: these tests are for release candidate testing
t/release-kwalitee.t .......................... skipped: these tests are for release candidate testing
t/release-minimum-version.t ................... skipped: these tests are for release candidate testing
t/release-pod-coverage.t ...................... skipped: these tests are for release candidate testing
t/release-pod-syntax.t ........................ skipped: these tests are for release candidate testing
t/release-portability.t ....................... skipped: these tests are for release candidate testing
t/release-synopsis.t .......................... skipped: these tests are for release candidate testing
t/release-unused-vars.t ....................... skipped: these tests are for release candidate testing
All tests successful.
Files=21, Tests=338, 26 wallclock secs ( 0.14 usr +  0.13 sys =  0.27 CPU)
Result: PASS

------------------------------
PREREQUISITES
------------------------------

Prerequisite modules loaded:

requires:

    Module                      Need   Have    
    --------------------------- ------ --------
    Carp                        0      1.20    
    DateTime                    0      0.70    
    DateTime::Format::DateParse 0      0.05    
    Exporter::Easy              0      0.16    
    List::MoreUtils             0      0.32    
    List::Util                  0      1.23    
    Math::Big::Factors          0      1.02    
    Math::BigInt                0      1.993   
    Modern::Perl                0      1.03    
    Moose                       0      2.0008  
    Moose::Role                 0      2.0008  
    MooseX::Types               0      0.25    
    MooseX::Types::Moose        0      0.25    
    namespace::autoclean        0      0.12    
    perl                        5.010  5.014000
    Readonly                    0      1.03    
    String::Palindrome          0      2.000001

build_requires:

    Module                      Need   Have    
    --------------------------- ------ --------
    autodie                     0      2.10    
    constant                    0      1.21    
    English                     0      1.04    
    File::Find                  0      1.19    
    File::Spec                  0      3.33    
    File::Temp                  0      0.22    
    Module::Build               0.3601 0.3800  
    Test::Exception             0      0.31    
    Test::More                  0      0.98    
    Test::Most                  0      0.24    

configure_requires:

    Module                      Need   Have    
    --------------------------- ------ --------
    Module::Build               0.3601 0.3800  


------------------------------
ENVIRONMENT AND OTHER CONTEXT
------------------------------

Environment variables:

    AUTOMATED_TESTING = 1
    COMSPEC = C:\Windows\system32\cmd.exe
    INCLUDE = C:\bin\dev\psdk\2003\Include\.;C:\bin\dev\vc\VC98\atl\include;C:\bin\dev\vc\VC98\mfc\include;C:\bin\dev\vc\VC98\include
    LIB = C:\bin\dev\psdk\2003\Lib\.;C:\bin\dev\vc\VC98\mfc\lib;C:\bin\dev\vc\VC98\lib
    NUMBER_OF_PROCESSORS = 2
    PATH = C:\bin\apps\far\;C:\Program Files\Common Files\Microsoft Shared\Windows Live;C:\bin\sys\msys\bin\;c:\bin\graph\imagemagick-6.5.1-q16;C:\bin\dev\tortoiseSVN;C:\bin\dev\perl\site\bin;C:\bin\dev\perl\bin;c:\bin\run;C:\Windows\system32;C:\Windows;C:\Windows\System32\Wbem;C:\bin\sys\unixutils;C:\bin\dev\tortoiseSVN\bin;C:\bin\sys\sysinternals;C:\bin\db\oracle\instantclient_11_1;C:\Program Files\Intel\WiFi\bin\;C:\Program Files\Common Files\Intel\WirelessCommon\;\;C:\usr\bin;C:\bin\dev\psdk\2003\Bin\.;C:\bin\dev\psdk\2003\Bin\WinNT\.;C:\Windows\System32\WindowsPowerShell\v1.0\;C:\Program Files\Windows Live\Shared;C:\bin\dev\vc\Common\Tools\WinNT;C:\bin\dev\vc\Common\MSDev98\Bin;C:\bin\dev\vc\Common\Tools;C:\bin\dev\vc\VC98\bin;C:\bin\db\postgresql\bin\;C:\bin\dev\psdk\2003\Bin\.;C:\bin\graph\ImageConverterPlus;C:\bin\graph\ImageConverterPlus\Microsoft.VC90.CRT;C:\bin\graph\ImageConverterPlus\Microsoft.VC90.MFC;C:\bin\sys\smartmontools\bin;C:\bin\comm\Nmap
    PERL5LIB = 
    PERL5OPT = 
    PERL5_CPANPLUS_IS_RUNNING = 5708
    PERL5_CPAN_IS_RUNNING = 5708
    PERL5_CPAN_IS_RUNNING_IN_RECURSION = 4872,5708
    PERL_CR_SMOKER_CURRENT = Project-Euler-0.20
    PERL_EXTUTILS_AUTOINSTALL = --defaultdeps
    PERL_MM_USE_DEFAULT = 1
    PROCESSOR_IDENTIFIER = x86 Family 6 Model 15 Stepping 11, GenuineIntel
    TEMP = C:\Windows\Temp
    TMPDIR = C:\Windows\Temp

Perl special variables (and OS-specific diagnostics, for MSWin32):

    $^X = C:\home\stro\perl\perl5140\bin\perl5.14.0.exe
    $UID/$EUID = 0 / 0
    $GID = 0
    $EGID = 0
    Win32::GetOSName = WinVista
    Win32::GetOSVersion = Service Pack 2, 6, 0, 6002, 2, 2, 0, 768, 1
    Win32::FsType = NTFS
    Win32::IsAdminUser = 1

Perl module toolchain versions installed:

    Module              Have    
    ------------------- --------
    CPAN                1.9600  
    Cwd                 3.36    
    ExtUtils::CBuilder  0.280202
    ExtUtils::Command   1.17    
    ExtUtils::Install   1.56    
    ExtUtils::MakeMaker 6.57_11 
    ExtUtils::Manifest  1.58    
    ExtUtils::ParseXS   2.2206  
    File::Spec          3.33    
    Module::Build       0.3800  
    Module::Signature   n/a     
    Test::Harness       3.23    
    Test::More          0.98    
    YAML                0.73    
    YAML::Syck          1.17    
    version             0.88    


--

Summary of my perl5 (revision 5 version 14 subversion 0) configuration:
   
  Platform:
    osname=MSWin32, osvers=6.0, archname=MSWin32-x86-multi-thread
    uname=''
    config_args='undef'
    hint=recommended, useposix=true, d_sigaction=undef
    useithreads=define, usemultiplicity=define
    useperlio=define, d_sfio=undef, uselargefiles=define, usesocks=undef
    use64bitint=undef, use64bitall=undef, uselongdouble=undef
    usemymalloc=n, bincompat5005=undef
  Compiler:
    cc='cl', ccflags ='-nologo -GF -W3 -MD -Zi -DNDEBUG -O1 -DWIN32 -D_CONSOLE -DNO_STRICT  -DPERL_TEXTMODE_SCRIPTS -DPERL_IMPLICIT_CONTEXT -DPERL_IMPLICIT_SYS -DUSE_PERLIO -D_USE_32BIT_TIME_T',
    optimize='-MD -Zi -DNDEBUG -O1',
    cppflags='-DWIN32'
    ccversion='12.00.8804', gccversion='', gccosandvers=''
    intsize=4, longsize=4, ptrsize=4, doublesize=8, byteorder=1234
    d_longlong=undef, longlongsize=8, d_longdbl=define, longdblsize=8
    ivtype='long', ivsize=4, nvtype='double', nvsize=8, Off_t='__int64', lseeksize=8
    alignbytes=8, prototype=define
  Linker and Libraries:
    ld='link', ldflags ='-nologo -nodefaultlib -debug -opt:ref,icf  -libpath:"c:\home\stro\perl\perl5140\lib\CORE"  -machine:x86'
    libpth=\lib
    libs=oldnames.lib kernel32.lib user32.lib gdi32.lib winspool.lib  comdlg32.lib advapi32.lib shell32.lib ole32.lib oleaut32.lib  netapi32.lib uuid.lib ws2_32.lib mpr.lib winmm.lib  version.lib odbc32.lib odbccp32.lib comctl32.lib msvcrt.lib
    perllibs=oldnames.lib kernel32.lib user32.lib gdi32.lib winspool.lib  comdlg32.lib advapi32.lib shell32.lib ole32.lib oleaut32.lib  netapi32.lib uuid.lib ws2_32.lib mpr.lib winmm.lib  version.lib odbc32.lib odbccp32.lib comctl32.lib msvcrt.lib
    libc=msvcrt.lib, so=dll, useshrplib=true, libperl=perl514.lib
    gnulibc_version=''
  Dynamic Linking:
    dlsrc=dl_win32.xs, dlext=dll, d_dlsymun=undef, ccdlflags=' '
    cccdlflags=' ', lddlflags='-dll -nologo -nodefaultlib -debug -opt:ref,icf  -libpath:"c:\home\stro\perl\perl5140\lib\CORE"  -machine:x86'


Characteristics of this binary (from libperl): 
  Compile-time options: MULTIPLICITY PERL_DONT_CREATE_GVSV
                        PERL_IMPLICIT_CONTEXT PERL_IMPLICIT_SYS
                        PERL_MALLOC_WRAP PERL_PRESERVE_IVUV PL_OP_SLAB_ALLOC
                        USE_ITHREADS USE_LARGE_FILES USE_PERLIO
                        USE_PERL_ATOF
  Built under MSWin32
  Compiled at May 23 2011 23:55:49
  %ENV:
    PERL5_CPANPLUS_IS_RUNNING="5708"
    PERL5_CPAN_IS_RUNNING="5708"
    PERL5_CPAN_IS_RUNNING_IN_RECURSION="4872,5708"
    PERL_CR_SMOKER_CURRENT="Project-Euler-0.20"
    PERL_EXTUTILS_AUTOINSTALL="--defaultdeps"
    PERL_MM_USE_DEFAULT="1"
  @INC:
    C:/home/stro/perl/perl5140/site/lib
    C:/home/stro/perl/perl5140/lib
    .