Back
From: metabase:user:320bfe00-2aae-11df-837a-5e0a49663a4f
Subject: PASS Math-MatrixReal-2.13 v5.24.1 GNU/Linux
Date: 2017-02-12T19:37:47Z
This distribution has been tested as part of the CPAN Testers
project, supporting the Perl programming language. See
http://wiki.cpantesters.org/ for more information or email
questions to cpan-testers-discuss@perl.org
--
Dear Jonathan Leto,
This is a computer-generated report for Math-MatrixReal-2.13
on perl 5.24.1, created by CPAN-Reporter-1.2018.
Thank you for uploading your work to CPAN. Congratulations!
All tests were successful.
Sections of this report:
* Tester comments
* Program output
* Prerequisites
* Environment and other context
------------------------------
TESTER COMMENTS
------------------------------
Additional comments from tester:
this report is from an automated smoke testing program
and was not reviewed by a human for accuracy
------------------------------
PROGRAM OUTPUT
------------------------------
Output from './Build test':
# Testing Math::MatrixReal 2.13 on linux, Perl (/tmp/basesmoker-reloperl-9QJ2/bin/perl) 5.024001
t/00-load.t ............ ok
t/adjoint.t ............ ok
t/arith.t .............. ok
t/assign.t ............. ok
t/basic.t .............. ok
* Estimated diagonalization time for 150x150 matrix: 2.83 s
Estimated biggest matrix diagonalisable within 1 day cpu: 4582x4582
* Estimated eigenvalues-only computation time for 150x150 matrix: 0.29 s
Estimated biggest matrix manageable within 1 day cpu: 9704x9704
Btw, do you want to crunch such one now? (no, just kidding...;-)
t/bench_eigen.t ........ ok
t/bench_eigen2.t ....... ok
t/binary.t ............. ok
t/bool.t ............... ok
t/cofactor.t ........... ok
t/concat.t ............. ok
t/condition.t .......... ok
t/decompose_LR.t ....... ok
t/det.t ................ ok
t/diag.t ............... ok
t/display_precision.t .. ok
t/div.t ................ ok
t/each.t ............... ok
t/eigen_3x3.t .......... ok
t/eigen_7x7.t .......... ok
t/eigen_NxN.t .......... ok
t/equality.t ........... ok
t/exponent.t ........... ok
t/ext1.t ............... ok
t/gramian.t ............ ok
t/gsm.t ................ ok
t/inequality.t ......... ok
t/inverse.t ............ ok
t/is_LR.t .............. ok
t/isrowcol.t ........... ok
t/latex.t .............. ok
t/length.t ............. ok
t/list.t ............... ok
t/matlab.t ............. ok
t/max_min.t ............ ok
t/minimax.t ............ ok
t/minor.t .............. ok
t/norm.t ............... ok
t/normality.t .......... ok
t/orthogonal.t ......... ok
t/periodic.t ........... ok
t/positive.t ........... ok
t/product.t ............ ok
t/quadratic.t .......... ok
t/rand.t ............... ok
t/rank.t ............... ok
t/scinotation.t ........ ok
t/similar.t ............ ok
t/spectral.t ........... ok
t/stringify.t .......... ok
t/submatrix.t .......... ok
t/swap.t ............... ok
t/symmetric.t .......... ok
t/trace.t .............. ok
t/transpose.t .......... ok
t/triang.t ............. ok
t/tridiag.t ............ ok
t/vecnorm.t ............ ok
t/yacas.t .............. ok
All tests successful.
Files=59, Tests=353, 5 wallclock secs ( 0.12 usr 0.36 sys + 3.75 cusr 0.62 csys = 4.85 CPU)
Result: PASS
------------------------------
PREREQUISITES
------------------------------
Prerequisite modules loaded:
build_requires:
Module Need Have
------------- ---- -------
File::Spec 0 3.63_01
Test::Most 0 0.35
configure_requires:
Module Need Have
------------- ---- -------
Module::Build 0.38 0.4220
------------------------------
ENVIRONMENT AND OTHER CONTEXT
------------------------------
Environment variables:
AUTOMATED_TESTING = 1
LANG = C
PATH = /home/sand/bin:/usr/local/bin:/usr/bin:/bin:/usr/games:/usr/local/perl/bin:/usr/X11/bin:/sbin:/usr/sbin
PERL5LIB =
PERL5OPT =
PERL5_CPANPLUS_IS_RUNNING = 23630
PERL5_CPAN_IS_RUNNING = 23630
PERL_CANARY_STABILITY_NOPROMPT = 1
PERL_MM_USE_DEFAULT = 1
SHELL = /usr/bin/zsh
TERM = screen
Perl special variables (and OS-specific diagnostics, for MSWin32):
$^X = /tmp/basesmoker-reloperl-9QJ2/bin/perl
$UID/$EUID = 1005 / 1005
$GID = 1005 1005
$EGID = 1005 1005
Perl module toolchain versions installed:
Module Have
------------------- ----------
CPAN 2.16
CPAN::Meta 2.150010
Cwd 3.63_01
ExtUtils::CBuilder 0.280225
ExtUtils::Command 7.24
ExtUtils::Install 2.04
ExtUtils::MakeMaker 7.24
ExtUtils::Manifest 1.70
ExtUtils::ParseXS 3.31
File::Spec 3.63_01
JSON 2.90
JSON::PP 2.27300_01
Module::Build 0.4220
Module::Signature 0.81
Parse::CPAN::Meta 2.150010
Test::Harness 3.36_01
Test::More 1.302075
YAML 1.21
YAML::Syck 1.29
version 0.9916
--
Summary of my perl5 (revision 5 version 24 subversion 1) configuration:
Derived from: 443bd156a6baaf7a8fe6b6b05fcf6c4178140ed2
Platform:
osname=linux, osvers=4.9.0-1-amd64, archname=x86_64-linux-thread-multi
uname='linux k93x64sid 4.9.0-1-amd64 #1 smp debian 4.9.6-3 (2017-01-28) x86_64 gnulinux '
config_args='-Dprefix=/home/sand/src/perl/repoperls/installed-perls/host/k93x64sid/v5.24.1/fae6 -Dmyhostname=k93x64sid -Dinstallusrbinperl=n -Uversiononly -Dusedevel -des -Ui_db -Dlibswanted=cl pthread socket inet nsl gdbm dbm malloc dl ld sun m crypt sec util c cposix posix ucb BSD gdbm_compat -Duseithreads -Uuselongdouble'
hint=recommended, useposix=true, d_sigaction=define
useithreads=define, usemultiplicity=define
use64bitint=define, use64bitall=define, uselongdouble=undef
usemymalloc=n, bincompat5005=undef
Compiler:
cc='cc', ccflags ='-D_REENTRANT -D_GNU_SOURCE -fwrapv -fno-strict-aliasing -pipe -fstack-protector-strong -I/usr/local/include -D_LARGEFILE_SOURCE -D_FILE_OFFSET_BITS=64',
optimize='-O2',
cppflags='-D_REENTRANT -D_GNU_SOURCE -fwrapv -fno-strict-aliasing -pipe -fstack-protector-strong -I/usr/local/include'
ccversion='', gccversion='6.3.0 20170205', gccosandvers=''
intsize=4, longsize=8, ptrsize=8, doublesize=8, byteorder=12345678, doublekind=3
d_longlong=define, longlongsize=8, d_longdbl=define, longdblsize=16, longdblkind=3
ivtype='long', ivsize=8, nvtype='double', nvsize=8, Off_t='off_t', lseeksize=8
alignbytes=8, prototype=define
Linker and Libraries:
ld='cc', ldflags =' -fstack-protector-strong -L/usr/local/lib'
libpth=/usr/local/lib /usr/lib/gcc/x86_64-linux-gnu/6/include-fixed /usr/include/x86_64-linux-gnu /usr/lib /lib/x86_64-linux-gnu /lib/../lib /usr/lib/x86_64-linux-gnu /usr/lib/../lib /lib
libs=-lpthread -lnsl -ldl -lm -lcrypt -lutil -lc
perllibs=-lpthread -lnsl -ldl -lm -lcrypt -lutil -lc
libc=libc-2.24.so, so=so, useshrplib=false, libperl=libperl.a
gnulibc_version='2.24'
Dynamic Linking:
dlsrc=dl_dlopen.xs, dlext=so, d_dlsymun=undef, ccdlflags='-Wl,-E'
cccdlflags='-fPIC', lddlflags='-shared -O2 -L/usr/local/lib -fstack-protector-strong'
Characteristics of this binary (from libperl):
Compile-time options: HAS_TIMES MULTIPLICITY PERLIO_LAYERS
PERL_COPY_ON_WRITE PERL_DONT_CREATE_GVSV
PERL_HASH_FUNC_ONE_AT_A_TIME_HARD
PERL_IMPLICIT_CONTEXT PERL_MALLOC_WRAP
PERL_PRESERVE_IVUV PERL_USE_DEVEL USE_64_BIT_ALL
USE_64_BIT_INT USE_ITHREADS USE_LARGE_FILES
USE_LOCALE USE_LOCALE_COLLATE USE_LOCALE_CTYPE
USE_LOCALE_NUMERIC USE_LOCALE_TIME USE_PERLIO
USE_PERL_ATOF USE_REENTRANT_API
Locally applied patches:
uncommitted-changes
Built under linux
Compiled at Feb 12 2017 12:16:23
%ENV:
PERL5LIB=""
PERL5OPT=""
PERL5_CPANPLUS_IS_RUNNING="23630"
PERL5_CPAN_IS_RUNNING="23630"
PERL_CANARY_STABILITY_NOPROMPT="1"
PERL_MM_USE_DEFAULT="1"
@INC:
/home/sand/src/perl/repoperls/installed-perls/host/k93x64sid/v5.24.1/fae6/lib/site_perl/5.24.1/x86_64-linux-thread-multi
/home/sand/src/perl/repoperls/installed-perls/host/k93x64sid/v5.24.1/fae6/lib/site_perl/5.24.1
/home/sand/src/perl/repoperls/installed-perls/host/k93x64sid/v5.24.1/fae6/lib/5.24.1/x86_64-linux-thread-multi
/home/sand/src/perl/repoperls/installed-perls/host/k93x64sid/v5.24.1/fae6/lib/5.24.1
.