Report for Carp-Parse-Redact-1.1.5

Back
From: metabase:user:30f0bd62-2aae-11df-837a-5e0a49663a4f
Subject: PASS Carp-Parse-Redact-1.1.5 v5.14.3 RC1 OpenBSD
Date: 2012-10-15T07:48:39Z

This distribution has been tested as part of the CPAN Testers
project, supporting the Perl programming language.  See
http://wiki.cpantesters.org/ for more information or email
questions to cpan-testers-discuss@perl.org


--
Dear Katherine Kirby,

This is a computer-generated report for Carp-Parse-Redact-1.1.5
on perl 5.14.3, created by CPAN-Reporter-1.2006.

Thank you for uploading your work to CPAN.  Congratulations!
All tests were successful.

Sections of this report:

    * Tester comments
    * Program output
    * Prerequisites
    * Environment and other context

------------------------------
TESTER COMMENTS
------------------------------

Additional comments from tester:

this report is from an automated smoke testing program
and was not reviewed by a human for accuracy

------------------------------
PROGRAM OUTPUT
------------------------------

Output from './Build test':

# Carp::Parse::Redact 1.1.5, Perl 5.014003, /home/sts/cpansmoke/perl-5.14.3-RC1/bin/perl
t/00-load.t .......................................................... ok
t/10-parse_stack_trace.t ............................................. ok
t/11-parse_stack_trace-regexp.t ...................................... ok
t/12-parse_stack_trace-indentation.t ................................. ok
# Carp::Parse::CallerInformation::Redacted 1.1.5, Perl 5.014003, /home/sts/cpansmoke/perl-5.14.3-RC1/bin/perl
t/CallerInformation-Redacted/00-load.t ............................... ok
t/CallerInformation-Redacted/10-new.t ................................ ok
t/CallerInformation-Redacted/20-get_line.t ........................... ok
t/CallerInformation-Redacted/30-get_arguments_string.t ............... ok
t/CallerInformation-Redacted/40-get_arguments_list.t ................. ok
t/CallerInformation-Redacted/45-get_redacted_arguments_list.t ........ ok
t/CallerInformation-Redacted/50-get_redacted_line.t .................. ok
t/CallerInformation-Redacted/51-get_redacted_line-single_argument.t .. ok
t/manifest.t ......................................................... skipped: Author tests not required for installation
t/module_versions.t .................................................. skipped: Test::Dist::VersionSync 1.0.0 required for testing module versions in the distribution.
t/perlcritic.t ....................................................... skipped: Author tests not required for installation.
t/pod-coverage.t ..................................................... skipped: Test::Pod::Coverage 1.08 required for testing POD coverage
t/pod.t .............................................................. skipped: Test::Pod 1.22 required for testing POD
All tests successful.
Files=17, Tests=21,  1 wallclock secs ( 0.12 usr  0.05 sys +  0.62 cusr  0.11 csys =  0.90 CPU)
Result: PASS

------------------------------
PREREQUISITES
------------------------------

Prerequisite modules loaded:

requires:

    Module               Need  Have    
    -------------------- ----- --------
    Carp                 0     1.20    
    Carp::Parse          0     1.0.4   
    Data::Dump           0     1.21    
    Data::Validate::Type 0     1.3.1   
    perl                 5.006 5.014003

build_requires:

    Module               Need  Have    
    -------------------- ----- --------
    Test::Deep           0     0.110   
    Test::Exception      0     0.31    
    Test::More           0     0.98    

configure_requires:

    Module               Need  Have    
    -------------------- ----- --------
    Module::Build        0.40  0.4003  


------------------------------
ENVIRONMENT AND OTHER CONTEXT
------------------------------

Environment variables:

    AUTOMATED_TESTING = 1
    PATH = /home/sts/bin:/bin:/sbin:/usr/bin:/usr/sbin:/usr/X11R6/bin:/usr/local/bin:/usr/local/sbin:/usr/games:.
    PERL5LIB = /home/sts/cpansmoke/perl-5.14.3-RC1/cpan/build/Data-Validate-Type-1.3.1-pDdcv2/blib/arch:/home/sts/cpansmoke/perl-5.14.3-RC1/cpan/build/Data-Validate-Type-1.3.1-pDdcv2/blib/lib:/home/sts/cpansmoke/perl-5.14.3-RC1/cpan/build/Carp-Parse-1.0.4-QDnWtU/blib/arch:/home/sts/cpansmoke/perl-5.14.3-RC1/cpan/build/Carp-Parse-1.0.4-QDnWtU/blib/lib:/home/sts/cpansmoke/perl-5.14.3-RC1/cpan/build/Test-Deep-0.110-KLp_9O/blib/arch:/home/sts/cpansmoke/perl-5.14.3-RC1/cpan/build/Test-Deep-0.110-KLp_9O/blib/lib:/home/sts/cpansmoke/perl-5.14.3-RC1/cpan/build/Data-Dump-1.21-cH26eD/blib/arch:/home/sts/cpansmoke/perl-5.14.3-RC1/cpan/build/Data-Dump-1.21-cH26eD/blib/lib:/home/sts/cpansmoke/perl-5.14.3-RC1/cpan/build/Module-Build-0.4003-z6NH_1/blib/arch:/home/sts/cpansmoke/perl-5.14.3-RC1/cpan/build/Module-Build-0.4003-z6NH_1/blib/lib
    PERL5OPT = 
    PERL5_CPANPLUS_IS_RUNNING = 22934
    PERL5_CPAN_IS_RUNNING = 22934
    PERL5_CPAN_IS_RUNNING_IN_RECURSION = 826,22934
    PERL_CR_SMOKER_CURRENT = Log-Log4perl-Layout-PatternLayout-Redact-1.2.0
    PERL_EXTUTILS_AUTOINSTALL = --defaultdeps
    PERL_MM_USE_DEFAULT = 1
    SHELL = /usr/local/bin/bash
    TERM = screen
    TMPDIR = /home/sts/cpansmoke/tmp

Perl special variables (and OS-specific diagnostics, for MSWin32):

    $^X = /home/sts/cpansmoke/perl-5.14.3-RC1/bin/perl
    $UID/$EUID = 1000 / 1000
    $GID = 10 10 0
    $EGID = 10 10 0

Perl module toolchain versions installed:

    Module              Have    
    ------------------- --------
    CPAN                1.9800  
    CPAN::Meta          2.110440
    Cwd                 3.36    
    ExtUtils::CBuilder  0.280203
    ExtUtils::Command   1.17    
    ExtUtils::Install   1.56    
    ExtUtils::MakeMaker 6.57_05 
    ExtUtils::Manifest  1.58    
    ExtUtils::ParseXS   2.2210  
    File::Spec          3.33    
    JSON                2.53    
    JSON::PP            2.27105 
    Module::Build       0.4003  
    Module::Signature   n/a     
    Parse::CPAN::Meta   1.4401  
    Test::Harness       3.23    
    Test::More          0.98    
    YAML                n/a     
    YAML::Syck          n/a     
    version             0.88    


--

Summary of my perl5 (revision 5 version 14 subversion 3) configuration:
   
  Platform:
    osname=openbsd, osvers=5.1, archname=OpenBSD.i386-openbsd-thread-multi
    uname='openbsd cpansmoke3 5.1 generic.mp#188 i386 '
    config_args='-des -Dusethreads -Dprefix=/home/sts/cpansmoke/perl-5.14.3-RC1'
    hint=recommended, useposix=true, d_sigaction=define
    useithreads=define, usemultiplicity=define
    useperlio=define, d_sfio=undef, uselargefiles=define, usesocks=undef
    use64bitint=undef, use64bitall=undef, uselongdouble=undef
    usemymalloc=y, bincompat5005=undef
  Compiler:
    cc='cc', ccflags ='-pthread -fno-strict-aliasing -pipe -fstack-protector -I/usr/local/include',
    optimize='-O2',
    cppflags='-pthread -fno-strict-aliasing -pipe -fstack-protector -I/usr/local/include'
    ccversion='', gccversion='4.2.1 20070719 ', gccosandvers='openbsd5.1'
    intsize=4, longsize=4, ptrsize=4, doublesize=8, byteorder=1234
    d_longlong=define, longlongsize=8, d_longdbl=define, longdblsize=12
    ivtype='long', ivsize=4, nvtype='double', nvsize=8, Off_t='off_t', lseeksize=8
    alignbytes=4, prototype=define
  Linker and Libraries:
    ld='cc', ldflags ='-pthread -Wl,-E  -fstack-protector -L/usr/local/lib'
    libpth=/usr/local/lib /usr/lib
    libs=-lgdbm -lm -lutil -lc
    perllibs=-lm -lutil -lc
    libc=/usr/lib/libc.so.62.0, so=so, useshrplib=false, libperl=libperl.a
    gnulibc_version=''
  Dynamic Linking:
    dlsrc=dl_dlopen.xs, dlext=so, d_dlsymun=undef, ccdlflags=' '
    cccdlflags='-DPIC -fPIC ', lddlflags='-shared -fPIC  -L/usr/local/lib -fstack-protector'


Characteristics of this binary (from libperl): 
  Compile-time options: MULTIPLICITY MYMALLOC PERL_DONT_CREATE_GVSV
                        PERL_IMPLICIT_CONTEXT PERL_MALLOC_WRAP
                        PERL_PRESERVE_IVUV USE_ITHREADS USE_LARGE_FILES
                        USE_PERLIO USE_PERL_ATOF USE_REENTRANT_API
  Locally applied patches:
	RC1
  Built under openbsd
  Compiled at Oct  9 2012 14:34:59
  %ENV:
    PERL5LIB="/home/sts/cpansmoke/perl-5.14.3-RC1/cpan/build/Data-Validate-Type-1.3.1-pDdcv2/blib/arch:/home/sts/cpansmoke/perl-5.14.3-RC1/cpan/build/Data-Validate-Type-1.3.1-pDdcv2/blib/lib:/home/sts/cpansmoke/perl-5.14.3-RC1/cpan/build/Carp-Parse-1.0.4-QDnWtU/blib/arch:/home/sts/cpansmoke/perl-5.14.3-RC1/cpan/build/Carp-Parse-1.0.4-QDnWtU/blib/lib:/home/sts/cpansmoke/perl-5.14.3-RC1/cpan/build/Test-Deep-0.110-KLp_9O/blib/arch:/home/sts/cpansmoke/perl-5.14.3-RC1/cpan/build/Test-Deep-0.110-KLp_9O/blib/lib:/home/sts/cpansmoke/perl-5.14.3-RC1/cpan/build/Data-Dump-1.21-cH26eD/blib/arch:/home/sts/cpansmoke/perl-5.14.3-RC1/cpan/build/Data-Dump-1.21-cH26eD/blib/lib:/home/sts/cpansmoke/perl-5.14.3-RC1/cpan/build/Module-Build-0.4003-z6NH_1/blib/arch:/home/sts/cpansmoke/perl-5.14.3-RC1/cpan/build/Module-Build-0.4003-z6NH_1/blib/lib"
    PERL5OPT=""
    PERL5_CPANPLUS_IS_RUNNING="22934"
    PERL5_CPAN_IS_RUNNING="22934"
    PERL5_CPAN_IS_RUNNING_IN_RECURSION="826,22934"
    PERL_CR_SMOKER_CURRENT="Log-Log4perl-Layout-PatternLayout-Redact-1.2.0"
    PERL_EXTUTILS_AUTOINSTALL="--defaultdeps"
    PERL_MM_USE_DEFAULT="1"
  @INC:
    /home/sts/cpansmoke/perl-5.14.3-RC1/cpan/build/Data-Validate-Type-1.3.1-pDdcv2/blib/arch
    /home/sts/cpansmoke/perl-5.14.3-RC1/cpan/build/Data-Validate-Type-1.3.1-pDdcv2/blib/lib
    /home/sts/cpansmoke/perl-5.14.3-RC1/cpan/build/Carp-Parse-1.0.4-QDnWtU/blib/arch
    /home/sts/cpansmoke/perl-5.14.3-RC1/cpan/build/Carp-Parse-1.0.4-QDnWtU/blib/lib
    /home/sts/cpansmoke/perl-5.14.3-RC1/cpan/build/Test-Deep-0.110-KLp_9O/blib/arch
    /home/sts/cpansmoke/perl-5.14.3-RC1/cpan/build/Test-Deep-0.110-KLp_9O/blib/lib
    /home/sts/cpansmoke/perl-5.14.3-RC1/cpan/build/Data-Dump-1.21-cH26eD/blib/arch
    /home/sts/cpansmoke/perl-5.14.3-RC1/cpan/build/Data-Dump-1.21-cH26eD/blib/lib
    /home/sts/cpansmoke/perl-5.14.3-RC1/cpan/build/Module-Build-0.4003-z6NH_1/blib/arch
    /home/sts/cpansmoke/perl-5.14.3-RC1/cpan/build/Module-Build-0.4003-z6NH_1/blib/lib
    /home/sts/cpansmoke/perl-5.14.3-RC1/lib/site_perl/5.14.3/OpenBSD.i386-openbsd-thread-multi
    /home/sts/cpansmoke/perl-5.14.3-RC1/lib/site_perl/5.14.3
    /home/sts/cpansmoke/perl-5.14.3-RC1/lib/5.14.3/OpenBSD.i386-openbsd-thread-multi
    /home/sts/cpansmoke/perl-5.14.3-RC1/lib/5.14.3
    .