Report for Yash-0.2

Back
From: metabase:user:322078bc-2aae-11df-837a-5e0a49663a4f
Subject: PASS Yash-0.2 v5.8.9 SunOS/Solaris
Date: 2010-11-08T22:22:55Z

This distribution has been tested as part of the CPAN Testers
project, supporting the Perl programming language.  See
http://wiki.cpantesters.org/ for more information or email
questions to cpan-testers-discuss@perl.org


--

Dear IDERRICK,
    
This is a computer-generated error report created automatically by
CPANPLUS, version 0.9010. Testers personal comments may appear 
at the end of this report.

MAKE TEST passed:
t/array.t ... ok
t/hash.t .... ok
t/scalar.t .. ok
All tests successful.
Files=3, Tests=10,  3 wallclock secs ( 0.08 usr  0.04 sys +  2.05 cusr  0.68 csys =  2.85 CPU)
Result: PASS

[MSG] [Mon Nov  8 22:27:05 2010] Sending test report for 'Yash-0.2'

This report was machine-generated by CPANPLUS::Dist::YACSmoke 0.58.
Powered by minismokebox version 0.32

------------------------------
ENVIRONMENT AND OTHER CONTEXT
------------------------------

Environment variables:

    AUTOMATED_TESTING = 1
    PATH = /usr/local/sbin:/usr/local/bin:/usr/sbin:/usr/bin:/sbin:/usr/bin/X11:/usr/games
    PERL5LIB = :/export/home/cpan/pit/64bit/conf/perl-5.8.9/.cpanplus/5.8.9/build/YAML-0.72/blib/lib:/export/home/cpan/pit/64bit/conf/perl-5.8.9/.cpanplus/5.8.9/build/YAML-0.72/blib/arch:/export/home/cpan/pit/64bit/conf/perl-5.8.9/.cpanplus/5.8.9/build/Yash-0.2/blib/lib:/export/home/cpan/pit/64bit/conf/perl-5.8.9/.cpanplus/5.8.9/build/Yash-0.2/blib/arch
    PERL5_CPANPLUS_IS_RUNNING = 13932
    PERL5_CPANPLUS_IS_VERSION = 0.9010
    PERL5_MINISMOKEBOX = 0.32
    PERL5_YACSMOKE_BASE = /export/home/cpan/pit/64bit/conf/perl-5.8.9
    PERL_EXTUTILS_AUTOINSTALL = --defaultdeps
    PERL_MM_USE_DEFAULT = 1
    SHELL = /bin/bash
    TERM = screen

Perl special variables (and OS-specific diagnostics, for MSWin32):

    Perl: $^X = /export/home/cpan/pit/64bit/perl-5.8.9/bin/perl
    UID:  $<  = 1001
    EUID: $>  = 1001
    GID:  $(  = 10 10
    EGID: $)  = 10 10


-------------------------------


--

Summary of my perl5 (revision 5 version 8 subversion 9) configuration:
  Platform:
    osname=solaris, osvers=2.11, archname=i86pc-solaris-64int
    uname='sunos eunuch 5.11 nexentaos_134f i86pc i386 i86pc solaris '
    config_args='-des -Dprefix=/export/home/cpan/pit/64bit/perl-5.8.9 -Duse64bitint'
    hint=recommended, useposix=true, d_sigaction=define
    usethreads=undef use5005threads=undef useithreads=undef usemultiplicity=undef
    useperlio=define d_sfio=undef uselargefiles=define usesocks=undef
    use64bitint=define use64bitall=undef uselongdouble=undef
    usemymalloc=n, bincompat5005=undef
  Compiler:
    cc='cc', ccflags ='-DPTR_IS_LONG -fno-strict-aliasing -pipe -I/usr/local/include -D_LARGEFILE_SOURCE -D_FILE_OFFSET_BITS=64 -DPERL_USE_SAFE_PUTENV',
    optimize='-O',
    cppflags='-DPTR_IS_LONG -fno-strict-aliasing -pipe -I/usr/local/include'
    ccversion='', gccversion='4.2.3 (Ubuntu 4.2.3-2nexenta7)', gccosandvers=''
    intsize=4, longsize=4, ptrsize=4, doublesize=8, byteorder=12345678
    d_longlong=define, longlongsize=8, d_longdbl=define, longdblsize=12
    ivtype='long long', ivsize=8, nvtype='double', nvsize=8, Off_t='off_t', lseeksize=8
    alignbytes=4, prototype=define
  Linker and Libraries:
    ld='cc', ldflags =' -L/usr/local/lib '
    libpth=/usr/local/lib /usr/lib /usr/ccs/lib
    libs=-lsocket -lnsl -ldl -lm -lc
    perllibs=-lsocket -lnsl -ldl -lm -lc
    libc=/lib/libc.so, so=so, useshrplib=false, libperl=libperl.a
    gnulibc_version=''
  Dynamic Linking:
    dlsrc=dl_dlopen.xs, dlext=so, d_dlsymun=undef, ccdlflags=' -Wl,-E'
    cccdlflags='-fPIC', lddlflags=' -Wl,-E -G -L/usr/local/lib'


Characteristics of this binary (from libperl): 
  Compile-time options: PERL_MALLOC_WRAP PERL_USE_SAFE_PUTENV USE_64_BIT_INT
                        USE_FAST_STDIO USE_LARGE_FILES USE_PERLIO
  Built under solaris
  Compiled at Aug 18 2010 02:42:54
  %ENV:
    PERL5LIB=":/export/home/cpan/pit/64bit/conf/perl-5.8.9/.cpanplus/5.8.9/build/YAML-0.72/blib/lib:/export/home/cpan/pit/64bit/conf/perl-5.8.9/.cpanplus/5.8.9/build/YAML-0.72/blib/arch:/export/home/cpan/pit/64bit/conf/perl-5.8.9/.cpanplus/5.8.9/build/Yash-0.2/blib/lib:/export/home/cpan/pit/64bit/conf/perl-5.8.9/.cpanplus/5.8.9/build/Yash-0.2/blib/arch"
    PERL5_CPANPLUS_IS_RUNNING="13932"
    PERL5_CPANPLUS_IS_VERSION="0.9010"
    PERL5_MINISMOKEBOX="0.32"
    PERL5_YACSMOKE_BASE="/export/home/cpan/pit/64bit/conf/perl-5.8.9"
    PERL_EXTUTILS_AUTOINSTALL="--defaultdeps"
    PERL_MM_USE_DEFAULT="1"
  @INC:
    /export/home/cpan/pit/64bit/conf/perl-5.8.9/.cpanplus/5.8.9/build/YAML-0.72/blib/lib
    /export/home/cpan/pit/64bit/conf/perl-5.8.9/.cpanplus/5.8.9/build/YAML-0.72/blib/arch
    /export/home/cpan/pit/64bit/conf/perl-5.8.9/.cpanplus/5.8.9/build/Yash-0.2/blib/lib
    /export/home/cpan/pit/64bit/conf/perl-5.8.9/.cpanplus/5.8.9/build/Yash-0.2/blib/arch
    /export/home/cpan/pit/64bit/perl-5.8.9/lib/5.8.9/i86pc-solaris-64int
    /export/home/cpan/pit/64bit/perl-5.8.9/lib/5.8.9
    /export/home/cpan/pit/64bit/perl-5.8.9/lib/site_perl/5.8.9/i86pc-solaris-64int
    /export/home/cpan/pit/64bit/perl-5.8.9/lib/site_perl/5.8.9
    .