Bread-Board v0.37 Perl 5 v5.41.11 x86_64-dragonfly

Status
Pass
From
Carlos Guevara
Dist
Bread-Board v0.37
Platform
Perl 5 v5.41.11 x86_64-dragonfly
Date
2025-03-25 04:07:57
ID
bbe6514c-092e-11f0-a1ab-ec98b2bc9be0
This distribution has been tested as part of the CPAN Testers
project, supporting the Perl programming language.  See
http://wiki.cpantesters.org/ for more information or email
questions to cpan-testers-discuss@perl.org


--
Dear Yanick Champoux,

This is a computer-generated report for Bread-Board-0.37
on perl 5.41.11, created by CPAN-Reporter-1.2020.

Thank you for uploading your work to CPAN.  Congratulations!
All tests were successful.

Sections of this report:

    * Tester comments
    * Program output
    * Prerequisites
    * Environment and other context

------------------------------
TESTER COMMENTS
------------------------------

Additional comments from tester:

this report is from an automated smoke testing program
and was not reviewed by a human for accuracy

------------------------------
PROGRAM OUTPUT
------------------------------

Output from '/usr/bin/make test':

PERL_DL_NONLAZY=1 "/home/cpan/bin/perl/bin/perl5.41.11" "-MExtUtils::Command::MM" "-MTest::Harness" "-e" "undef *Test::Harness::Switches; test_harness(0, 'blib/lib', 'blib/arch')" t/*.t
t/00-compile.t ............................ ok
# 
# Versions for all modules listed in MYMETA.json (including optional ones):
# 
# === Configure Requires ===
# 
#     Module              Want Have
#     ------------------- ---- ----
#     ExtUtils::MakeMaker  any 7.72
# 
# === Build Requires ===
# 
#     Module              Want Have
#     ------------------- ---- ----
#     ExtUtils::MakeMaker  any 7.72
# 
# === Test Requires ===
# 
#     Module              Want     Have
#     ------------------- ---- --------
#     ExtUtils::MakeMaker  any     7.72
#     File::Spec           any     3.93
#     FindBin              any     1.54
#     IO::Handle           any     1.55
#     IPC::Open3           any     1.24
#     Test::Fatal          any    0.017
#     Test::Moose          any   2.2207
#     Test::More           any 1.302209
#     Test::Requires       any     0.11
# 
# === Test Recommends ===
# 
#     Module         Want     Have
#     ---------- -------- --------
#     CPAN::Meta 2.120900 2.150010
# 
# === Runtime Requires ===
# 
#     Module                         Want    Have
#     ---------------------------- ------ -------
#     Carp                            any    1.54
#     Module::Runtime                 any   0.016
#     Moose                           any  2.2207
#     Moose::Exporter              2.1200  2.2207
#     Moose::Role                     any  2.2207
#     Moose::Util                     any  2.2207
#     Moose::Util::TypeConstraints    any  2.2207
#     MooseX::Clone                  0.05    0.06
#     MooseX::Params::Validate       0.14    0.21
#     Scalar::Util                    any 1.68_01
#     Try::Tiny                       any    0.32
#     overload                        any    1.40
#     strict                          any    1.13
#     warnings                        any    1.74
# 
t/00-report-prereqs.t ..................... ok
t/001_constructor_injection.t ............. ok
t/002_setter_injection.t .................. ok
t/003_block_injection.t ................... ok
t/004_block_injection_w_out_class.t ....... ok
t/005_alias.t ............................. ok
t/010_container.t ......................... ok
t/011_container_path.t .................... ok
t/012_container_with_shared_deps.t ........ ok
t/020_sugar.t ............................. ok
t/021_sugar.t ............................. ok
t/022_sugar.t ............................. ok
t/023_sugar.t ............................. ok
t/024_sugar.t ............................. ok
t/025_sugar_w_absolute_path.t ............. ok
t/026_sugar_remove.t ...................... ok
t/027_sugar_w_include.t ................... ok
t/028_sugar_w_recursive_inc.t ............. ok
t/029_sugar_auto_wire_names.t ............. ok
t/030_lifecycle_singleton.t ............... ok
t/031_custom_lifecycles.t ................. ok
t/032_singleton_cycle.t ................... ok
t/040_circular_dependencies.t ............. ok
t/041_parameter_cache_handling.t .......... ok
t/042_parameter_cache_with_singleton.t .... ok
t/043_parameter_leaks.t ................... ok
t/044_deferred_parameters.t ............... ok
t/045_parameters_in_dependency.t .......... ok
t/046_custom_parameter_service.t .......... ok
t/047_dependencies_override_parameters.t .. ok
t/048_array_deps.t ........................ ok
t/050_parameterized_containers.t .......... ok
t/051_more_parameterized_containers.t ..... ok
t/052_parameterized_in_hierarchy.t ........ ok
t/053_parameterized_clone.t ............... ok
t/054_parameterized_backref.t ............. ok
t/060_extend_w_sugar.t .................... ok
t/061_extends_w_sugar_and_inheritance.t ... ok
t/062_service_class_w_sugar.t ............. ok
t/070_with_basic_typemap.t ................ ok
t/071_typemap_with_basic_infer.t .......... ok
t/072_typemap_with_more_infer.t ........... ok
t/073_typemap_with_role_infer.t ........... ok
t/074_typemap_w_recursive_infer.t ......... ok
t/075_complex_typemap_example.t ........... ok
t/076_more_complex_typemap.t .............. ok
t/077_more_complex_typemap_w_roles.t ...... ok
t/078_complex_typemap_w_error.t ........... ok
t/079_depending_on_type.t ................. ok
t/080_infer_subclasses.t .................. ok
t/100_clone_w_constructor_injection.t ..... ok
t/101_clone_w_setter_injection.t .......... ok
t/102_clone_w_block_injection.t ........... ok
t/110_clone_w_singleton.t ................. ok
t/150_deferred_parameters_fail.t .......... ok
t/151_sugar_no_container.t ................ ok
t/152_sugar_service_inheritance.t ......... ok
t/153_sugar_container_inheritance.t ....... ok
t/200_example_code.t ...................... ok
t/201_log_dispatch_example.t .............. ok
t/202_form_sensible_example.t ............. skipped: Form::Sensible is broken at the moment
t/300_no_new.t ............................ ok
t/301_sugar.t ............................. ok
t/302_path_traversal_deprecation.t ........ ok
t/310_literal_keyword.t ................... ok
t/500-gh61.t .............................. ok
All tests successful.
Files=67, Tests=755, 28 wallclock secs ( 0.20 usr  0.20 sys + 24.48 cusr  3.36 csys = 28.24 CPU)
Result: PASS

------------------------------
PREREQUISITES
------------------------------

Prerequisite modules loaded:

requires:

    Module                       Need   Have    
    ---------------------------- ------ --------
    Carp                         0      1.54    
    Module::Runtime              0      0.016   
    Moose                        0      2.2207  
    Moose::Exporter              2.1200 2.2207  
    Moose::Role                  0      2.2207  
    Moose::Util                  0      2.2207  
    Moose::Util::TypeConstraints 0      2.2207  
    MooseX::Clone                0.05   0.06    
    MooseX::Params::Validate     0.14   0.21    
    overload                     0      1.40    
    perl                         5.006  5.041011
    Scalar::Util                 0      1.68_01 
    strict                       0      1.13    
    Try::Tiny                    0      0.32    
    warnings                     0      1.74    

build_requires:

    Module                       Need   Have    
    ---------------------------- ------ --------
    ExtUtils::MakeMaker          0      7.72    
    File::Spec                   0      3.93    
    FindBin                      0      1.54    
    IO::Handle                   0      1.55    
    IPC::Open3                   0      1.24    
    Test::Fatal                  0      0.017   
    Test::Moose                  0      2.2207  
    Test::More                   0      1.302209
    Test::Requires               0      0.11    

configure_requires:

    Module                       Need   Have    
    ---------------------------- ------ --------
    ExtUtils::MakeMaker          0      7.72    


------------------------------
ENVIRONMENT AND OTHER CONTEXT
------------------------------

Environment variables:

    AUTOMATED_TESTING = 1
    DATE_MANIP_TEST_DM5 = 1
    LC_ALL = C
    NONINTERACTIVE_TESTING = 1
    NO_NETWORK_TESTING = 1
    PATH = /home/cpan/bin/perl/bin:/home/cpan/bin:/sbin:/bin:/usr/sbin:/usr/bin:/usr/games:/usr/local/sbin:/usr/local/bin:/usr/pkg/sbin:/usr/pkg/bin:/home/cpan/bin
    PERL5LIB = 
    PERL5OPT = 
    PERL5_CPANPLUS_IS_RUNNING = 681256
    PERL5_CPAN_IS_RUNNING = 681256
    PERL_MM_USE_DEFAULT = 1
    PERL_USE_UNSAFE_INC = 1
    SHELL = /usr/local/bin/bash
    TERM = screen
    TMPDIR = /home/cpan/tmp

Perl special variables (and OS-specific diagnostics, for MSWin32):

    $^X = /home/cpan/bin/perl/bin/perl5.41.11
    $UID/$EUID = 1002 / 1002
    $GID = 1002 1002
    $EGID = 1002 1002

Perl module toolchain versions installed:

    Module              Have    
    ------------------- --------
    CPAN                2.38    
    CPAN::Meta          2.150010
    Cwd                 3.92    
    ExtUtils::CBuilder  0.280240
    ExtUtils::Command   7.72    
    ExtUtils::Install   2.22    
    ExtUtils::MakeMaker 7.72    
    ExtUtils::Manifest  1.75    
    ExtUtils::ParseXS   3.57    
    File::Spec          3.93    
    JSON                4.10    
    JSON::PP            4.16    
    Module::Build       0.4234  
    Module::Signature   0.89    
    Parse::CPAN::Meta   2.150010
    Test2               1.302209
    Test::Harness       3.50    
    Test::More          1.302209
    YAML                1.31    
    YAML::Syck          1.34    
    version             0.9933  


--

Summary of my perl5 (revision 5 version 41 subversion 11) configuration:
  Commit id: e5ef137f9116f74315e333518f08c23751271064
  Platform:
    osname=dragonfly
    osvers=6.4-release
    archname=x86_64-dragonfly
    uname='dragonfly cjg-dragonfly6 6.4-release dragonfly v6.4.0-release #54: fri dec 30 09:06:50 pst 2022 root@pkgbox64.dragonflybsd.org:usrobjusrsrcsysx86_64_generic x86_64 '
    config_args='-des -Dprefix=/home/cpan/bin/perl -Dscriptdir=/home/cpan/bin/perl/bin -Dusedevel -Duse64bitall'
    hint=recommended
    useposix=true
    d_sigaction=define
    useithreads=undef
    usemultiplicity=undef
    use64bitint=define
    use64bitall=define
    uselongdouble=undef
    usemymalloc=n
    default_inc_excludes_dot=define
  Compiler:
    cc='cc'
    ccflags ='-DHAS_FPSETMASK -DHAS_FLOATINGPOINT_H -DNO_POSIX_2008_LOCALE -fwrapv -fno-strict-aliasing -pipe -fstack-protector-strong -I/usr/local/include -D_FORTIFY_SOURCE=2'
    optimize='-O2'
    cppflags='-DHAS_FPSETMASK -DHAS_FLOATINGPOINT_H -DNO_POSIX_2008_LOCALE -fwrapv -fno-strict-aliasing -pipe -fstack-protector-strong -I/usr/local/include'
    ccversion=''
    gccversion='8.3 [DragonFly] Release/2019-02-22'
    gccosandvers=''
    intsize=4
    longsize=8
    ptrsize=8
    doublesize=8
    byteorder=12345678
    doublekind=3
    d_longlong=define
    longlongsize=8
    d_longdbl=define
    longdblsize=16
    longdblkind=3
    ivtype='long'
    ivsize=8
    nvtype='double'
    nvsize=8
    Off_t='off_t'
    lseeksize=8
    alignbytes=8
    prototype=define
  Linker and Libraries:
    ld='cc'
    ldflags ='-Wl,-E  -fstack-protector-strong -L/usr/local/lib'
    libpth=/usr/lib /usr/local/lib
    libs=-lpthread -lgdbm -ldl -lm -lcrypt -lutil -lc
    perllibs=-lpthread -ldl -lm -lcrypt -lutil -lc
    libc=
    so=so
    useshrplib=false
    libperl=libperl.a
    gnulibc_version=''
  Dynamic Linking:
    dlsrc=dl_dlopen.xs
    dlext=so
    d_dlsymun=undef
    ccdlflags=' '
    cccdlflags='-DPIC -fPIC'
    lddlflags='-shared  -L/usr/local/lib -fstack-protector-strong'


Characteristics of this binary (from libperl): 
  Compile-time options:
    HAS_LONG_DOUBLE
    HAS_STRTOLD
    HAS_TIMES
    PERLIO_LAYERS
    PERL_COPY_ON_WRITE
    PERL_DONT_CREATE_GVSV
    PERL_HASH_FUNC_SIPHASH13
    PERL_HASH_USE_SBOX32
    PERL_MALLOC_WRAP
    PERL_OP_PARENT
    PERL_PRESERVE_IVUV
    PERL_USE_DEVEL
    PERL_USE_SAFE_PUTENV
    USE_64_BIT_ALL
    USE_64_BIT_INT
    USE_LARGE_FILES
    USE_LOCALE
    USE_LOCALE_COLLATE
    USE_LOCALE_CTYPE
    USE_LOCALE_NUMERIC
    USE_LOCALE_TIME
    USE_PERLIO
    USE_PERL_ATOF
  Built under dragonfly
  Compiled at Mar 24 2025 18:02:32
  %ENV:
    PERL5LIB=""
    PERL5OPT=""
    PERL5_CPANPLUS_IS_RUNNING="681256"
    PERL5_CPAN_IS_RUNNING="681256"
    PERL_MM_USE_DEFAULT="1"
    PERL_USE_UNSAFE_INC="1"
  @INC:
    /home/cpan/bin/perl/lib/site_perl/5.41.11/x86_64-dragonfly
    /home/cpan/bin/perl/lib/site_perl/5.41.11
    /home/cpan/bin/perl/lib/5.41.11/x86_64-dragonfly
    /home/cpan/bin/perl/lib/5.41.11
    .