Back
From: metabase:user:9820532a-708b-1014-9a05-b18a96298da1
Subject: PASS CGI-Session-4.43 v5.15.5 GNU/Linux
Date: 2011-12-09T00:21:27Z
This distribution has been tested as part of the CPAN Testers
project, supporting the Perl programming language. See
http://wiki.cpantesters.org/ for more information or email
questions to cpan-testers-discuss@perl.org
--
Dear Mark Stosberg,
This is a computer-generated report for CGI-Session-4.43
on perl 5.15.5, created by CPAN-Reporter-1.2003.
Thank you for uploading your work to CPAN. Congratulations!
All tests were successful.
Sections of this report:
* Tester comments
* Program output
* Prerequisites
* Environment and other context
------------------------------
TESTER COMMENTS
------------------------------
Additional comments from tester:
this report is from an automated smoke testing program
and was not reviewed by a human for accuracy
------------------------------
PROGRAM OUTPUT
------------------------------
Output from './Build test':
t/api3_db_file.t ................ skipped: DB_File not available
t/api3_db_file_freezethaw.t ..... skipped: DB_File not available
t/api3_db_file_storable.t ....... skipped: DB_File not available
t/api3_db_file_storable_incr.t .. skipped: DB_File not available
Use of qw(...) as parentheses is deprecated at
/home/bri/.cpan/build/CGI-Session-4.43-5XnXm3/blib/lib/CGI/Session.pm line 804 (#1)
(D deprecated) You have something like foreach $x qw(a b c) {...},
using a qw(...) list literal where a parenthesised expression is
expected. Historically the parser fooled itself into thinking that
qw(...) literals were always enclosed in parentheses, and as a result
you could sometimes omit parentheses around them. (You could never do
the foreach qw(a b c) {...} that you might have expected, though.)
The parser no longer lies to itself in this way. Wrap the list literal
in parentheses, like foreach $x (qw(a b c)) {...}.
t/api3_file.t ................... ok
Use of qw(...) as parentheses is deprecated at
/home/bri/.cpan/build/CGI-Session-4.43-5XnXm3/blib/lib/CGI/Session.pm line 804 (#1)
(D deprecated) You have something like foreach $x qw(a b c) {...},
using a qw(...) list literal where a parenthesised expression is
expected. Historically the parser fooled itself into thinking that
qw(...) literals were always enclosed in parentheses, and as a result
you could sometimes omit parentheses around them. (You could never do
the foreach qw(a b c) {...} that you might have expected, though.)
The parser no longer lies to itself in this way. Wrap the list literal
in parentheses, like foreach $x (qw(a b c)) {...}.
t/api3_file_freezethaw.t ........ ok
Use of qw(...) as parentheses is deprecated at
/home/bri/.cpan/build/CGI-Session-4.43-5XnXm3/blib/lib/CGI/Session.pm line 804 (#1)
(D deprecated) You have something like foreach $x qw(a b c) {...},
using a qw(...) list literal where a parenthesised expression is
expected. Historically the parser fooled itself into thinking that
qw(...) literals were always enclosed in parentheses, and as a result
you could sometimes omit parentheses around them. (You could never do
the foreach qw(a b c) {...} that you might have expected, though.)
The parser no longer lies to itself in this way. Wrap the list literal
in parentheses, like foreach $x (qw(a b c)) {...}.
t/api3_file_freezethaw_incr.t ... ok
Use of qw(...) as parentheses is deprecated at
/home/bri/.cpan/build/CGI-Session-4.43-5XnXm3/blib/lib/CGI/Session.pm line 804 (#1)
(D deprecated) You have something like foreach $x qw(a b c) {...},
using a qw(...) list literal where a parenthesised expression is
expected. Historically the parser fooled itself into thinking that
qw(...) literals were always enclosed in parentheses, and as a result
you could sometimes omit parentheses around them. (You could never do
the foreach qw(a b c) {...} that you might have expected, though.)
The parser no longer lies to itself in this way. Wrap the list literal
in parentheses, like foreach $x (qw(a b c)) {...}.
t/api3_file_storable.t .......... ok
Use of qw(...) as parentheses is deprecated at
/home/bri/.cpan/build/CGI-Session-4.43-5XnXm3/blib/lib/CGI/Session.pm line 804 (#1)
(D deprecated) You have something like foreach $x qw(a b c) {...},
using a qw(...) list literal where a parenthesised expression is
expected. Historically the parser fooled itself into thinking that
qw(...) literals were always enclosed in parentheses, and as a result
you could sometimes omit parentheses around them. (You could never do
the foreach qw(a b c) {...} that you might have expected, though.)
The parser no longer lies to itself in this way. Wrap the list literal
in parentheses, like foreach $x (qw(a b c)) {...}.
t/api3_file_storable_incr.t ..... ok
Use of qw(...) as parentheses is deprecated at
/home/bri/.cpan/build/CGI-Session-4.43-5XnXm3/blib/lib/CGI/Session.pm line 804 (#1)
(D deprecated) You have something like foreach $x qw(a b c) {...},
using a qw(...) list literal where a parenthesised expression is
expected. Historically the parser fooled itself into thinking that
qw(...) literals were always enclosed in parentheses, and as a result
you could sometimes omit parentheses around them. (You could never do
the foreach qw(a b c) {...} that you might have expected, though.)
The parser no longer lies to itself in this way. Wrap the list literal
in parentheses, like foreach $x (qw(a b c)) {...}.
t/api3_incr.t ................... ok
Use of qw(...) as parentheses is deprecated at
/home/bri/.cpan/build/CGI-Session-4.43-5XnXm3/blib/lib/CGI/Session.pm line 804 (#1)
(D deprecated) You have something like foreach $x qw(a b c) {...},
using a qw(...) list literal where a parenthesised expression is
expected. Historically the parser fooled itself into thinking that
qw(...) literals were always enclosed in parentheses, and as a result
you could sometimes omit parentheses around them. (You could never do
the foreach qw(a b c) {...} that you might have expected, though.)
The parser no longer lies to itself in this way. Wrap the list literal
in parentheses, like foreach $x (qw(a b c)) {...}.
#Using FreezeThaw as object serializer
t/api3_obj_store.t .............. ok
Use of qw(...) as parentheses is deprecated at
/home/bri/.cpan/build/CGI-Session-4.43-5XnXm3/blib/lib/CGI/Session.pm line 804 (#1)
(D deprecated) You have something like foreach $x qw(a b c) {...},
using a qw(...) list literal where a parenthesised expression is
expected. Historically the parser fooled itself into thinking that
qw(...) literals were always enclosed in parentheses, and as a result
you could sometimes omit parentheses around them. (You could never do
the foreach qw(a b c) {...} that you might have expected, though.)
The parser no longer lies to itself in this way. Wrap the list literal
in parentheses, like foreach $x (qw(a b c)) {...}.
t/api3_obj_store_db_file.t ...... skipped: DB_File is not available
Use of qw(...) as parentheses is deprecated at /home/bri/.cpan/build/CGI-Session-4.43-5XnXm3/blib/lib/CGI/Session.pm line 804.
t/bug21952.t .................... ok
Use of qw(...) as parentheses is deprecated at /home/bri/.cpan/build/CGI-Session-4.43-5XnXm3/blib/lib/CGI/Session.pm line 804.
t/bug24285.t .................... ok
Use of qw(...) as parentheses is deprecated at
/home/bri/.cpan/build/CGI-Session-4.43-5XnXm3/blib/lib/CGI/Session.pm line 804 (#1)
(D deprecated) You have something like foreach $x qw(a b c) {...},
using a qw(...) list literal where a parenthesised expression is
expected. Historically the parser fooled itself into thinking that
qw(...) literals were always enclosed in parentheses, and as a result
you could sometimes omit parentheses around them. (You could never do
the foreach qw(a b c) {...} that you might have expected, though.)
The parser no longer lies to itself in this way. Wrap the list literal
in parentheses, like foreach $x (qw(a b c)) {...}.
t/cgi_simple.t .................. ok
Use of qw(...) as parentheses is deprecated at
/home/bri/.cpan/build/CGI-Session-4.43-5XnXm3/blib/lib/CGI/Session.pm line 804 (#1)
(D deprecated) You have something like foreach $x qw(a b c) {...},
using a qw(...) list literal where a parenthesised expression is
expected. Historically the parser fooled itself into thinking that
qw(...) literals were always enclosed in parentheses, and as a result
you could sometimes omit parentheses around them. (You could never do
the foreach qw(a b c) {...} that you might have expected, though.)
The parser no longer lies to itself in this way. Wrap the list literal
in parentheses, like foreach $x (qw(a b c)) {...}.
t/complex_ds.t .................. ok
t/driver_dbi.t .................. ok
Use of qw(...) as parentheses is deprecated at
/home/bri/.cpan/build/CGI-Session-4.43-5XnXm3/blib/lib/CGI/Session.pm line 804 (#1)
(D deprecated) You have something like foreach $x qw(a b c) {...},
using a qw(...) list literal where a parenthesised expression is
expected. Historically the parser fooled itself into thinking that
qw(...) literals were always enclosed in parentheses, and as a result
you could sometimes omit parentheses around them. (You could never do
the foreach qw(a b c) {...} that you might have expected, though.)
The parser no longer lies to itself in this way. Wrap the list literal
in parentheses, like foreach $x (qw(a b c)) {...}.
t/expire.t ...................... ok
Use of qw(...) as parentheses is deprecated at /home/bri/.cpan/build/CGI-Session-4.43-5XnXm3/blib/lib/CGI/Session.pm line 804.
# The found session has been deleted and flushed
t/find.t ........................ ok
Use of qw(...) as parentheses is deprecated at /home/bri/.cpan/build/CGI-Session-4.43-5XnXm3/blib/lib/CGI/Session.pm line 804.
t/flush.t ....................... ok
Use of qw(...) as parentheses is deprecated at
/home/bri/.cpan/build/CGI-Session-4.43-5XnXm3/blib/lib/CGI/Session.pm line 804 (#1)
(D deprecated) You have something like foreach $x qw(a b c) {...},
using a qw(...) list literal where a parenthesised expression is
expected. Historically the parser fooled itself into thinking that
qw(...) literals were always enclosed in parentheses, and as a result
you could sometimes omit parentheses around them. (You could never do
the foreach qw(a b c) {...} that you might have expected, though.)
The parser no longer lies to itself in this way. Wrap the list literal
in parentheses, like foreach $x (qw(a b c)) {...}.
t/g4.t .......................... ok
t/g4_dbfile.t ................... skipped: DB_File is NOT available
t/g4_dbfile_freezethaw.t ........ skipped: DB_File is NOT available
t/g4_dbfile_storable.t .......... skipped: DB_File is NOT available
Use of qw(...) as parentheses is deprecated at
/home/bri/.cpan/build/CGI-Session-4.43-5XnXm3/blib/lib/CGI/Session.pm line 804 (#1)
(D deprecated) You have something like foreach $x qw(a b c) {...},
using a qw(...) list literal where a parenthesised expression is
expected. Historically the parser fooled itself into thinking that
qw(...) literals were always enclosed in parentheses, and as a result
you could sometimes omit parentheses around them. (You could never do
the foreach qw(a b c) {...} that you might have expected, though.)
The parser no longer lies to itself in this way. Wrap the list literal
in parentheses, like foreach $x (qw(a b c)) {...}.
t/g4_freezethaw.t ............... ok
t/g4_mysql.t .................... skipped: DBD::mysql is NOT available
t/g4_mysql_freezethaw.t ......... skipped: DBD::mysql is NOT available
t/g4_mysql_storable.t ........... skipped: DBD::mysql is NOT available
t/g4_postgresql.t ............... skipped: DataSource is not known
t/g4_postgresql_freezethaw.t .... skipped: DataSource is not known
t/g4_postgresql_storable.t ...... skipped: DataSource is not known
Use of qw(...) as parentheses is deprecated at
/home/bri/.cpan/build/CGI-Session-4.43-5XnXm3/blib/lib/CGI/Session.pm line 804 (#1)
(D deprecated) You have something like foreach $x qw(a b c) {...},
using a qw(...) list literal where a parenthesised expression is
expected. Historically the parser fooled itself into thinking that
qw(...) literals were always enclosed in parentheses, and as a result
you could sometimes omit parentheses around them. (You could never do
the foreach qw(a b c) {...} that you might have expected, though.)
The parser no longer lies to itself in this way. Wrap the list literal
in parentheses, like foreach $x (qw(a b c)) {...}.
t/g4_sqlite.t ................... ok
Use of qw(...) as parentheses is deprecated at
/home/bri/.cpan/build/CGI-Session-4.43-5XnXm3/blib/lib/CGI/Session.pm line 804 (#1)
(D deprecated) You have something like foreach $x qw(a b c) {...},
using a qw(...) list literal where a parenthesised expression is
expected. Historically the parser fooled itself into thinking that
qw(...) literals were always enclosed in parentheses, and as a result
you could sometimes omit parentheses around them. (You could never do
the foreach qw(a b c) {...} that you might have expected, though.)
The parser no longer lies to itself in this way. Wrap the list literal
in parentheses, like foreach $x (qw(a b c)) {...}.
t/g4_sqlite_freezethaw.t ........ ok
Use of qw(...) as parentheses is deprecated at
/home/bri/.cpan/build/CGI-Session-4.43-5XnXm3/blib/lib/CGI/Session.pm line 804 (#1)
(D deprecated) You have something like foreach $x qw(a b c) {...},
using a qw(...) list literal where a parenthesised expression is
expected. Historically the parser fooled itself into thinking that
qw(...) literals were always enclosed in parentheses, and as a result
you could sometimes omit parentheses around them. (You could never do
the foreach qw(a b c) {...} that you might have expected, though.)
The parser no longer lies to itself in this way. Wrap the list literal
in parentheses, like foreach $x (qw(a b c)) {...}.
t/g4_sqlite_storable.t .......... ok
Use of qw(...) as parentheses is deprecated at
/home/bri/.cpan/build/CGI-Session-4.43-5XnXm3/blib/lib/CGI/Session.pm line 804 (#1)
(D deprecated) You have something like foreach $x qw(a b c) {...},
using a qw(...) list literal where a parenthesised expression is
expected. Historically the parser fooled itself into thinking that
qw(...) literals were always enclosed in parentheses, and as a result
you could sometimes omit parentheses around them. (You could never do
the foreach qw(a b c) {...} that you might have expected, though.)
The parser no longer lies to itself in this way. Wrap the list literal
in parentheses, like foreach $x (qw(a b c)) {...}.
t/g4_storable.t ................. ok
Use of qw(...) as parentheses is deprecated at
/home/bri/.cpan/build/CGI-Session-4.43-5XnXm3/blib/lib/CGI/Session.pm line 804 (#1)
(D deprecated) You have something like foreach $x qw(a b c) {...},
using a qw(...) list literal where a parenthesised expression is
expected. Historically the parser fooled itself into thinking that
qw(...) literals were always enclosed in parentheses, and as a result
you could sometimes omit parentheses around them. (You could never do
the foreach qw(a b c) {...} that you might have expected, though.)
The parser no longer lies to itself in this way. Wrap the list literal
in parentheses, like foreach $x (qw(a b c)) {...}.
t/header.t ...................... ok
Use of qw(...) as parentheses is deprecated at t/ip_matches.t line 39 (#1)
(D deprecated) You have something like foreach $x qw(a b c) {...},
using a qw(...) list literal where a parenthesised expression is
expected. Historically the parser fooled itself into thinking that
qw(...) literals were always enclosed in parentheses, and as a result
you could sometimes omit parentheses around them. (You could never do
the foreach qw(a b c) {...} that you might have expected, though.)
The parser no longer lies to itself in this way. Wrap the list literal
in parentheses, like foreach $x (qw(a b c)) {...}.
Use of qw(...) as parentheses is deprecated at
/home/bri/.cpan/build/CGI-Session-4.43-5XnXm3/blib/lib/CGI/Session.pm line 804 (#1)
t/ip_matches.t .................. ok
Use of qw(...) as parentheses is deprecated at
/home/bri/.cpan/build/CGI-Session-4.43-5XnXm3/blib/lib/CGI/Session.pm line 804 (#1)
(D deprecated) You have something like foreach $x qw(a b c) {...},
using a qw(...) list literal where a parenthesised expression is
expected. Historically the parser fooled itself into thinking that
qw(...) literals were always enclosed in parentheses, and as a result
you could sometimes omit parentheses around them. (You could never do
the foreach qw(a b c) {...} that you might have expected, though.)
The parser no longer lies to itself in this way. Wrap the list literal
in parentheses, like foreach $x (qw(a b c)) {...}.
t/is_new.t ...................... ok
Use of qw(...) as parentheses is deprecated at
/home/bri/.cpan/build/CGI-Session-4.43-5XnXm3/blib/lib/CGI/Session.pm line 804 (#1)
(D deprecated) You have something like foreach $x qw(a b c) {...},
using a qw(...) list literal where a parenthesised expression is
expected. Historically the parser fooled itself into thinking that
qw(...) literals were always enclosed in parentheses, and as a result
you could sometimes omit parentheses around them. (You could never do
the foreach qw(a b c) {...} that you might have expected, though.)
The parser no longer lies to itself in this way. Wrap the list literal
in parentheses, like foreach $x (qw(a b c)) {...}.
Argument "wrong" isn't numeric in numeric ne (!=) at
/home/bri/.cpan/build/CGI-Session-4.43-5XnXm3/blib/lib/CGI/Session.pm line 684 (#2)
(W numeric) The indicated string was fed as an argument to an operator
that expected a numeric value instead. If you're fortunate the message
will identify which operator was so unfortunate.
t/load.t ........................ ok
Use of qw(...) as parentheses is deprecated at /home/bri/.cpan/build/CGI-Session-4.43-5XnXm3/blib/lib/CGI/Session.pm line 804.
t/load_with_undef.t ............. ok
Use of qw(...) as parentheses is deprecated at
/home/bri/.cpan/build/CGI-Session-4.43-5XnXm3/blib/lib/CGI/Session.pm line 804 (#1)
(D deprecated) You have something like foreach $x qw(a b c) {...},
using a qw(...) list literal where a parenthesised expression is
expected. Historically the parser fooled itself into thinking that
qw(...) literals were always enclosed in parentheses, and as a result
you could sometimes omit parentheses around them. (You could never do
the foreach qw(a b c) {...} that you might have expected, though.)
The parser no longer lies to itself in this way. Wrap the list literal
in parentheses, like foreach $x (qw(a b c)) {...}.
t/name.t ........................ ok
Use of qw(...) as parentheses is deprecated at /home/bri/.cpan/build/CGI-Session-4.43-5XnXm3/blib/lib/CGI/Session.pm line 804.
t/new_with_undef.t .............. ok
Use of qw(...) as parentheses is deprecated at
/home/bri/.cpan/build/CGI-Session-4.43-5XnXm3/blib/lib/CGI/Session.pm line 804 (#1)
(D deprecated) You have something like foreach $x qw(a b c) {...},
using a qw(...) list literal where a parenthesised expression is
expected. Historically the parser fooled itself into thinking that
qw(...) literals were always enclosed in parentheses, and as a result
you could sometimes omit parentheses around them. (You could never do
the foreach qw(a b c) {...} that you might have expected, though.)
The parser no longer lies to itself in this way. Wrap the list literal
in parentheses, like foreach $x (qw(a b c)) {...}.
t/parse_dsn.t ................... ok
Use of qw(...) as parentheses is deprecated at /home/bri/.cpan/build/CGI-Session-4.43-5XnXm3/blib/lib/CGI/Session.pm line 804.
t/remote_addr.t ................. ok
Use of qw(...) as parentheses is deprecated at /home/bri/.cpan/build/CGI-Session-4.43-5XnXm3/blib/lib/CGI/Session.pm line 804.
# Check in STORE of original item
# Check in STORE of stored/retrieved item
# Check in LOAD after loading from session
t/session_param_undef.t ......... ok
Use of qw(...) as parentheses is deprecated at
/home/bri/.cpan/build/CGI-Session-4.43-5XnXm3/blib/lib/CGI/Session.pm line 804 (#1)
(D deprecated) You have something like foreach $x qw(a b c) {...},
using a qw(...) list literal where a parenthesised expression is
expected. Historically the parser fooled itself into thinking that
qw(...) literals were always enclosed in parentheses, and as a result
you could sometimes omit parentheses around them. (You could never do
the foreach qw(a b c) {...} that you might have expected, though.)
The parser no longer lies to itself in this way. Wrap the list literal
in parentheses, like foreach $x (qw(a b c)) {...}.
t/str2seconds.t ................. ok
Use of qw(...) as parentheses is deprecated at /home/bri/.cpan/build/CGI-Session-4.43-5XnXm3/blib/lib/CGI/Session.pm line 804.
t/symlink_db_file.t ............. skipped: DB_File not available
Use of qw(...) as parentheses is deprecated at /home/bri/.cpan/build/CGI-Session-4.43-5XnXm3/blib/lib/CGI/Session.pm line 804.
t/symlink_file.t ................ ok
All tests successful.
Files=48, Tests=854, 33 wallclock secs ( 0.31 usr 0.05 sys + 8.91 cusr 0.44 csys = 9.71 CPU)
Result: PASS
------------------------------
PREREQUISITES
------------------------------
Prerequisite modules loaded:
requires:
Module Need Have
------------------- ---- -------
CGI 3.26 3.58
Data::Dumper 0 2.131
Digest::MD5 0 2.51
Scalar::Util 0 1.23
build_requires:
Module Need Have
------------------- ---- -------
Test::More 0 0.98
configure_requires:
Module Need Have
------------------- ---- -------
ExtUtils::MakeMaker 0 6.63_02
------------------------------
ENVIRONMENT AND OTHER CONTEXT
------------------------------
Environment variables:
AUTOMATED_TESTING = 1
LANG = C
LANGUAGE = en_GB:en
LC_ALL = C
PATH = /home/bri/bin:/home/bri/perl5/perlbrew/bin:/home/bri/perl5/perlbrew/perls/perl-5.15.5-th/bin:~/bin:/usr/local/sbin:/usr/local/bin:/usr/sbin:/usr/bin:/sbin:/bin:/usr/games
PATH_WITHOUT_PERLBREW = ~/bin:/usr/local/sbin:/usr/local/bin:/usr/sbin:/usr/bin:/sbin:/bin:/usr/games
PERL5LIB =
PERL5OPT =
PERL5_CPANPLUS_IS_RUNNING = 6031
PERL5_CPAN_IS_RUNNING = 6031
PERL5_CPAN_IS_RUNNING_IN_RECURSION = 1983,6031
PERLBREW_BASHRC_VERSION = 0.33
PERLBREW_HOME = /home/bri/.perlbrew
PERLBREW_PATH = /home/bri/perl5/perlbrew/bin:/home/bri/perl5/perlbrew/perls/perl-5.15.5-th/bin
PERLBREW_PERL = perl-5.15.5-th
PERLBREW_ROOT = /home/bri/perl5/perlbrew
PERLBREW_VERSION = 0.33
PERL_CPANM_OPT = --prompt --mirror http://172.16.1.3/cpan/
PERL_CR_SMOKER_CURRENT = CGI-Session-4.43
PERL_EXTUTILS_AUTOINSTALL = --defaultdeps
PERL_MM_USE_DEFAULT = 1
SHELL = /bin/bash
TERM = linux
Perl special variables (and OS-specific diagnostics, for MSWin32):
$^X = /home/bri/perl5/perlbrew/perls/perl-5.15.5-th/bin/perl5.15.5
$UID/$EUID = 1000 / 1000
$GID = 1000 4 20 24 46 112 120 122 1000
$EGID = 1000 4 20 24 46 112 120 122 1000
Perl module toolchain versions installed:
Module Have
------------------- --------
CPAN 1.9800
CPAN::Meta 2.112621
Cwd 3.37
ExtUtils::CBuilder 0.280202
ExtUtils::Command 1.17
ExtUtils::Install 1.57
ExtUtils::MakeMaker 6.63_02
ExtUtils::Manifest 1.60
ExtUtils::ParseXS 3.07
File::Spec 3.34
JSON 2.53
JSON::PP 2.27200
Module::Build 0.3800
Module::Signature n/a
Parse::CPAN::Meta 1.4401
Test::Harness 3.23
Test::More 0.98
YAML 0.73
YAML::Syck 1.19
version 0.95
--
Summary of my perl5 (revision 5 version 15 subversion 5) configuration:
Platform:
osname=linux, osvers=2.6.38-11-generic, archname=i686-linux-thread-multi
uname='linux lappy 2.6.38-11-generic #48-ubuntu smp fri jul 29 19:05:14 utc 2011 i686 i686 i386 gnulinux '
config_args='-de -Dprefix=/home/bri/perl5/perlbrew/perls/perl-5.15.5-th -Dusethreads -Dusedevel'
hint=recommended, useposix=true, d_sigaction=define
useithreads=define, usemultiplicity=define
useperlio=define, d_sfio=undef, uselargefiles=define, usesocks=undef
use64bitint=undef, use64bitall=undef, uselongdouble=undef
usemymalloc=n, bincompat5005=undef
Compiler:
cc='cc', ccflags ='-D_REENTRANT -D_GNU_SOURCE -fno-strict-aliasing -pipe -fstack-protector -I/usr/local/include -D_LARGEFILE_SOURCE -D_FILE_OFFSET_BITS=64',
optimize='-O2',
cppflags='-D_REENTRANT -D_GNU_SOURCE -fno-strict-aliasing -pipe -fstack-protector -I/usr/local/include'
ccversion='', gccversion='4.5.2', gccosandvers=''
intsize=4, longsize=4, ptrsize=4, doublesize=8, byteorder=1234
d_longlong=define, longlongsize=8, d_longdbl=define, longdblsize=12
ivtype='long', ivsize=4, nvtype='double', nvsize=8, Off_t='off_t', lseeksize=8
alignbytes=4, prototype=define
Linker and Libraries:
ld='cc', ldflags =' -fstack-protector -L/usr/local/lib'
libpth=/usr/local/lib /lib /usr/lib /usr/lib/i386-linux-gnu /usr/lib64
libs=-lnsl -ldl -lm -lcrypt -lutil -lpthread -lc
perllibs=-lnsl -ldl -lm -lcrypt -lutil -lpthread -lc
libc=, so=so, useshrplib=false, libperl=libperl.a
gnulibc_version='2.13'
Dynamic Linking:
dlsrc=dl_dlopen.xs, dlext=so, d_dlsymun=undef, ccdlflags='-Wl,-E'
cccdlflags='-fPIC', lddlflags='-shared -O2 -L/usr/local/lib -fstack-protector'
Characteristics of this binary (from libperl):
Compile-time options: HAS_TIMES MULTIPLICITY PERLIO_LAYERS
PERL_DONT_CREATE_GVSV PERL_IMPLICIT_CONTEXT
PERL_MALLOC_WRAP PERL_PRESERVE_IVUV PERL_USE_DEVEL
USE_ITHREADS USE_LARGE_FILES USE_LOCALE
USE_LOCALE_COLLATE USE_LOCALE_CTYPE
USE_LOCALE_NUMERIC USE_PERLIO USE_PERL_ATOF
USE_REENTRANT_API
Built under linux
Compiled at Dec 5 2011 21:58:55
%ENV:
PERL5LIB=""
PERL5OPT=""
PERL5_CPANPLUS_IS_RUNNING="6031"
PERL5_CPAN_IS_RUNNING="6031"
PERL5_CPAN_IS_RUNNING_IN_RECURSION="1983,6031"
PERLBREW_BASHRC_VERSION="0.33"
PERLBREW_HOME="/home/bri/.perlbrew"
PERLBREW_PATH="/home/bri/perl5/perlbrew/bin:/home/bri/perl5/perlbrew/perls/perl-5.15.5-th/bin"
PERLBREW_PERL="perl-5.15.5-th"
PERLBREW_ROOT="/home/bri/perl5/perlbrew"
PERLBREW_VERSION="0.33"
PERL_CPANM_OPT="--prompt --mirror http://172.16.1.3/cpan/"
PERL_CR_SMOKER_CURRENT="CGI-Session-4.43"
PERL_EXTUTILS_AUTOINSTALL="--defaultdeps"
PERL_MM_USE_DEFAULT="1"
@INC:
/home/bri/perl5/perlbrew/perls/perl-5.15.5-th/lib/site_perl/5.15.5/i686-linux-thread-multi
/home/bri/perl5/perlbrew/perls/perl-5.15.5-th/lib/site_perl/5.15.5
/home/bri/perl5/perlbrew/perls/perl-5.15.5-th/lib/5.15.5/i686-linux-thread-multi
/home/bri/perl5/perlbrew/perls/perl-5.15.5-th/lib/5.15.5
.