Report for POE-Component-Server-SimpleHTTP-2.26

Back
From: metabase:user:30977d10-2aae-11df-837a-5e0a49663a4f
Subject: PASS POE-Component-Server-SimpleHTTP-2.26 v5.24.1 SunOS/Solaris
Date: 2017-03-15T12:41:39Z

This distribution has been tested as part of the CPAN Testers
project, supporting the Perl programming language.  See
http://wiki.cpantesters.org/ for more information or email
questions to cpan-testers-discuss@perl.org


--
Dear Chris Williams,

This is a computer-generated report for POE-Component-Server-SimpleHTTP-2.26
on perl 5.24.1, created by CPAN-Reporter-1.2018.

Thank you for uploading your work to CPAN.  Congratulations!
All tests were successful.

Sections of this report:

    * Tester comments
    * Program output
    * Prerequisites
    * Environment and other context

------------------------------
TESTER COMMENTS
------------------------------

Additional comments from tester:

this report is from an automated smoke testing program
and was not reviewed by a human for accuracy

------------------------------
PROGRAM OUTPUT
------------------------------

Output from '/usr/bin/make test':

PERL_DL_NONLAZY=1 "/home/stro/perl/5.24.1m/bin/perl" "-MExtUtils::Command::MM" "-MTest::Harness" "-e" "undef *Test::Harness::Switches; test_harness(0, 'blib/lib', 'blib/arch')" t/*.t
t/00-compile.t ........... ok
# GET http://pocosimpletest.com:55890/ HTTP/1.1
# Host: 127.0.0.1:55890
# 
# HTTP/1.1 200 (OK)
# Date: Wed, 15 Mar 2017 11:52:41 GMT
# Content-Length: 3
# Content-Type: text/plain
# 
# Moo
t/02_simple.t ............ ok
# HTTP/1.1 404 (Not Found)
# Date: Wed, 15 Mar 2017 11:52:42 GMT
# Content-Length: 13
# Content-Type: text/plain
# 
# 404 Not Found
t/03_bad_handler.t ....... ok
# GEt http://pocosimpletest.com:52937/ HTTP/1.1
# Host: 127.0.0.1:52937
# 
# HTTP/1.1 200 (OK)
# Date: Wed, 15 Mar 2017 11:52:43 GMT
# Content-Length: 3
# Content-Type: text/plain
# 
# Moo
t/03_bad_request.t ....... ok
# 200 (OK)
# Date: Wed, 15 Mar 2017 11:52:44 GMT
# Content-Length: 11
# Content-Type: text/plain
# X-HTTP-Version: 1.1
# 
# this is top
# 200 (OK)
# Date: Wed, 15 Mar 2017 11:52:44 GMT
# Content-Length: 12
# Content-Type: text/plain
# X-HTTP-Version: 1.1
# 
# this is honk
# 200 (OK)
# Date: Wed, 15 Mar 2017 11:52:44 GMT
# Content-Length: 123
# Content-Type: text/html
# X-HTTP-Version: 1.1
# 
# <html>
# <head><title>YEAH!</title></head>
# <body><p>This, my friend, is the page you've been looking for.</p></body>
# </html>
# 404 (Not Found)
# Date: Wed, 15 Mar 2017 11:52:44 GMT
# Content-Length: 13
# Content-Type: text/plain
# X-HTTP-Version: 1.1
# 
# 404 Not Found
t/04_run_close.t ......... ok
# 200 (OK)
# Date: Wed, 15 Mar 2017 11:52:45 GMT
# Content-Length: 11
# Content-Type: text/plain
# X-HTTP-Version: 1.1
# 
# this is top
# 200 (OK)
# Date: Wed, 15 Mar 2017 11:52:45 GMT
# Content-Length: 12
# Content-Type: text/plain
# X-HTTP-Version: 1.1
# 
# this is honk
# 200 (OK)
# Date: Wed, 15 Mar 2017 11:52:45 GMT
# Content-Length: 123
# Content-Type: text/html
# X-HTTP-Version: 1.1
# 
# <html>
# <head><title>YEAH!</title></head>
# <body><p>This, my friend, is the page you've been looking for.</p></body>
# </html>
# 404 (Not Found)
# Date: Wed, 15 Mar 2017 11:52:45 GMT
# Content-Length: 13
# Content-Type: text/plain
# X-HTTP-Version: 1.1
# 
# 404 Not Found
t/04_run_keepalive.t ..... ok
# POST http://pocosimpletest.com:38161/ HTTP/1.1
# Host: 127.0.0.1:38161
# Content-Length: 40
# 
# brother !~we need to get off this island
# 200 (OK)
# Date: Wed, 15 Mar 2017 11:52:46 GMT
# Content-Length: 40
# Content-Type: text/plain
# X-HTTP-Version: 1.1
# 
# we need to get off this island brother !
t/05_post.t .............. ok
t/06_stream.t ............ skipped: POE::Component::Client::HTTP is required for this test
t/author-pod-coverage.t .. skipped: these tests are for testing by the author
t/author-pod-syntax.t .... skipped: these tests are for testing by the author
All tests successful.
Files=10, Tests=45,  8 wallclock secs ( 0.09 usr  0.03 sys +  6.53 cusr  0.76 csys =  7.41 CPU)
Result: PASS

------------------------------
PREREQUISITES
------------------------------

Prerequisite modules loaded:

requires:

    Module                    Need   Have    
    ------------------------- ------ --------
    Carp                      0      1.40    
    HTTP::Date                0      6.02    
    HTTP::Request             0      6.11    
    HTTP::Response            0      6.11    
    Moose                     0.9    2.2004  
    MooseX::POE               0.205  0.215   
    perl                      5.006  5.024001
    POE                       1.0000 1.367   
    Socket                    0      2.020_03
    Storable                  0      2.56_01 
    Sys::Hostname             0      1.20    

build_requires:

    Module                    Need   Have    
    ------------------------- ------ --------
    ExtUtils::MakeMaker       6.59   7.24    
    File::Spec                0      3.63_01 
    IO::Handle                0      1.36    
    IPC::Open3                0      1.20    
    POE::Filter::HTTP::Parser 1.06   1.08    
    Test::More                0.47   1.302075
    Test::POE::Client::TCP    0.1    1.12    

configure_requires:

    Module                    Need   Have    
    ------------------------- ------ --------
    ExtUtils::MakeMaker       0      7.24    


------------------------------
ENVIRONMENT AND OTHER CONTEXT
------------------------------

Environment variables:

    AUTOMATED_TESTING = 1
    LANG = en_US.UTF-8
    PATH = /usr/gnu/bin:/usr/bin:/usr/sbin:/sbin:/usr/sfw/bin:
    PERL5LIB = 
    PERL5OPT = 
    PERL5_CPANPLUS_IS_RUNNING = 11619
    PERL5_CPAN_IS_RUNNING = 11619
    PERL5_CPAN_IS_RUNNING_IN_RECURSION = 25630,11619
    PERL_CR_SMOKER_CURRENT = POE-Component-Server-SimpleHTTP-2.26
    PERL_EXTUTILS_AUTOINSTALL = --defaultdeps
    PERL_MM_USE_DEFAULT = 1
    SHELL = /bin/bash
    TERM = xterm

Perl special variables (and OS-specific diagnostics, for MSWin32):

    $^X = /home/stro/perl/5.24.1m/bin/perl
    $UID/$EUID = 101 / 101
    $GID = 10 10
    $EGID = 10 10

Perl module toolchain versions installed:

    Module              Have      
    ------------------- ----------
    CPAN                2.16      
    CPAN::Meta          2.150005  
    Cwd                 3.63_01   
    ExtUtils::CBuilder  0.280225  
    ExtUtils::Command   7.24      
    ExtUtils::Install   2.04      
    ExtUtils::MakeMaker 7.24      
    ExtUtils::Manifest  1.70      
    ExtUtils::ParseXS   3.31      
    File::Spec          3.63_01   
    JSON                2.90      
    JSON::PP            2.27300_01
    Module::Build       0.4220    
    Module::Signature   n/a       
    Parse::CPAN::Meta   1.4417_001
    Test::Harness       3.36_01   
    Test::More          1.302075  
    YAML                1.22      
    YAML::Syck          1.29      
    version             0.9916    


--

Summary of my perl5 (revision 5 version 24 subversion 1) configuration:
   
  Platform:
    osname=solaris, osvers=2.11, archname=i86pc-solaris-multi
    uname='sunos vm-openindiana-001 5.11 illumos-2816291 i86pc i386 i86pc '
    config_args='-Dcc=gcc'
    hint=recommended, useposix=true, d_sigaction=define
    useithreads=undef, usemultiplicity=define
    use64bitint=undef, use64bitall=undef, uselongdouble=undef
    usemymalloc=n, bincompat5005=undef
  Compiler:
    cc='gcc', ccflags ='-fno-strict-aliasing -pipe -I/usr/gnu/include -D_LARGEFILE_SOURCE -D_FILE_OFFSET_BITS=64 -DPERL_USE_SAFE_PUTENV',
    optimize='-O',
    cppflags='-fno-strict-aliasing -pipe -I/usr/gnu/include'
    ccversion='', gccversion='3.4.3 (csl-sol210-3_4-20050802)', gccosandvers='solaris2.11'
    intsize=4, longsize=4, ptrsize=4, doublesize=8, byteorder=1234, doublekind=3
    d_longlong=define, longlongsize=8, d_longdbl=define, longdblsize=12, longdblkind=3
    ivtype='long', ivsize=4, nvtype='double', nvsize=8, Off_t='off_t', lseeksize=8
    alignbytes=4, prototype=define
  Linker and Libraries:
    ld='gcc', ldflags =' -L/usr/gnu/lib '
    libpth=/usr/gcc/3.4/lib /usr/lib /usr/gnu/lib /usr/ccs/lib
    libs=-lpthread -lsocket -lnsl -lgdbm -ldb -ldl -lm -lc
    perllibs=-lpthread -lsocket -lnsl -ldl -lm -lc
    libc=/lib/libc.so, so=so, useshrplib=true, libperl=libperl.so
    gnulibc_version=''
  Dynamic Linking:
    dlsrc=dl_dlopen.xs, dlext=so, d_dlsymun=undef, ccdlflags='  -R /home/stro/perl/5.24.1m/lib/5.24.1/i86pc-solaris-multi/CORE'
    cccdlflags='-fPIC', lddlflags='-shared -L/usr/gnu/lib'


Characteristics of this binary (from libperl): 
  Compile-time options: HAS_TIMES MULTIPLICITY PERLIO_LAYERS
                        PERL_COPY_ON_WRITE PERL_DONT_CREATE_GVSV
                        PERL_HASH_FUNC_ONE_AT_A_TIME_HARD
                        PERL_IMPLICIT_CONTEXT PERL_MALLOC_WRAP
                        PERL_PRESERVE_IVUV PERL_USE_SAFE_PUTENV
                        USE_LARGE_FILES USE_LOCALE USE_LOCALE_COLLATE
                        USE_LOCALE_CTYPE USE_LOCALE_NUMERIC USE_LOCALE_TIME
                        USE_PERLIO USE_PERL_ATOF
  Built under solaris
  Compiled at Feb  5 2017 22:35:18
  %ENV:
    PERL5LIB=""
    PERL5OPT=""
    PERL5_CPANPLUS_IS_RUNNING="11619"
    PERL5_CPAN_IS_RUNNING="11619"
    PERL5_CPAN_IS_RUNNING_IN_RECURSION="25630,11619"
    PERL_CR_SMOKER_CURRENT="POE-Component-Server-SimpleHTTP-2.26"
    PERL_EXTUTILS_AUTOINSTALL="--defaultdeps"
    PERL_MM_USE_DEFAULT="1"
  @INC:
    /home/stro/perl/5.24.1m/lib/site_perl/5.24.1/i86pc-solaris-multi
    /home/stro/perl/5.24.1m/lib/site_perl/5.24.1
    /home/stro/perl/5.24.1m/lib/5.24.1/i86pc-solaris-multi
    /home/stro/perl/5.24.1m/lib/5.24.1
    .