Back
From: metabase:user:30977d10-2aae-11df-837a-5e0a49663a4f
Subject: PASS Sub-Exporter-GlobExporter-0.003 v5.19.1 Mac OS X
Date: 2013-07-16T09:40:22Z
This distribution has been tested as part of the CPAN Testers
project, supporting the Perl programming language. See
http://wiki.cpantesters.org/ for more information or email
questions to cpan-testers-discuss@perl.org
--
Dear Ricardo SIGNES,
This is a computer-generated report for Sub-Exporter-GlobExporter-0.003
on perl 5.19.1, created by CPAN-Reporter-1.2010.
Thank you for uploading your work to CPAN. Congratulations!
All tests were successful.
Sections of this report:
* Tester comments
* Program output
* Prerequisites
* Environment and other context
------------------------------
TESTER COMMENTS
------------------------------
Additional comments from tester:
none provided
------------------------------
PROGRAM OUTPUT
------------------------------
Output from '/usr/bin/make test':
PERL_DL_NONLAZY=1 /Users/trushel/perl/5.19.1-th/bin/perl "-MExtUtils::Command::MM" "-e" "test_harness(0, 'blib/lib', 'blib/arch')" t/*.t
t/00-compile.t ................ ok
#
#
# Generated by Dist::Zilla::Plugin::ReportVersions::Tiny v1.08
# perl: 5.019001 (wanted any version) on darwin from /Users/trushel/perl/5.19.1-th/bin/perl
#
# ExtUtils::MakeMaker => 6.68 (want 6.30)
# File::Find => 1.24 (want any version)
# File::Temp => 0.2301 (want any version)
# Scalar::Util => 1.27 (want any version)
# Sub::Exporter => 0.986 (want any version)
# Test::More => 0.98 (want 0.96)
# Test::Pod => module not found. (want 1.41)
# strict => 1.07 (want any version)
# version => 0.9902 (want 0.9901)
# warnings => 1.18 (want any version)
#
# Thanks for using my code. I hope it works for you.
# If not, please try and include this output in the bug report.
# That will help me reproduce the issue and solve your problem.
#
t/000-report-versions-tiny.t .. ok
t/export.t .................... ok
All tests successful.
Files=3, Tests=10, 0 wallclock secs ( 0.04 usr 0.01 sys + 0.32 cusr 0.04 csys = 0.41 CPU)
Result: PASS
------------------------------
PREREQUISITES
------------------------------
Prerequisite modules loaded:
requires:
Module Need Have
------------------- ---- ------
Scalar::Util 0 1.27
strict 0 1.07
Sub::Exporter 0 0.986
warnings 0 1.18
build_requires:
Module Need Have
------------------- ---- ------
File::Find 0 1.24
File::Temp 0 0.2301
Test::More 0.96 0.98
configure_requires:
Module Need Have
------------------- ---- ------
ExtUtils::MakeMaker 6.30 6.68
------------------------------
ENVIRONMENT AND OTHER CONTEXT
------------------------------
Environment variables:
LANG = en_US.UTF-8
PATH = /usr/bin:/bin:/usr/sbin:/sbin:/usr/local/bin:/usr/local/bin/g4bin:/usr/local/sbin
PERL5LIB =
PERL5OPT =
PERL5_CPANPLUS_IS_RUNNING = 85803
PERL5_CPAN_IS_RUNNING = 85803
PERL_MM_USE_DEFAULT = 1
SHELL = /bin/bash
TERM = xterm-256color
TMPDIR = /var/folders/00/11s1r000h01000cxqpysvccm004747/T/
Perl special variables (and OS-specific diagnostics, for MSWin32):
$^X = /Users/trushel/perl/5.19.1-th/bin/perl
$UID/$EUID = 138375 / 138375
$GID = 5762 5762 21 981 980 12 62 80 81 98 401
$EGID = 5762 5762 21 981 980 12 62 80 81 98 401
Perl module toolchain versions installed:
Module Have
------------------- --------
CPAN 2.00
CPAN::Meta 2.131560
Cwd 3.41
ExtUtils::CBuilder 0.280210
ExtUtils::Command 1.17
ExtUtils::Install 1.60
ExtUtils::MakeMaker 6.68
ExtUtils::Manifest 1.63
ExtUtils::ParseXS 3.19
File::Spec 3.41
JSON 2.59
JSON::PP 2.27202
Module::Build 0.4005
Module::Signature n/a
Parse::CPAN::Meta 1.4404
Test::Harness 3.28
Test::More 0.98
YAML 0.84
YAML::Syck n/a
version 0.9902
--
Summary of my perl5 (revision 5 version 19 subversion 1) configuration:
Platform:
osname=darwin, osvers=12.4.0, archname=darwin-thread-multi-2level
uname='darwin trushel-macbookpro.local 12.4.0 darwin kernel version 12.4.0: wed may 1 17:57:12 pdt 2013; root:xnu-2050.24.15~1release_x86_64 x86_64 '
config_args=''
hint=recommended, useposix=true, d_sigaction=define
useithreads=define, usemultiplicity=define
useperlio=define, d_sfio=undef, uselargefiles=define, usesocks=undef
use64bitint=define, use64bitall=define, uselongdouble=undef
usemymalloc=n, bincompat5005=undef
Compiler:
cc='cc', ccflags ='-fno-common -DPERL_DARWIN -fno-strict-aliasing -pipe -fstack-protector',
optimize='-O3',
cppflags='-fno-common -DPERL_DARWIN -fno-strict-aliasing -pipe -fstack-protector'
ccversion='', gccversion='4.2.1 Compatible Apple LLVM 4.2 (clang-425.0.28)', gccosandvers=''
intsize=4, longsize=8, ptrsize=8, doublesize=8, byteorder=12345678
d_longlong=define, longlongsize=8, d_longdbl=define, longdblsize=16
ivtype='long', ivsize=8, nvtype='double', nvsize=8, Off_t='off_t', lseeksize=8
alignbytes=8, prototype=define
Linker and Libraries:
ld='env MACOSX_DEPLOYMENT_TARGET=10.3 cc', ldflags =' -fstack-protector -L/usr/local/lib'
libpth=/usr/local/lib /usr/lib
libs=-ldbm -ldl -lm -lutil -lc
perllibs=-ldl -lm -lutil -lc
libc=, so=dylib, useshrplib=false, libperl=libperl.a
gnulibc_version=''
Dynamic Linking:
dlsrc=dl_dlopen.xs, dlext=bundle, d_dlsymun=undef, ccdlflags=' '
cccdlflags=' ', lddlflags=' -bundle -undefined dynamic_lookup -L/usr/local/lib -fstack-protector'
Characteristics of this binary (from libperl):
Compile-time options: HAS_TIMES MULTIPLICITY PERLIO_LAYERS
PERL_DONT_CREATE_GVSV
PERL_HASH_FUNC_ONE_AT_A_TIME_HARD
PERL_IMPLICIT_CONTEXT PERL_MALLOC_WRAP
PERL_NEW_COPY_ON_WRITE PERL_PRESERVE_IVUV
USE_64_BIT_ALL USE_64_BIT_INT USE_ITHREADS
USE_LARGE_FILES USE_LOCALE USE_LOCALE_COLLATE
USE_LOCALE_CTYPE USE_LOCALE_NUMERIC USE_PERLIO
USE_PERL_ATOF
Built under darwin
Compiled at Jul 13 2013 01:12:53
%ENV:
PERL5LIB=""
PERL5OPT=""
PERL5_CPANPLUS_IS_RUNNING="85803"
PERL5_CPAN_IS_RUNNING="85803"
PERL_MM_USE_DEFAULT="1"
@INC:
/Users/trushel/perl/5.19.1-th/lib/site_perl/5.19.1/darwin-thread-multi-2level
/Users/trushel/perl/5.19.1-th/lib/site_perl/5.19.1
/Users/trushel/perl/5.19.1-th/lib/5.19.1/darwin-thread-multi-2level
/Users/trushel/perl/5.19.1-th/lib/5.19.1
.